BEGIN:VCALENDAR
VERSION:2.0
CALSCALE:GREGORIAN
PRODID:adamgibbons/ics
METHOD:PUBLISH
X-PUBLISHED-TTL:PT1H
BEGIN:VEVENT
UID:1092@keepkarlsruheboring.org
SUMMARY:Gegen die AfD in Ettlingen -- "Remigration" stoppen!
DTSTAMP:20260423T090602Z
DTSTART:20260222T130000Z
DTEND:20260222T140000Z
DESCRIPTION:Die AfD Ettlingen lädt am 22. Februar zu einem Bürgerdialog im 
	Kasino Ettlingen\nein. Zu Gast sind Dominik Kaufner und Lena Kotré\, beide
	 Teil des faschistischen\n"Flügels" um Höcke. Mit dabei ist ebenfalls Thom
	as Möckel aus Ettlingen\, der\ngerne mal ein T-Shirt mit Reichsadler-Aufdr
	uck trägt und sich mit jungen Nazis\numgibt. Unter dem großen Titel "Remig
	ration" soll bei diesem Bürgerdialog Hass\ngegen Migrant:innen geschürt we
	rden. Die Pläne der AfD\, Menschen millionenfach\nabzuschieben\, die nicht
	 in ihre imaginäre "Volksgemeinschaft" passen\, ist\nspätestens seit der C
	orrectiv-Recherche 2024 kein Geheimnis mehr. Und\, falls das\nnicht genug 
	ist\, sagt Lena Kotré es selber ganz offen: "Wenn das Rassismus ist\,\ndan
	n ist es eben Rassismus\, dann bin ich ein Rassist."\n\n\n\nWährend Reallö
	hne sinken\, die Mieten immer teurer werden und wir einen sozialen\nKahlsc
	hlag erleben\, versucht die AfD uns weiszumachen\, dass die Menschen\, die
	\nsowieso am wenigsten haben\, die vor Krieg und Elend geflohen sind\, das
	 Problem\nsind. Das lassen wir nicht unwidersprochen! Kommt am 22. Februar
	 um 14 Uhr mit\nuns vor das Kasino in Ettlingen und protestiert gemeinsam 
	mit uns gegen rechte\nHetze und für eine solidarische Gesellschaft!
URL:https://keepkarlsruheboring.org/event/gegen-die-afd-in-ettlingen-remigr
	ation-stoppen
GEO:48.9465;8.41157
LOCATION:Kasino Ettlingen - 22\, Am Dickhäuterplatz\, Ettlingen\, Ettlingen
	\, Landkreis Karlsruhe\, Baden-Württemberg\, 76275\, Deutschland
STATUS:CONFIRMED
CATEGORIES:Antifa,Demonstration
X-ALT-DESC;FMTTYPE=text/html:<p>Die AfD Ettlingen lädt am 22. Februar zu ei
	nem Bürgerdialog im Kasino Ettlingen ein. Zu Gast sind Dominik Kaufner und
	 Lena Kotré, beide Teil des faschistischen "Flügels" um Höcke. Mit dabei i
	st ebenfalls Thomas Möckel aus Ettlingen, der gerne mal ein T-Shirt mit Re
	ichsadler-Aufdruck trägt und sich mit jungen Nazis umgibt. Unter dem große
	n Titel "Remigration" soll bei diesem Bürgerdialog Hass gegen Migrant:inne
	n geschürt werden. Die Pläne der AfD, Menschen millionenfach abzuschieben,
	 die nicht in ihre imaginäre "Volksgemeinschaft" passen, ist spätestens se
	it der Correctiv-Recherche 2024 kein Geheimnis mehr. Und, falls das nicht 
	genug ist, sagt Lena Kotré es selber ganz offen: "Wenn das Rassismus ist, 
	dann ist es eben Rassismus, dann bin ich ein Rassist."</p><p></p><p>Währen
	d Reallöhne sinken, die Mieten immer teurer werden und wir einen sozialen 
	Kahlschlag erleben, versucht die AfD uns weiszumachen, dass die Menschen, 
	die sowieso am wenigsten haben, die vor Krieg und Elend geflohen sind, das
	 Problem sind. Das lassen wir nicht unwidersprochen! Kommt am 22. Februar 
	um 14 Uhr mit uns vor das Kasino in Ettlingen und protestiert gemeinsam mi
	t uns gegen rechte Hetze und für eine solidarische Gesellschaft!</p>
BEGIN:VALARM
ACTION:DISPLAY
DESCRIPTION:Gegen die AfD in Ettlingen -- "Remigration" stoppen!
TRIGGER:-PT1H
END:VALARM
END:VEVENT
END:VCALENDAR
