BEGIN:VCALENDAR
VERSION:2.0
CALSCALE:GREGORIAN
PRODID:adamgibbons/ics
METHOD:PUBLISH
X-PUBLISHED-TTL:PT1H
BEGIN:VEVENT
UID:107@keepkarlsruheboring.org
SUMMARY:Gegen die Sparmaßnahmen der Stadt Karlsruhe!
DTSTAMP:20260423T104856Z
DTSTART:20250624T140000Z
DTEND:20250624T153000Z
DESCRIPTION:Die Stadt Karlsruhe will am Dienstag weitreichende Sparmaßnahme
	n im Haushalt für\ndas Jahr 2025 abstimmen. Diese Maßnahmen werden vor all
	em uns Frauen treffen.\nStreichungen bei öffentlichen Geldern für Hebammen
	 und die Abschaffung der\nBeitragsbefreiung für Geschwisterkinder. Gleichz
	eitig soll auch in anderen\nsozialen Bereichen gespart werden\, wie in der
	 Schulsozialarbeit oder bei Hilfe\nfür Menschen mit Behinderung. Auch hier
	 sind es meistens wir Frauen\, die diese\nLücken füllen müssen. Wir machen
	 da nicht mit!\n\nKomm zur Kundgebung gegen die Sparmaßnahmen und schicke 
	diese Nachricht an drei\ndeiner Freund*innen weiter!
URL:https://keepkarlsruheboring.org/event/gegen-die-sparmassnahmen-der-stad
	t-karlsruhe
GEO:49.0089;8.40388
LOCATION:Marktplatz - Innenstadt-Ost\, Karlsruhe\, Baden-Württemberg\, 7613
	3\, Deutschland
STATUS:CONFIRMED
CATEGORIES:Cultural Politics,Demonstration,Politics
X-ALT-DESC;FMTTYPE=text/html:<p>Die Stadt Karlsruhe will am Dienstag weitre
	ichende Sparmaßnahmen im Haushalt für das Jahr 2025 abstimmen. Diese Maßna
	hmen werden vor allem uns Frauen treffen. Streichungen bei öffentlichen Ge
	ldern für Hebammen und die Abschaffung der Beitragsbefreiung für Geschwist
	erkinder. Gleichzeitig soll auch in anderen sozialen Bereichen gespart wer
	den, wie in der Schulsozialarbeit oder bei Hilfe für Menschen mit Behinder
	ung. Auch hier sind es meistens wir Frauen, die diese Lücken füllen müssen
	. Wir machen da nicht mit!</p><p>Komm zur Kundgebung gegen die Sparmaßnahm
	en und schicke diese Nachricht an drei deiner Freund*innen weiter!</p>
BEGIN:VALARM
ACTION:DISPLAY
DESCRIPTION:Gegen die Sparmaßnahmen der Stadt Karlsruhe!
TRIGGER:-PT1H
END:VALARM
END:VEVENT
END:VCALENDAR
