BEGIN:VCALENDAR
VERSION:2.0
CALSCALE:GREGORIAN
PRODID:adamgibbons/ics
METHOD:PUBLISH
X-PUBLISHED-TTL:PT1H
BEGIN:VEVENT
UID:403@keepkarlsruheboring.org
SUMMARY:Get roasted - Food for Thought beside a b2b2b2b2b2bBBQ
DTSTAMP:20260423T102552Z
DTSTART:20250927T100000Z
DTEND:20250927T200000Z
DESCRIPTION:// DJ Community Event mit Grillparty //\n\n\nZssssch… Zirrp… Bl
	ubBlub\n\nSechs Künstler:innen. Sechs Slots. Ein Workshop\, der den Raum f
	ür alle öffnet\,\ndie ihre eigenen Wege im Sound suchen. Dabei ist der Pro
	zess nicht nur\nperformativ\, sondern auch konzeptionell: Wie entstehen di
	ese Sounds? Wie\nverhandeln sich Genres und Klänge auf den Decks? Baile Fu
	nk\, Techno\, Bass\, House\n– der Raum wird von den Künstler:innen aufgebr
	ochen\, mal fest\, mal fließend. Es\ngeht nicht um den perfekten Übergang\
	, sondern um das Experiment – um das\nVertrauen in den Moment und in die M
	öglichkeit\, sich im Sound neu zu erfinden.\n\nDer DJ-Workshop mit @Klabau
	terfrau\n[https://dieanstoss.us12.list-manage.com/track/click?u=43e479325c
	cf5239b56091255&id=280242aea1&e=3a1c0f5a38]\n& @da:sypoda\n[https://dieans
	toss.us12.list-manage.com/track/click?u=43e479325ccf5239b56091255&id=11166
	e806c&e=3a1c0f5a38]\naka Tibi& Bina\, die Open Decks  und die anschließend
	en DJ Sets mit Q&A's laden\nein\, diesen Prozess zu beobachten\, nachzuvol
	lziehen und zu hinterfragen. Bitte\num Anmeldung bei:  laurabenetschik@die
	anstoss.de\n[laurabenetschik@dieanstoss.de]\,  Betreff: DJ Workshop\n\nDie
	 Veranstaltung „get roasted“ ist eine Kooperation von Al Forno Mainz\n[htt
	ps://dieanstoss.us12.list-manage.com/track/click?u=43e479325ccf5239b560912
	55&id=5e1659df67&e=3a1c0f5a38]\nund die Anstoß e.V. in Karlsruhe\, mit der
	 Unterstützung des Weiche Kanten\nKollektivs\n[https://dieanstoss.us12.lis
	t-manage.com/track/click?u=43e479325ccf5239b56091255&id=630364aaf7&e=3a1c0
	f5a38]\nKarlsruhe. Das Event ist eine Grill Party mit Musik und FLINTA* Co
	mmunity\nAustausch. Offen für all genders & communities. Es sollen aber ex
	plizit FLINTA*\nan den Decks & mit ihrer Soundentwicklung pespektiviert we
	rden.\n\nTimetable:\n\n12-16 Uhr DJ-Workshop from FLINTA to FLINTA (Bitte 
	um Anmeldung bei Laura\n[laurabenetschik@dieanstoss.de?subject=Anmeldung%2
	0DJ%20Workshop&body=])\n\n16-17 Uhr Trial & Error (Open Decks)\n\n17-22 Uh
	r Decks & Spots on FLINTA* artists\n\n
URL:https://keepkarlsruheboring.org/event/get-roasted-food-for-thought-besi
	de-a-b2b2b2b2b2bbbq
GEO:49.0084;8.41046
LOCATION:ßpace - Fritz-Erler-Straße 7\, 76133 Karlsruhe
STATUS:CONFIRMED
CATEGORIES:BBQ,Electronicmusic,FLINTA
X-ALT-DESC;FMTTYPE=text/html:<p><em>// DJ Community Event mit Grillparty //
	<br></em></p><p>Zssssch… Zirrp… BlubBlub</p><p>Sechs Künstler:innen. Sechs
	 Slots. Ein Workshop, der den Raum für alle öffnet, die ihre eigenen Wege 
	im Sound suchen. Dabei ist der Prozess nicht nur performativ, sondern auch
	 konzeptionell: Wie entstehen diese Sounds? Wie verhandeln sich Genres und
	 Klänge auf den Decks? Baile Funk, Techno, Bass, House – der Raum wird von
	 den Künstler:innen aufgebrochen, mal fest, mal fließend. Es geht nicht um
	 den perfekten Übergang, sondern um das Experiment – um das Vertrauen in d
	en Moment und in die Möglichkeit, sich im Sound neu zu erfinden.</p><p>Der
	 DJ-Workshop mit <a href="https://dieanstoss.us12.list-manage.com/track/cl
	ick?u=43e479325ccf5239b56091255&amp;id=280242aea1&amp;e=3a1c0f5a38" target
	="_blank">@Klabauterfrau</a> &amp; <a href="https://dieanstoss.us12.list-m
	anage.com/track/click?u=43e479325ccf5239b56091255&amp;id=11166e806c&amp;e=
	3a1c0f5a38" target="_blank">@da:sypoda</a> aka Tibi&amp; Bina, die Open De
	cks &nbsp;und die anschließenden DJ Sets mit Q&amp;A's laden ein, diesen P
	rozess zu beobachten, nachzuvollziehen und zu hinterfragen. Bitte um Anmel
	dung bei: <strong>&nbsp;</strong><a href="mailto:laurabenetschik@dieanstos
	s.de" target="_blank"><strong><u>laurabenetschik@dieanstoss.de</u></strong
	></a><strong>,&nbsp; Betreff: DJ Workshop</strong></p><p>Die Veranstaltung
	 „get roasted“ ist eine Kooperation von <a href="https://dieanstoss.us12.l
	ist-manage.com/track/click?u=43e479325ccf5239b56091255&amp;id=5e1659df67&a
	mp;e=3a1c0f5a38" target="_blank">Al Forno Mainz</a> und die Anstoß e.V. in
	 Karlsruhe, mit der Unterstützung des <a href="https://dieanstoss.us12.lis
	t-manage.com/track/click?u=43e479325ccf5239b56091255&amp;id=630364aaf7&amp
	;e=3a1c0f5a38" target="_blank">Weiche Kanten Kollektivs</a> Karlsruhe. Das
	 Event ist eine Grill Party mit Musik und FLINTA* Community Austausch. Off
	en für all genders &amp; communities. Es sollen aber explizit FLINTA* an d
	en Decks &amp; mit ihrer Soundentwicklung pespektiviert werden.</p><p><str
	ong>Timetable:</strong></p><p><strong>12-16 Uhr</strong> DJ-Workshop from 
	FLINTA<em> to FLINTA</em> (Bitte um Anmeldung bei <a href="mailto:lauraben
	etschik@dieanstoss.de?subject=Anmeldung%20DJ%20Workshop&amp;body=" target=
	"_blank">Laura</a>)</p><p><strong>16-17 Uhr</strong> Trial &amp; Error (Op
	en Decks)</p><p><strong>17-22 Uhr</strong> Decks &amp; Spots on FLINTA* ar
	tists</p><p></p>
BEGIN:VALARM
ACTION:DISPLAY
DESCRIPTION:Get roasted - Food for Thought beside a b2b2b2b2b2bBBQ
TRIGGER:-PT1H
END:VALARM
END:VEVENT
END:VCALENDAR
