BEGIN:VCALENDAR
VERSION:2.0
CALSCALE:GREGORIAN
PRODID:adamgibbons/ics
METHOD:PUBLISH
X-PUBLISHED-TTL:PT1H
BEGIN:VEVENT
UID:759@keepkarlsruheboring.org
SUMMARY:GOBLYNS + Haphazard
DTSTAMP:20260423T102210Z
DTSTART:20260207T190000Z
DTEND:20260207T210000Z
DESCRIPTION:Die zwischen Amsterdam und Berlin beheimateten Goblyns vermisch
	en meisterhaft\nFunk\, Soul\, Krautrock und psychedelische Hooks. Ihr Soun
	d wird von eingängigen\,\nsynkopierten Drum-and-Bass-Grooves und kraftvoll
	en\, fuzzy Riffs getragen. Das\n(hauptsächlich) instrumentale Trio – beste
	hend aus den Brüdern Liam und Francis\nBroek und ihrem langjährigen Freund
	 Giovanni Votano\, alle geboren und\naufgewachsen in Gqeberha\, Südafrika 
	– feierte 2023 mit der EP This Is\nSpaghettification seinen Durchbruch. Si
	e schlossen sich Crazysane Records an\, um\nim Mai 2024 ihr Debütalbum Hun
	ki Bobo zu veröffentlichen\, das von der Kritik\nhoch gelobt wurde. Seitde
	m touren sie durch Europa und veröffentlichten im Juni\n2025 ein weiteres 
	beeindruckendes Album\, Three Sisters\, auf dem sie Francis‘\nsüßen Gesang
	 in den Mix einführten. Beeinflusst von Bands wie The Meters\,\nW.I.T.C.H.
	\, CAN und Kikagaku Moyo kreieren diese Melomanen eine klangliche\nReinhei
	t\, die sich nicht festlegen lässt. Davor HAPHAZARD\, eine junge Rockband\
	naus der Region Karlsruhe\, gegründet im Jahr 2023 von Samuel Farnworth\, 
	Ferris\nWeber und Jan Götz. Was als gemeinsamer Traum begann – eigene Musi
	k zu schreiben\nund zu produzieren – nahm in den vier Wänden einer alten T
	ennishalle seinen\nLauf. Beeinflusst von Größen wie Led Zeppelin\, Black S
	abbath\, Budgie und\nPentagram vereinen sie den Geist der 70er Jahre mit e
	iner modernen\,\nenergiegeladenen Note. Charakteristisch für ihren Sound s
	ind psychedelische\nElemente\, kraftvolle Gitarrenriffs und eine ehrliche 
	Live-Energie\, die ohne\nSchnickschnack auskommt. Mit einer Mischung aus V
	intage-Flair und frischer\nKreativität stehen sie für handgemachten Rock\,
	 der Vergangenheit und Gegenwart\nzu einem unverwechselbaren Erlebnis verb
	indet. https://linktr.ee/haphazard.70s\nEinlass: 19 Uhr\, Beginn: 20 Uhr
URL:https://keepkarlsruheboring.org/event/goblyns-haphazard
GEO:49.0017;8.40754
LOCATION:Kohi - Werderstraße 47\, 76137 Karlsruhe\, Alemanya
STATUS:CONFIRMED
CATEGORIES:karlsrunruhe,test
X-ALT-DESC;FMTTYPE=text/html:Die zwischen Amsterdam und Berlin beheimateten
	 Goblyns vermischen meisterhaft Funk, Soul, Krautrock und psychedelische H
	ooks. Ihr Sound wird von eingängigen, synkopierten Drum-and-Bass-Grooves u
	nd kraftvollen, fuzzy Riffs getragen. Das (hauptsächlich) instrumentale Tr
	io – bestehend aus den Brüdern Liam und Francis Broek und ihrem langjährig
	en Freund Giovanni Votano, alle geboren und aufgewachsen in Gqeberha, Süda
	frika – feierte 2023 mit der EP This Is Spaghettification seinen Durchbruc
	h. Sie schlossen sich Crazysane Records an, um im Mai 2024 ihr Debütalbum 
	Hunki Bobo zu veröffentlichen, das von der Kritik hoch gelobt wurde. Seitd
	em touren sie durch Europa und veröffentlichten im Juni 2025 ein weiteres 
	beeindruckendes Album, Three Sisters, auf dem sie Francis‘ süßen Gesang in
	 den Mix einführten. Beeinflusst von Bands wie The Meters, W.I.T.C.H., CAN
	 und Kikagaku Moyo kreieren diese Melomanen eine klangliche Reinheit, die 
	sich nicht festlegen lässt.<br>Davor HAPHAZARD, eine junge Rockband aus de
	r Region Karlsruhe, gegründet im Jahr 2023 von Samuel Farnworth, Ferris We
	ber und Jan Götz. Was als gemeinsamer Traum begann – eigene Musik zu schre
	iben und zu produzieren – nahm in den vier Wänden einer alten Tennishalle 
	seinen Lauf. Beeinflusst von Größen wie Led Zeppelin, Black Sabbath, Budgi
	e und Pentagram vereinen sie den Geist der 70er Jahre mit einer modernen, 
	energiegeladenen Note. Charakteristisch für ihren Sound sind psychedelisch
	e Elemente, kraftvolle Gitarrenriffs und eine ehrliche Live-Energie, die o
	hne Schnickschnack auskommt. Mit einer Mischung aus Vintage-Flair und fris
	cher Kreativität stehen sie für handgemachten Rock, der Vergangenheit und 
	Gegenwart zu einem unverwechselbaren Erlebnis verbindet.<br>https://linktr
	.ee/haphazard.70s<br>Einlass: 19 Uhr, Beginn: 20 Uhr
BEGIN:VALARM
ACTION:DISPLAY
DESCRIPTION:GOBLYNS + Haphazard
TRIGGER:-PT1H
END:VALARM
END:VEVENT
END:VCALENDAR
