BEGIN:VCALENDAR
VERSION:2.0
CALSCALE:GREGORIAN
PRODID:adamgibbons/ics
METHOD:PUBLISH
X-PUBLISHED-TTL:PT1H
BEGIN:VEVENT
UID:426@keepkarlsruheboring.org
SUMMARY:Good Earth Festival – Winter 2025
DTSTAMP:20260423T104716Z
DTSTART:20251129T170000Z
DTEND:20251130T020000Z
DESCRIPTION:MOTTO WINTER 2025 – WORLD PULSE\n\n\nBei jedem Winter-Festival 
	gibt es ein Motto. In diesem Jahr lautet dies „World\nPulse“. Hintergrund 
	des Ganzen ist\, einen positiven Vibe und Gegenpol zur\naktuellen weltlich
	en Lage zu schaffen. Alle Menschen bei uns sollen an diesem\nAbend eine po
	sitive Reise mit in die danach folgende Weihnachtszeit mitnehmen.\nWir fre
	uen uns tierisch drauf. Die Visuals kommen wieder von Dominik Rinnhofer.\n
	\n\n\nINSTAGRAM GOOD EARTH FESITVAL\n\nhttps://www.instagram.com/goodearth
	festival\n[https://www.instagram.com/goodearthfestival]\n\n\n\nSTORY GOOD 
	EARTH FESTIVAL\n\n\nDie drei DJs Kriz LaFraize\, Ralf Heilmann (RAGH) und 
	Toby O. Rink lernten den\nLichtkünstler Prof. Dominik Rinnhofer im Rahmen 
	einer United We Stream\nVeranstaltung kennen. Im März 2022 gründeten sie d
	as Kollektiv „Good Earth\nVibes“ und veranstalteten einen Ukraine-Stream m
	it einem Spendenaufruf\, der über\n52.000 Euro an Geld- und Sachspenden ei
	nbrachte.\n\nDieses Gefühl\, durch Musik etwas zu bewirken\, war der Urspr
	ung des „Good Earth\nFestivals“.\n\nDas Festival steht für ästhetische und
	 stilvolle elektronische Musik und vereint\nMenschen zwischen 18 und über 
	80 Jahren. Es macht keinen Unterschied zwischen\nJung und Alt\, zwischen e
	ingeschränkter oder uneingeschränkter Mobilität\,\nzwischen nationaler\, g
	eschlechtlicher oder religiöser Orientierung. Es steht für\neine positive\
	, friedliche\, tolerante und optimistische Haltung.\n\nMusikalisch kommt d
	ie Inspiration vor dem kommerziellen Trash. Die Fans hören\ndie Klänge von
	 Downtempo\, Ethno\, Classic House\, Funky House\, Indie\,\nSpace/Trance\,
	 Electro\, Tech House und Techno.\n\nWir freuen uns auf Euch.\n
URL:https://keepkarlsruheboring.org/event/good-earth-festival-winter-2025
GEO:49.1216;8.36092
LOCATION:Rheinschänke Leimersheim - Rheinstraße 26\, 76774 Leimersheim
STATUS:CONFIRMED
CATEGORIES:Art,Festival,Music
X-ALT-DESC;FMTTYPE=text/html:<h2><strong>Motto Winter 2025 –&nbsp;World Pul
	se</strong></h2><p><br>Bei jedem Winter-Festival gibt es ein Motto. In die
	sem Jahr lautet dies „World Pulse“. Hintergrund des Ganzen ist, einen posi
	tiven Vibe und Gegenpol zur aktuellen weltlichen Lage zu schaffen. Alle Me
	nschen bei uns sollen an diesem Abend eine positive Reise mit in die danac
	h folgende Weihnachtszeit mitnehmen. Wir freuen uns tierisch drauf. Die Vi
	suals kommen wieder von Dominik Rinnhofer.</p><h3><strong><br>Instagram Go
	od Earth Fesitval</strong></h3><p><a href="https://www.instagram.com/goode
	arthfestival" target="_blank">https://www.instagram.com/goodearthfestival<
	/a></p><h3><strong><br>Story Good Earth Festival<br></strong></h3><p>Die d
	rei DJs Kriz LaFraize, Ralf Heilmann (RAGH) und Toby O. Rink lernten den L
	ichtkünstler Prof. Dominik Rinnhofer im Rahmen einer United We Stream Vera
	nstaltung kennen. Im März 2022 gründeten sie das Kollektiv „Good Earth Vib
	es“ und veranstalteten einen Ukraine-Stream mit einem Spendenaufruf, der ü
	ber 52.000 Euro an Geld- und Sachspenden einbrachte.</p><p>Dieses Gefühl, 
	durch Musik etwas zu bewirken, war der Ursprung des „Good Earth Festivals“
	.</p><p>Das Festival steht für ästhetische und stilvolle elektronische Mus
	ik und vereint Menschen zwischen 18 und über 80 Jahren. Es macht keinen Un
	terschied zwischen Jung und Alt, zwischen eingeschränkter oder uneingeschr
	änkter Mobilität, zwischen nationaler, geschlechtlicher oder religiöser Or
	ientierung. Es steht für eine positive, friedliche, tolerante und optimist
	ische Haltung.</p><p>Musikalisch kommt die Inspiration vor dem kommerziell
	en Trash. Die Fans hören die Klänge von Downtempo, Ethno, Classic House, F
	unky House, Indie, Space/Trance, Electro, Tech House und Techno.<br><br>Wi
	r freuen uns auf Euch. <br></p>
BEGIN:VALARM
ACTION:DISPLAY
DESCRIPTION:Good Earth Festival – Winter 2025
TRIGGER:-PT1H
END:VALARM
END:VEVENT
END:VCALENDAR
