BEGIN:VCALENDAR
VERSION:2.0
CALSCALE:GREGORIAN
PRODID:adamgibbons/ics
METHOD:PUBLISH
X-PUBLISHED-TTL:PT1H
BEGIN:VEVENT
UID:980@keepkarlsruheboring.org
SUMMARY:Haecksen-Treffen
DTSTAMP:20260423T102328Z
DTSTART:20260226T170000Z
DTEND:20260226T210000Z
DESCRIPTION:Wir\, die Haecksen aus dem Raum Karlsruhe\, sind eine Gruppe au
	s intersektional\nfeministischen Hacker\\*innen. Wir richten uns dabei ins
	besondere an\nFLINTA\\*-Wesen (Frauen\, Lesben\, inter\, nicht-binär\, tra
	ns\, agender). Wenn du dir\nnicht sicher bist\, ob du dazugehörst\, gehörs
	t du wahrscheinlich dazu.\n\nWir treffen uns monatlich jeden zweiten Diens
	tag und jeden letzten Donnerstag\nvon 18 bis 22 Uhr im Entropia. Das Forma
	t der Treffen ist eine Mischung aus\nunverbindlichem bring-your-project\, 
	Impulsvorträgen\, Austausch und ab und zu\nauch geplantem Programm. Techni
	kinteresse ist sinnvoll\, aber\nProgrammierkenntnisse sind definitiv keine
	 Zugangsvoraussetzung – wie ja bei\neigentlich allem im Chaos. Kommt vorbe
	i!\n\nWir kündigen unsere regelmäßigen Termine und unser geplantes Program
	m über\nunseren Fediverse-Account an: https://chaos.social/@haecksen_karls
	ruhe\n[https://chaos.social/@haecksen_karlsruhe]
URL:https://keepkarlsruheboring.org/event/haecksen-treffen-10
GEO:49.0063;8.40722
LOCATION:Entropia - Gewerbehof Steinstraße 23 76133 Karlsruhe
STATUS:CONFIRMED
CATEGORIES:Feminism,Hacker,Queer,Queerfeminismus,Technology
X-ALT-DESC;FMTTYPE=text/html:<p>Wir, die Haecksen aus dem Raum Karlsruhe, s
	ind eine Gruppe aus intersektional feministischen Hacker\*innen. Wir richt
	en uns dabei insbesondere an FLINTA\*-Wesen (Frauen, Lesben, inter, nicht-
	binär, trans, agender). Wenn du dir nicht sicher bist, ob du dazugehörst, 
	gehörst du wahrscheinlich dazu.</p><p>Wir treffen uns monatlich jeden zwei
	ten Dienstag und jeden letzten Donnerstag von 18 bis 22 Uhr im Entropia. D
	as Format der Treffen ist eine Mischung aus unverbindlichem bring-your-pro
	ject, Impulsvorträgen, Austausch und ab und zu auch geplantem Programm. Te
	chnikinteresse ist sinnvoll, aber Programmierkenntnisse sind definitiv kei
	ne Zugangsvoraussetzung – wie ja bei eigentlich allem im Chaos. Kommt vorb
	ei!</p><p>Wir kündigen unsere regelmäßigen Termine und unser geplantes Pro
	gramm über unseren Fediverse-Account an: <a href="https://chaos.social/@ha
	ecksen_karlsruhe" target="_blank">https://chaos.social/@haecksen_karlsruhe
	</a></p>
BEGIN:VALARM
ACTION:DISPLAY
DESCRIPTION:Haecksen-Treffen
TRIGGER:-PT1H
END:VALARM
END:VEVENT
END:VCALENDAR
