BEGIN:VCALENDAR
VERSION:2.0
CALSCALE:GREGORIAN
PRODID:adamgibbons/ics
METHOD:PUBLISH
X-PUBLISHED-TTL:PT1H
BEGIN:VEVENT
UID:1370@keepkarlsruheboring.org
SUMMARY:Haecksen-Treffen
DTSTAMP:20260423T102327Z
DTSTART:20260430T160000Z
DTEND:20260430T200000Z
DESCRIPTION:Wir\, die Haecksen [https://haecksen.org/] aus dem Raum Karlsru
	he\, sind eine\nGruppe aus intersektional feministischen Hacker*innen. Wir
	 richten uns dabei\ninsbesondere an FLINTA*-Wesen (Frauen\, Lesben\, inter
	\, nicht-binär\, trans\,\nagender). Wenn du dir nicht sicher bist\, ob du 
	dazugehörst\, gehörst du\nwahrscheinlich dazu.\n\nWir treffen uns monatlic
	h jeden zweiten Dienstag von 20 bis 22 Uhr und jeden\nletzten Donnerstag v
	on 18 bis 22 Uhr im Entropia [https://entropia.de/Anfahrt].\nDas Format de
	r Treffen ist eine Mischung aus unverbindlichem bring-your-project\,\nImpu
	lsvorträgen\, Austausch und ab und zu auch geplantem Programm.\nTechnikint
	eresse ist sinnvoll\, aber Programmierkenntnisse sind definitiv keine\nZug
	angsvoraussetzung – wie ja bei eigentlich allem im Chaos. Kommt vorbei!\n\
	nWir kündigen unsere regelmäßigen Termine und unser geplantes Programm übe
	r\nunseren Fediverse-Account an: https://chaos.social/@haecksen_karlsruhe\
	n[https://chaos.social/@haecksen_karlsruhe]
URL:https://keepkarlsruheboring.org/event/haecksen-treffen-15
GEO:49.0063;8.40722
LOCATION:Entropia - Gewerbehof Steinstraße 23 76133 Karlsruhe
STATUS:CONFIRMED
CATEGORIES:Feminism,Hacker,Queer,Queerfeminismus,Technology
X-ALT-DESC;FMTTYPE=text/html:<p>Wir, die <a href="https://haecksen.org/" ta
	rget="_blank">Haecksen</a> aus dem Raum Karlsruhe, sind eine Gruppe aus in
	tersektional feministischen Hacker*innen<em>. </em>Wir richten uns dabei i
	nsbesondere an FLINTA*-Wesen (Frauen, Lesben, inter, nicht-binär, trans, a
	gender). Wenn du dir nicht sicher bist, ob du dazugehörst, gehörst du wahr
	scheinlich dazu.</p><p>Wir treffen uns monatlich jeden zweiten Dienstag vo
	n 20 bis 22 Uhr und jeden letzten Donnerstag von 18 bis 22 Uhr im <a href=
	"https://entropia.de/Anfahrt" target="_blank">Entropia</a>. Das Format der
	 Treffen ist eine Mischung aus unverbindlichem bring-your-project, Impulsv
	orträgen, Austausch und ab und zu auch geplantem Programm. Technikinteress
	e ist sinnvoll, aber Programmierkenntnisse sind definitiv keine Zugangsvor
	aussetzung – wie ja bei eigentlich allem im Chaos. Kommt vorbei!</p><p>Wir
	 kündigen unsere regelmäßigen Termine und unser geplantes Programm über un
	seren Fediverse-Account an: <a href="https://chaos.social/@haecksen_karlsr
	uhe" target="_blank">https://chaos.social/@haecksen_karlsruhe</a></p>
BEGIN:VALARM
ACTION:DISPLAY
DESCRIPTION:Haecksen-Treffen
TRIGGER:-PT1H
END:VALARM
END:VEVENT
END:VCALENDAR
