BEGIN:VCALENDAR
VERSION:2.0
CALSCALE:GREGORIAN
PRODID:adamgibbons/ics
METHOD:PUBLISH
X-PUBLISHED-TTL:PT1H
BEGIN:VEVENT
UID:1406@keepkarlsruheboring.org
SUMMARY:Handmade - der Handarbeitstreff
DTSTAMP:20260423T102216Z
DTSTART:20260506T140000Z
DTEND:20260506T160000Z
DESCRIPTION:für alle Kreativfans | kostenfrei\, ohne Anmeldung\n\nJeden ers
	ten Mittwoch im Monat\, 16 bis 18 Uhr in der Stadtbibliothek im Neuen\nStä
	ndehaus (Lesecafé EG)\n\nOb Stricken\, Häkeln\, Sticken oder andere Handar
	beiten – beim Handarbeitstreff\nkommen Menschen zusammen\, um ihrer Leiden
	schaft fürs Kreative nachzugehen. In\ngemütlicher Runde tauschen wir uns a
	us\, helfen uns gegenseitig bei Projekten\nund genießen dabei eine Tasse T
	ee. Bitte alle benötigten Materialien selbst\nmitbringen.
URL:https://keepkarlsruheboring.org/event/handmade-der-handarbeitstreff
LOCATION:Stadtbibliothek im neuen Ständehaus - Ständehausstraße 2\, 76137 K
	arlsruhe
STATUS:CONFIRMED
CATEGORIES:Events,Karlsruhe,karlsruhe-social.de,Veranstaltungen
X-ALT-DESC;FMTTYPE=text/html:<p>für alle Kreativfans | kostenfrei, ohne Anm
	eldung</p><p>Jeden ersten Mittwoch im Monat, 16 bis 18 Uhr in der Stadtbib
	liothek im Neuen Ständehaus (Lesecafé EG)</p><p>Ob Stricken, Häkeln, Stick
	en oder andere Handarbeiten – beim Handarbeitstreff kommen Menschen zusamm
	en, um ihrer Leidenschaft fürs Kreative nachzugehen. In gemütlicher Runde 
	tauschen wir uns aus, helfen uns gegenseitig bei Projekten und&nbsp;genieß
	en dabei eine Tasse Tee. Bitte alle benötigten Materialien selbst mitbring
	en.</p>
BEGIN:VALARM
ACTION:DISPLAY
DESCRIPTION:Handmade - der Handarbeitstreff
TRIGGER:-PT1H
END:VALARM
END:VEVENT
END:VCALENDAR
