BEGIN:VCALENDAR
VERSION:2.0
CALSCALE:GREGORIAN
PRODID:adamgibbons/ics
METHOD:PUBLISH
X-PUBLISHED-TTL:PT1H
BEGIN:VEVENT
UID:442@keepkarlsruheboring.org
SUMMARY:Hat eigentlich jemand mal die Platanen gefragt? Wie man mit einem U
	mwelt-Chatbot über Politik sprechen kann
DTSTAMP:20260423T105009Z
DTSTART:20251114T130000Z
DESCRIPTION:Habt ihr schon mal mit einem Baum gesprochen?\n\nDie „plaudernd
	e Platane“ ist ein Projekt\, das zeigt\, wie Künstliche Intelligenz\nzur E
	rforschung und Interaktion mit der Umwelt eingesetzt werden kann. Im\nGesp
	räch mit dem Umwelt-Chatbot zeigen sich bekannte\, aber auch überraschende
	\nSichtweisen auf den Umwelt- und Klimaschutz. Mit einem Augenzwinkern bea
	ntworten\nwir dabei die Frage\, wie nicht-menschliche Akteure an gesellsch
	aftlichen oder\npolitischen Debatten beteiligt werden können.\n\nIm Worksh
	op entwickeln wir gemeinsam System-Eingaben\, sogenannte Prompts\, für\nei
	ne „plaudernde Platane“ und experimentieren live mit verschiedenen\nRollen
	klischees – vom humorvollen Stadtbaum über die nüchterne Urbanistin bis\nh
	in zum wütenden Umweltaktivisten. Im Workshop und in einer abschließenden\
	nDiskussion wollen wir gemeinsam folgenden Fragen nachgehen: Kann ein\nBau
	m-Chatbot überhaupt Interessen vertreten\; und falls ja\, wessen? Welche\n
	Geschichten kann ein solches Projekt erzählen? Wie können neue Ideen und\n
	Narrative eingebracht werden? Und wie können die Perspektiven eines non-hu
	manen\nStakeholders sinnvoll in politische Diskussionen eingebunden werden
	?\n\nZur Teilnahme ist kein Vorwissen über KI nötig.\n\nAnmeldung hier [ht
	tps://pretix.eu/digital-codes/ki-nov25/] möglich\, Teilnahme\nkostenlos.
URL:https://keepkarlsruheboring.org/event/hat-eigentlich-jemand-mal-die-pla
	tanen-gefragt-wie-man-mit-einem-umwelt-chatbot-uber-politik-sprechen-kann
GEO:49.0013;8.3836
LOCATION:ZKM | Zentrum für Kunst und Medien Karlsruhe - Lorenzstr. 19\, D-7
	6135 Karlsruhe
STATUS:CONFIRMED
CATEGORIES:Art,Artificial Intelligence,Ecology,Technology,Workshop
X-ALT-DESC;FMTTYPE=text/html:<p><strong>Habt ihr schon mal mit einem Baum g
	esprochen?</strong></p><p>Die „plaudernde Platane“ ist ein Projekt, das ze
	igt, wie Künstliche Intelligenz zur Erforschung und Interaktion mit der Um
	welt eingesetzt werden kann. Im Gespräch mit dem Umwelt-Chatbot zeigen sic
	h bekannte, aber auch überraschende Sichtweisen auf den Umwelt- und Klimas
	chutz. Mit einem Augenzwinkern beantworten wir dabei die Frage, wie nicht-
	menschliche Akteure an gesellschaftlichen oder politischen Debatten beteil
	igt werden können.</p><p>Im Workshop entwickeln wir gemeinsam System-Einga
	ben, sogenannte <em>Prompts</em>, für eine „plaudernde Platane“ und experi
	mentieren live mit verschiedenen Rollenklischees – vom humorvollen Stadtba
	um über die nüchterne Urbanistin bis hin zum wütenden Umweltaktivisten. Im
	 Workshop und in einer abschließenden Diskussion wollen wir gemeinsam folg
	enden Fragen nachgehen: Kann ein Baum-Chatbot überhaupt Interessen vertret
	en; und falls ja, wessen? Welche Geschichten kann ein solches Projekt erzä
	hlen? Wie können neue Ideen und Narrative eingebracht werden? Und wie könn
	en die Perspektiven eines non-humanen Stakeholders sinnvoll in politische 
	Diskussionen eingebunden werden?</p><p>Zur Teilnahme ist kein Vorwissen üb
	er KI nötig.</p><p>Anmeldung <a href="https://pretix.eu/digital-codes/ki-n
	ov25/" target="_blank">hier</a> möglich, Teilnahme kostenlos.</p>
BEGIN:VALARM
ACTION:DISPLAY
DESCRIPTION:Hat eigentlich jemand mal die Platanen gefragt? Wie man mit ein
	em Umwelt-Chatbot über Politik sprechen kann
TRIGGER:-PT1H
END:VALARM
END:VEVENT
END:VCALENDAR
