BEGIN:VCALENDAR
VERSION:2.0
CALSCALE:GREGORIAN
PRODID:adamgibbons/ics
METHOD:PUBLISH
X-PUBLISHED-TTL:PT1H
BEGIN:VEVENT
UID:1271@keepkarlsruheboring.org
SUMMARY:HINTERLASSENSCHAFT [15 - 25\,70€]
DTSTAMP:20260423T102323Z
DTSTART:20260421T180000Z
DESCRIPTION:Diese Veranstaltung ist Teil der neuen Reihe ZUKUNFT IST JETZT\
	n[https://www.tollhaus.de/zukunft-ist-jetzt/]\, in Kooperation mit dem\nKl
	imabündnis und Klima-Aktion Karlsruhe. Insgesamt 14 Programmpunkte – Lesun
	gen\,\nTheater\, Tanz\, Zirkus\, Performance – setzen zukunftsweisende Imp
	ulse zu\naktuellen Themen.\n\n//\n\nZwischen eingemachten Kirschen\, einem
	 Bankkonto gefüllt mit Erwartungen und der\nNase eines unbekannten Vaters 
	entsteht ein Haus voller Dinge. notsopretty\nerarbeitet ein Stück über Eri
	nnerungen\, die verblassen\, über Dinge als\nüberdauernde Zeug*innen der V
	ergangenheit\, über Bürokratie\, Emotionen und\nUngleichheit. Wer erbt\, w
	er bleibt außen vor? Wie lebt es sich\, wenn Geld keine\nRolle mehr spielt
	? Und wie viele Nullen hat eigentlich eine Milliarde?  \n\nA House Full of
	 Stuff ist eine Einladung zur Aushandlung\, zur Reflexion und zur\nUmverte
	ilung mit integrierter Audiodeskription und musikalischer Komposition.\nAu
	sgehend von persönlichen Erfahrungen übersetzen die drei Performenden die\
	nPraxis des Vererbens in ein performatives Testament. Dabei spielen sie mi
	t\nGesetzes- und Vertragsformalitäten\, biografischen und fiktionalen Erzä
	hlungen\,\nErfahrungsberichten & Interviews. \n\nAuf Deutsch mit englische
	n Übertiteln und integrierter-künstlerischer\nAudiodeskription\n\nTickets 
	hier:\nhttps://tickets.tollhaus.de/catalog/tickets/89822-tickets-hinterlas
	senschaft-kulturzentrum-tollhaus-karlsruhe-am-21-04-2026\n[https://tickets
	.tollhaus.de/catalog/tickets/89822-tickets-hinterlassenschaft-kulturzentru
	m-tollhaus-karlsruhe-am-21-04-2026]\n
URL:https://keepkarlsruheboring.org/event/hinterlassenschaft-15-2570euro
GEO:49.0044;8.43171
LOCATION:Tollhaus - 35\, Alter Schlachthof\, Oststadt Südlicher Teil\, Osts
	tadt\, Karlsruhe\, Baden-Württemberg\, 76131\, Deutschland
STATUS:CONFIRMED
CATEGORIES:Art,Ticket
X-ALT-DESC;FMTTYPE=text/html:<p>Diese Veranstaltung ist Teil der neuen Reih
	e <a href="https://www.tollhaus.de/zukunft-ist-jetzt/" target="_blank"><st
	rong><u>ZUKUNFT IST JETZT</u></strong></a>, in Kooperation mit dem Klimabü
	ndnis und Klima-Aktion Karlsruhe. Insgesamt 14 Programmpunkte – Lesungen, 
	Theater, Tanz, Zirkus, Performance – setzen zukunftsweisende Impulse zu ak
	tuellen Themen.</p><p>//</p><p>Zwischen eingemachten Kirschen, einem Bankk
	onto gefüllt mit Erwartungen und der Nase eines unbekannten Vaters entsteh
	t ein Haus voller Dinge. notsopretty erarbeitet ein Stück über Erinnerunge
	n, die verblassen, über Dinge als überdauernde Zeug*innen der Vergangenhei
	t, über Bürokratie, Emotionen und Ungleichheit. Wer erbt, wer bleibt außen
	 vor? Wie lebt es sich, wenn Geld keine Rolle mehr spielt? Und wie viele N
	ullen hat eigentlich eine Milliarde? &nbsp;</p><p>A House Full of Stuff is
	t eine Einladung zur Aushandlung, zur Reflexion und zur Umverteilung mit i
	ntegrierter Audiodeskription und musikalischer Komposition. Ausgehend von 
	persönlichen Erfahrungen übersetzen die drei Performenden die Praxis des V
	ererbens in ein performatives Testament. Dabei spielen sie mit Gesetzes- u
	nd Vertragsformalitäten, biografischen und fiktionalen Erzählungen, Erfahr
	ungsberichten &amp; Interviews.&nbsp;</p><p>Auf Deutsch mit englischen Übe
	rtiteln und integrierter-künstlerischer Audiodeskription</p><p>Tickets hie
	r: <a href="https://tickets.tollhaus.de/catalog/tickets/89822-tickets-hint
	erlassenschaft-kulturzentrum-tollhaus-karlsruhe-am-21-04-2026" target="_bl
	ank">https://tickets.tollhaus.de/catalog/tickets/89822-tickets-hinterlasse
	nschaft-kulturzentrum-tollhaus-karlsruhe-am-21-04-2026</a><br></p>
BEGIN:VALARM
ACTION:DISPLAY
DESCRIPTION:HINTERLASSENSCHAFT [15 - 25,70€]
TRIGGER:-PT1H
END:VALARM
END:VEVENT
END:VCALENDAR
