BEGIN:VCALENDAR
VERSION:2.0
CALSCALE:GREGORIAN
PRODID:adamgibbons/ics
METHOD:PUBLISH
X-PUBLISHED-TTL:PT1H
BEGIN:VEVENT
UID:1548@keepkarlsruheboring.org
SUMMARY:Hobbybrauerstammtisch Karlsruhe/Südpfalz
DTSTAMP:20260424T114730Z
DTSTART:20260603T170000Z
DTEND:20260603T200000Z
URL:https://keepkarlsruheboring.org/event/hobbybrauerstammtisch-karlsruhesu
	dpfalz
LOCATION:Phono-Bar - Karl-Wilhelm-Straße 6\, 76131 Karlsruhe
STATUS:CONFIRMED
CATEGORIES:Events,Karlsruhe,karlsruhe-social.de,Veranstaltungen
BEGIN:VALARM
ACTION:DISPLAY
DESCRIPTION:Hobbybrauerstammtisch Karlsruhe/Südpfalz
TRIGGER:-PT1H
END:VALARM
END:VEVENT
END:VCALENDAR
