BEGIN:VCALENDAR
VERSION:2.0
CALSCALE:GREGORIAN
PRODID:adamgibbons/ics
METHOD:PUBLISH
X-PUBLISHED-TTL:PT1H
BEGIN:VEVENT
UID:1244@keepkarlsruheboring.org
SUMMARY:Hofflohmarkt Bulach
DTSTAMP:20260423T102133Z
DTSTART:20260426T110000Z
DTEND:20260426T150000Z
DESCRIPTION:Der Bulacher Hofflohmarkt findet auf mehrfachen Wunsch dieses J
	ahr zweimal\nstatt. Im Frühjahr findet der 3. Bulacher Hofflohmarkt am Son
	ntag\, den\n26.04.2026 von 13-17 Uhr statt. Alle Details und die Anmeldung
	 finden Sie hier\nauf diesen Seiten. [https://www.bv-bulach.org/bulacher-h
	offlohmarkt/anmeldung/]\n\nIm Herbst findet dann der 4. Bulacher Hofflohma
	rkt am Sonntag\, den 27.09.2026\nebenfalls von 13-17 Uhr statt. Die Anmeld
	ung hierzu startet nach dem\nHofflohmarkt im Frühjahr.\n\nWir freuen uns a
	uf viele Teilnehmer!\n\nMehr Infos: https://www.bv-bulach.org/bulacher-hof
	flohmarkt/\n[https://www.bv-bulach.org/bulacher-hofflohmarkt/]
URL:https://keepkarlsruheboring.org/event/hofflohmarkt-bulach
LOCATION:Bulach - Bulach
STATUS:CONFIRMED
CATEGORIES:Events,Flohmarkt,Karlsruhe,karlsruhe-social.de,Veranstaltungen
X-ALT-DESC;FMTTYPE=text/html:<p>Der Bulacher Hofflohmarkt findet auf mehrfa
	chen Wunsch dieses Jahr zweimal statt. Im Frühjahr findet der <strong>3. B
	ulacher Hofflohmarkt</strong> am Sonntag, den <strong>26.04.2026</strong> 
	von 13-17 Uhr statt. Alle Details und die Anmeldung finden Sie <a target="
	_self" href="https://www.bv-bulach.org/bulacher-hofflohmarkt/anmeldung/"><
	u>hier auf diesen Seiten.</u></a><br><br>Im Herbst findet dann der <strong
	>4. Bulacher Hofflohmarkt</strong> am Sonntag, den <strong>27.09.2026</str
	ong> ebenfalls von 13-17 Uhr statt. Die Anmeldung hierzu startet nach dem 
	Hofflohmarkt im Frühjahr.<br><br>Wir freuen uns auf viele Teilnehmer!</p><
	p>Mehr Infos: <a target="_blank" href="https://www.bv-bulach.org/bulacher-
	hofflohmarkt/">https://www.bv-bulach.org/bulacher-hofflohmarkt/</a></p>
BEGIN:VALARM
ACTION:DISPLAY
DESCRIPTION:Hofflohmarkt Bulach
TRIGGER:-PT1H
END:VALARM
END:VEVENT
END:VCALENDAR
