BEGIN:VCALENDAR
VERSION:2.0
CALSCALE:GREGORIAN
PRODID:adamgibbons/ics
METHOD:PUBLISH
X-PUBLISHED-TTL:PT1H
BEGIN:VEVENT
UID:760@keepkarlsruheboring.org
SUMMARY:IMBOLC – HARDTWALDBATTERIE
DTSTAMP:20260423T102255Z
DTSTART:20260207T190000Z
DTEND:20260207T210000Z
DESCRIPTION:Mit 𝗜𝗺𝗯𝗼𝗹𝗰 feiern wir den ersten Wendepunkt des Jahres – das le
	ise\nWiedererwachen\, das erste Licht im Dunkel\, den Moment\, in dem Neue
	s beginnt\,\nohne schon laut zu sein. Gemeinsam öffnen wir einen Raum zwis
	chen Ritual und\nRave\, zwischen Konzert und kollektiver Bewegung. Ein Abe
	nd\, an dem wir uns\nversammeln\, um das Alte hinter uns zu lassen und das
	 Kommende willkommen zu\nheißen. Ablauf Doors: 20:00 Uhr Beginn: 20:30 Uhr
	 Line-Up: Toby O. Rink · Anica\n· The Nexorian · Eisenbaal · Necrotic.SIX 
	Tickets VVK: 10 € · AK: 12 €
URL:https://keepkarlsruheboring.org/event/imbolc-hardtwaldbatterie
GEO:48.989;8.37185
LOCATION:P8 - Schauenburgstraße 5\, 76135 Karlsruhe
STATUS:CONFIRMED
CATEGORIES:karlsrunruhe,test
X-ALT-DESC;FMTTYPE=text/html:Mit 𝗜𝗺𝗯𝗼𝗹𝗰 feiern wir den ersten Wendepunkt de
	s Jahres – das leise Wiedererwachen, das erste Licht im Dunkel, den Moment
	, in dem Neues beginnt, ohne schon laut zu sein.<br>Gemeinsam öffnen wir 
	einen Raum zwischen Ritual und Rave, zwischen Konzert und kollektiver Bewe
	gung. Ein Abend, an dem wir uns versammeln, um das Alte hinter uns zu lass
	en und das Kommende willkommen zu heißen.<br>Ablauf Doors: 20:00 Uhr Begi
	nn: 20:30 Uhr<br>Line-Up: Toby O. Rink · Anica · The Nexorian · Eisenbaal
	 · Necrotic.SIX<br>Tickets VVK: 10 € · AK: 12 €<br>
BEGIN:VALARM
ACTION:DISPLAY
DESCRIPTION:IMBOLC – HARDTWALDBATTERIE
TRIGGER:-PT1H
END:VALARM
END:VEVENT
END:VCALENDAR
