BEGIN:VCALENDAR
VERSION:2.0
CALSCALE:GREGORIAN
PRODID:adamgibbons/ics
METHOD:PUBLISH
X-PUBLISHED-TTL:PT1H
BEGIN:VEVENT
UID:882@keepkarlsruheboring.org
SUMMARY:IMPARFAIT + Support
DTSTAMP:20260423T102035Z
DTSTART:20260319T180000Z
DTEND:20260319T200000Z
DESCRIPTION:IMPARFAITs Texte und deren Darbietung sind wie Pflastersteine i
	n die Fresse:\nschmerzhaft\, direkt und voller Wut. IMPARFAIT wurden 2022 
	als Support der Nova\nTwins bekannt und sind seitdem unverzichtbarer Besta
	ndteil der Alternativeszene\nWith each performance\, 𝗜𝗠𝗣𝗔𝗥𝗙𝗔𝗜𝗧 delivers a 
	fresh and modern\nalternative rock sound that breaks free from any labels 
	people try to impose.\nFronted by Prisca and Bruno\, the french band\, who
	se style lies somewhere between\nDeftones and Nova Twins\, will be taking 
	the stage at P8². SINGLES : YOUTUBE\nINSTAGRAM FACEBOOK TIKTOK
URL:https://keepkarlsruheboring.org/event/imparfait-support
GEO:48.989;8.37185
LOCATION:P8 - Schauenburgstraße 5\, 76135 Karlsruhe
STATUS:CONFIRMED
CATEGORIES:karlsrunruhe,test
X-ALT-DESC;FMTTYPE=text/html:IMPARFAITs Texte und deren Darbietung sind wie
	 Pflastersteine in die Fresse: schmerzhaft, direkt und voller Wut. <br>IMP
	ARFAIT wurden 2022 als Support der Nova Twins bekannt und sind seitdem unv
	erzichtbarer Bestandteil der Alternativeszene<br>With each performance, 𝗜𝗠
	𝗣𝗔𝗥𝗙𝗔𝗜𝗧 delivers a fresh and modern alternative rock<br>sound that breaks
	 free from any labels people try to impose.<br><br>Fronted by Prisca and
	 Bruno, the french band, whose style lies somewhere between Deftones and 
	Nova Twins, will be taking the stage at P8².<br>SINGLES : <br>YOUTUBE <b
	r>INSTAGRAM <br>FACEBOOK <br>TIKTOK 
BEGIN:VALARM
ACTION:DISPLAY
DESCRIPTION:IMPARFAIT + Support
TRIGGER:-PT1H
END:VALARM
END:VEVENT
END:VCALENDAR
