BEGIN:VCALENDAR
VERSION:2.0
CALSCALE:GREGORIAN
PRODID:adamgibbons/ics
METHOD:PUBLISH
X-PUBLISHED-TTL:PT1H
BEGIN:VEVENT
UID:6@keepkarlsruheboring.org
SUMMARY:INDEPENDENT DAYS | 24th International Film Festival
DTSTAMP:20260423T105011Z
DTSTART:20250408T220000Z
DTEND:20250413T215900Z
DESCRIPTION:[↓ Deutsche Version unten ↓]\n\n\n\nDiversity\, Visions\, Filmm
	aking – The INDEPENDENT DAYS Celebrate International\nIndie Cinema!\n\nFro
	m April 9 to 13\, 2025\, it’s time to say “Action!” again at the INDEPENDE
	NT\nDAYS | 24th International Film Festival Karlsruhe. With 128 films from
	 32\ncountries\, the festival provides a unique platform for independent f
	ilmmakers\,\nshowcasing an impressive variety of cinematic works – from in
	novative short\nfilms and gripping feature films to moving documentaries a
	nd extraordinary\nmid-length films.\n\nThe INDEPENDENT DAYS have establish
	ed themselves as one of the most important\nplatforms for indie filmmakers
	. This year’s program focuses on international\ndiversity and powerful the
	mes – ranging from socio-political issues and personal\nfates to fantastic
	 and futuristic visions.\n\nA special highlight of the festival is the gra
	nd Award Gala on Saturday evening\,\nwhere prizes worth a total of €13\,00
	0 will be awarded. In addition to film\nscreenings\, the festival offers a
	 comprehensive supporting program featuring\nworkshops\, lectures\, and ne
	tworking events. Particularly popular are the\nFilmmakers’ Speed Dating\, 
	where creatives can make new connections in short\nconversation rounds\, a
	nd CineMeet\, a get-together with industry professionals.\n\nThe INDEPENDE
	NT DAYS take place at Schauburg Karlsruhe\, with parts of the\nsupporting 
	program—such as lectures and workshops—hosted at the Badische\nLandesbibli
	othek.\n\nFor full program details\, competition films\, and ticket option
	s\, visit\nwww.independentdays.de [http://www.independentdays.de].\n\n\n\n
	/-/-/\n\n\n\nVielfalt\, Visionen\, Filmkunst – Die INDEPENDENT DAYS feiern
	 das internationale\nIndie-Kino!\n\nVom 9. bis 13. April 2025 heißt es wie
	der „Film ab!“ bei den INDEPENDENT DAYS |\n24. Internationale Filmfestspie
	le Karlsruhe. Mit 128 Filmen aus 32 Ländern\nbietet das Festival ein einzi
	gartiges Forum für unabhängige Filmschaffende und\npräsentiert eine beeind
	ruckende Vielfalt an cineastischen Werken – von\ninnovativen Kurzfilmen üb
	er packende Spielfilme bis hin zu bewegenden\nDokumentationen und außergew
	öhnlichen mittellangen Filmen.\n\nDie INDEPENDENT DAYS haben sich als eine
	 der wichtigsten Plattformen für\nIndie-Filmemacherinnen und Filmemacher e
	tabliert. Das diesjährige Programm setzt\nauf internationale Vielfalt und 
	starke Themen – von gesellschaftspolitischen\nFragen über persönliche Schi
	cksale bis hin zu fantastischen und futuristischen\nVisionen.\n\nEin beson
	deres Highlight des Festivals ist die große Award Gala am Samstagabend\,\n
	bei der Preise im Gesamtwert von 13.000 Euro verliehen werden. Neben den\n
	Filmvorführungen bietet das Festival ein umfangreiches Rahmenprogramm mit\
	nWorkshops\, Vorträgen und Networking-Events. Besonders beliebt sind das\n
	Filmmakers’ Speed Dating\, bei dem Filmschaffende in kurzen Gesprächsrunde
	n\nkreative Verbindungen knüpfen können\, sowie das CineMeet\, ein Get-tog
	ether mit\nVertreterinnen und Vertretern der Filmbranche.\n\nDie INDEPENDE
	NT DAYS finden in der Schauburg Karlsruhe statt. Teile des\nRahmenprogramm
	s\, darunter Vorträge und Workshops\, werden in der Badischen\nLandesbibli
	othek angeboten.\n\nAlle Informationen zum vollständigen Programm\, den We
	ttbewerbsfilmen und\nTicketoptionen gibt es unter www.independentdays.de\n
	[https://www.independentdays-filmfest.com/].
URL:https://keepkarlsruheboring.org/event/independent-days-or-24th-internat
	ional-film-festival
GEO:49.0032;8.40781
LOCATION:Schauburg - Marienstraße 16 76137 Karlsruhe
STATUS:CONFIRMED
CATEGORIES:Film,Ticket
X-ALT-DESC;FMTTYPE=text/html:<p>[↓ Deutsche Version unten ↓]</p><p></p><p><
	strong>Diversity, Visions, Filmmaking – The INDEPENDENT DAYS Celebrate Int
	ernational Indie Cinema!</strong></p><p>From April 9 to 13, 2025, it’s tim
	e to say “Action!” again at the INDEPENDENT DAYS | 24th International Film
	 Festival Karlsruhe. With 128 films from 32 countries, the festival provid
	es a unique platform for independent filmmakers, showcasing an impressive 
	variety of cinematic works – from innovative short films and gripping feat
	ure films to moving documentaries and extraordinary mid-length films.</p><
	p>The INDEPENDENT DAYS have established themselves as one of the most impo
	rtant platforms for indie filmmakers. This year’s program focuses on inter
	national diversity and powerful themes – ranging from socio-political issu
	es and personal fates to fantastic and futuristic visions.</p><p>A special
	 highlight of the festival is the grand Award Gala on Saturday evening, wh
	ere prizes worth a total of €13,000 will be awarded. In addition to film s
	creenings, the festival offers a comprehensive supporting program featurin
	g workshops, lectures, and networking events. Particularly popular are the
	 Filmmakers’ Speed Dating, where creatives can make new connections in sho
	rt conversation rounds, and CineMeet, a get-together with industry profess
	ionals.</p><p>The INDEPENDENT DAYS take place at Schauburg Karlsruhe, with
	 parts of the supporting program—such as lectures and workshops—hosted at 
	the Badische Landesbibliothek.</p><p>For full program details, competition
	 films, and ticket options, visit <a target="_blank" href="http://www.inde
	pendentdays.de">www.independentdays.de</a>.</p><p></p><p>/-/-/</p><p></p><
	p><strong>Vielfalt, Visionen, Filmkunst – Die INDEPENDENT DAYS feiern das 
	internationale Indie-Kino!</strong></p><p>Vom 9. bis 13. April 2025 heißt 
	es wieder „Film ab!“ bei den INDEPENDENT DAYS | 24. Internationale Filmfes
	tspiele Karlsruhe. Mit 128 Filmen aus 32 Ländern bietet das Festival ein e
	inzigartiges Forum für unabhängige Filmschaffende und präsentiert eine bee
	indruckende Vielfalt an cineastischen Werken – von innovativen Kurzfilmen 
	über packende Spielfilme bis hin zu bewegenden Dokumentationen und außerge
	wöhnlichen mittellangen Filmen.</p><p>Die INDEPENDENT DAYS haben sich als 
	eine der wichtigsten Plattformen für Indie-Filmemacherinnen und Filmemache
	r etabliert. Das diesjährige Programm setzt auf internationale Vielfalt un
	d starke Themen – von gesellschaftspolitischen Fragen über persönliche Sch
	icksale bis hin zu fantastischen und futuristischen Visionen.</p><p>Ein be
	sonderes Highlight des Festivals ist die große Award Gala am Samstagabend,
	 bei der Preise im Gesamtwert von 13.000 Euro verliehen werden. Neben den 
	Filmvorführungen bietet das Festival ein umfangreiches Rahmenprogramm mit 
	Workshops, Vorträgen und Networking-Events. Besonders beliebt sind das Fil
	mmakers’ Speed Dating, bei dem Filmschaffende in kurzen Gesprächsrunden kr
	eative Verbindungen knüpfen können, sowie das CineMeet, ein Get-together m
	it Vertreterinnen und Vertretern der Filmbranche.</p><p>Die INDEPENDENT DA
	YS finden in der Schauburg Karlsruhe statt. Teile des Rahmenprogramms, dar
	unter Vorträge und Workshops, werden in der Badischen Landesbibliothek ang
	eboten.</p><p>Alle Informationen zum vollständigen Programm, den Wettbewer
	bsfilmen und Ticketoptionen gibt es unter <a target="_blank" href="https:/
	/www.independentdays-filmfest.com/">www.independentdays.de</a>.</p>
BEGIN:VALARM
ACTION:DISPLAY
DESCRIPTION:INDEPENDENT DAYS | 24th International Film Festival
TRIGGER:-PT1H
END:VALARM
END:VEVENT
END:VCALENDAR
