BEGIN:VCALENDAR
VERSION:2.0
CALSCALE:GREGORIAN
PRODID:adamgibbons/ics
METHOD:PUBLISH
X-PUBLISHED-TTL:PT1H
BEGIN:VEVENT
UID:158@keepkarlsruheboring.org
SUMMARY:Infinity Swing | Workshop + Party [20 - 80 €]
DTSTAMP:20260423T115021Z
DTSTART:20251108T130000Z
DESCRIPTION:Am 08. November 2025 findet die erste Edition von Infinity Swin
	g statt!\n\nEs wird 3 verschiedene Workshops mit den Vizeweltmeistern Grze
	gorz & Agnieszka\naus Polen geben und abends startet unsere Swing-Nacht im
	 Tanzloft Karlsruhe.\n\nDie Workshops sind unterteilt in:\n\n * Newcomer\n
	\n * Intermediate\n\n * Advanced\n\nDiese Unterteilungen werden unter dem 
	Reiter Levels ausführlich erläutert.\n\nPREISE:\n\n * 35 € – 1 Workshop (i
	nkl. Party)\n\n * 60 € – 2 Workshops (inkl. Party)\n\n * 80 € – 3 Workshop
	s (inkl. Party)\n   \n   * Alle Tanzloft-Mitglieder bekommen einen Rabatt 
	von 15% (29/51/68 Euro)\; Der\n     Rabatt wird ausschließlich bei einer B
	uchung über unsere Community-App\n     wirksam.\n\n * 20 € – Party-Eintrit
	t\n\n\n\nPARTYS\n\nAbends ab 20 Uhr beginnt unsere Swing-Nacht.\n\nWenn Ih
	r noch nie Lindy Hop getanzt habt und gerne die Swing-Nacht miterleben\nwo
	llt\, dann habt ihr die Möglichkeit ab 19 Uhr beim Beginner-Workshop von D
	anilo\n& Malika teilzunehmen!\n\n * 19 Uhr Beginner-Workshop\n\n * 20 Uhr 
	Party\n\n * Beginner inklusive Party: 25 €\n\n * Party-Eintritt: 20 €\n\nD
	er Beginner-Workshop wird vor Ort bezahlt ist ohne Voranmeldung.\n\n\nSTUN
	DENPLAN\n\n * 14:00 – 15:45 Uhr | Workshop Newcomer mit G&A\n\n * 16:00 – 
	17:45 Uhr | Workshop Intermediate mit G&A\n\n * 18:00 – 19:45 Uhr | Worksh
	op Advanced mit G&A\n\n * 19:00 – 19:45 Uhr | Beginner-Schnupperworkshop m
	it Malika & Danilo\n\n * ab 20:00 | Party
URL:https://keepkarlsruheboring.org/event/infinity-swing-or-workshop-party-
	20-80-euro
GEO:48.9951;8.34452
LOCATION:Tanzloft - 159\, Durmersheimer Straße\, Alte Heidenstückersiedlung
	\, Grünwinkel\, Karlsruhe\, Baden-Württemberg\, 76189\, Deutschland
STATUS:CONFIRMED
CATEGORIES:Dance,Lindy Hop,Party,Registration required,Ticket,Workshop
X-ALT-DESC;FMTTYPE=text/html:<p>Am 08. November 2025 findet die erste Editi
	on von <strong>Infinity Swing</strong> statt!</p><p>Es wird 3 verschiedene
	 Workshops mit den Vizeweltmeistern <strong>Grzegorz &amp; Agnieszka </str
	ong>aus Polen geben und abends startet unsere Swing-Nacht im Tanzloft Karl
	sruhe.</p><p>Die Workshops sind unterteilt in:</p><ul><li><p>Newcomer</p><
	/li><li><p>Intermediate</p></li><li><p>Advanced</p></li></ul><p>Diese Unte
	rteilungen werden unter dem Reiter&nbsp;<strong>Levels</strong> ausführlic
	h erläutert.</p><h5><strong>Preise:</strong></h5><ul><li><p>35 € – 1 Works
	hop (inkl. Party)</p></li><li><p>60 € – 2 Workshops (inkl. Party)</p></li>
	<li><p>80 € – 3 Workshops (inkl. Party)</p><ul><li><p>Alle Tanzloft-Mitgli
	eder bekommen einen Rabatt von 15% (29/51/68 Euro); <strong><u>Der Rabatt 
	wird ausschließlich bei einer Buchung über unsere Community-App wirksam.</
	u></strong></p></li></ul></li><li><p>20 € – Party-Eintritt</p></li></ul><h
	5></h5><h5><strong>Partys</strong></h5><p>Abends ab 20 Uhr beginnt unsere 
	Swing-Nacht.</p><p>Wenn Ihr noch nie Lindy Hop getanzt habt und gerne die 
	Swing-Nacht miterleben wollt, dann habt ihr die Möglichkeit ab 19 Uhr beim
	 Beginner-Workshop von Danilo &amp; Malika teilzunehmen!</p><ul><li><p>19 
	Uhr&nbsp;Beginner-Workshop</p></li><li><p>20 Uhr Party</p></li><li><p>Begi
	nner inklusive Party: 25 €</p></li><li><p>Party-Eintritt: 20 €</p></li></u
	l><p>Der Beginner-Workshop wird vor Ort bezahlt ist ohne Voranmeldung.</p>
	<h2><strong>Stundenplan</strong></h2><ul><li><p>14:00 – 15:45 Uhr | Worksh
	op Newcomer mit G&amp;A</p></li><li><p>16:00 – 17:45 Uhr | Workshop Interm
	ediate mit G&amp;A</p></li><li><p>18:00 – 19:45 Uhr | Workshop Advanced mi
	t G&amp;A</p></li><li><p>19:00 – 19:45 Uhr | Beginner-Schnupperworkshop mi
	t Malika &amp; Danilo</p></li><li><p>ab 20:00 | Party</p></li></ul>
BEGIN:VALARM
ACTION:DISPLAY
DESCRIPTION:Infinity Swing | Workshop + Party [20 - 80 €]
TRIGGER:-PT1H
END:VALARM
END:VEVENT
END:VCALENDAR
