BEGIN:VCALENDAR
VERSION:2.0
CALSCALE:GREGORIAN
PRODID:adamgibbons/ics
METHOD:PUBLISH
X-PUBLISHED-TTL:PT1H
BEGIN:VEVENT
UID:35@keepkarlsruheboring.org
SUMMARY:INPUT: Was ist Behindertenfeindlichkeit und was hat das mit mir zu 
	tun?
DTSTAMP:20260423T104722Z
DTSTART:20250523T143000Z
DESCRIPTION:INPUT: WAS IST BEHINDERTENFEINDLICHKEIT UND WAS HAT DAS MIT MIR
	 ZU TUN?\n\nMit Borghild Strähle von Adis e.V.\n\nAnmeldung: input_karlsru
	he@systemli.org [input_karlsruhe@systemli.org]\n\nEintritt: Frei\n\nBehind
	erte Menschen erleben im Alltag viele Herausforderungen. Das liegt nicht\n
	nur an der Behinderung selbst\, sondern auch wegen der Meinungen\, Bilder 
	und\nWertungen\, die viele Menschen und die Gesellschaft über Behinderung 
	haben. Dies\nprägt den Umgang mit behinderten Menschen und führt häufig zu
	 Ausgrenzung. Um\neiner gerechten Gesellschaft näher zu kommen\, ist es no
	twendig sich mit den\neigenen Bildern und Vorurteilen auseinanderzusetzen\
	, damit ein Miteinander auf\nAugenhöhe möglich wird. In dem Workshop geht 
	es um Fragen wie:\n\n• Was ist Ableismus?\n\n• Wie können wir fair und res
	pektvoll miteinander umgehen?\n\n• Was bedeutet Inklusion im Alltag?\n\nDe
	r Workshop findet in deutscher Lautsprache statt und richtet sich an alle\
	nInteressierte. Das p8 ist ebenerdig zugänglich und verfügt über eine\nbar
	rierearme Toilette. Hast du Fragen oder Wünsche bezüglich des Workshops od
	er\nbrauchst etwas um mitzumachen? Schreib uns an: input_karlsruhe@systeml
	i.org\n[input_karlsruhe@systemli.org]
URL:https://keepkarlsruheboring.org/event/input-was-ist-behindertenfeindlic
	hkeit-und-was-hat-das-mit-mir-zu-tun
GEO:48.989;8.37185
LOCATION:P8 - Schauenburgstraße 5\, 76135 Karlsruhe
STATUS:CONFIRMED
CATEGORIES:Ableism,Politics,Registration required,Workshop
X-ALT-DESC;FMTTYPE=text/html:<h2>INPUT: Was ist Behindertenfeindlichkeit un
	d was hat das mit mir zu tun?</h2><p>Mit Borghild Strähle von Adis e.V.</p
	><p>Anmeldung: <a target="_blank" href="mailto:input_karlsruhe@systemli.or
	g">input_karlsruhe@systemli.org</a></p><p>Eintritt: Frei</p><p>Behinderte 
	Menschen erleben im Alltag viele Herausforderungen. Das liegt nicht nur an
	 der Behinderung selbst, sondern auch wegen der Meinungen, Bilder und Wert
	ungen, die viele Menschen und die Gesellschaft über Behinderung haben. Die
	s prägt den Umgang mit behinderten Menschen und führt häufig zu Ausgrenzun
	g. Um einer gerechten Gesellschaft näher zu kommen, ist es notwendig sich 
	mit den eigenen Bildern und Vorurteilen auseinanderzusetzen, damit ein Mit
	einander auf Augenhöhe möglich wird. In dem Workshop geht es um Fragen wie
	:</p><p>• Was ist Ableismus?</p><p>• Wie können wir fair und respektvoll m
	iteinander umgehen?</p><p>• Was bedeutet Inklusion im Alltag?</p><p>Der Wo
	rkshop findet in deutscher Lautsprache statt und richtet sich an alle Inte
	ressierte. Das p8 ist ebenerdig zugänglich und verfügt über eine barrierea
	rme Toilette. Hast du Fragen oder Wünsche bezüglich des Workshops oder bra
	uchst etwas um mitzumachen? Schreib uns an: <a target="_blank" href="mailt
	o:input_karlsruhe@systemli.org">input_karlsruhe@systemli.org</a></p>
BEGIN:VALARM
ACTION:DISPLAY
DESCRIPTION:INPUT: Was ist Behindertenfeindlichkeit und was hat das mit mir
	 zu tun?
TRIGGER:-PT1H
END:VALARM
END:VEVENT
END:VCALENDAR
