BEGIN:VCALENDAR
VERSION:2.0
CALSCALE:GREGORIAN
PRODID:adamgibbons/ics
METHOD:PUBLISH
X-PUBLISHED-TTL:PT1H
BEGIN:VEVENT
UID:491@keepkarlsruheboring.org
SUMMARY:INTER-ACTIONS (D) "FLASHBACK - eine nostalgische Reise" [9-17 €]
DTSTAMP:20260423T102217Z
DTSTART:20251122T200000Z
DESCRIPTION:Your one of a kind 90s Party\n\nWas verbindest Du mit den 90ern
	? Lass Dich von einem vibrierenden Soundtrack und\nnostalgisch-augenzwinke
	rnden Tanzperformances mitreißen\, folge Deinem inneren\nFilm und erlebe i
	hn doch gemeinsam mit allen.\n\nFLASHBACK ist Tanzperformance\, Party und 
	ein Deep Dive in die 90er Jahre.\n\nFolge mit uns Erinnerungen\, Mythen un
	d Träumereien — bittersüß\, euphorisch und\nimmer im Vibe.\n\n\nKünstleris
	che Leitung & Choreografie: Edan Gorlicki\nTanz und Mitentwicklung: Paul C
	alderone\, Cecilia Ponteprimo\, Lorenzo Ponteprimo\,\nMareike Villnow\nPer
	formance und Mitentwicklung: Stephanie Roser\nPR & Social Media: Jael Kräm
	er\nMusik: Harrison McClary\nKostüme: Julia Headley-Rohmann\nDramaturgie: 
	Eva-Maria Steinel \nBuchhaltung: Janin Friese\n\nFlashback ist eine Produk
	tion der INTER-ACTIONS Dance Company Heidelberg.\nGefördert vom Kulturamt 
	der Stadt Heidelberg und ermöglicht durch die\nKonzeptionsförderung des La
	ndesverbands Freie Tanz- und Theaterschaffende\nBaden-Württemberg (LaFT BW
	) e.V. Der LaFT BW e.V. wird vom Ministerium für\nWissenschaft\, Forschung
	 und Kunst Baden-Württemberg gefördert. Wir bedanken uns\nfür die Unterstü
	tzung bei der Esser Stiftung\, Gaia Armellin und allen privaten\nSpender*i
	nnen.\n\nStarke Stücke aus Baden-Württemberg\n\nBild: De-Da Productions
URL:https://keepkarlsruheboring.org/event/inter-actions-d-flashback-eine-no
	stalgische-reise
GEO:48.989;8.37185
LOCATION:P8 - Schauenburgstraße 5\, 76135 Karlsruhe
STATUS:CONFIRMED
CATEGORIES:Dance,TANZ Karlsruhe 2025,Tanzfestival 2025,Ticket
X-ALT-DESC;FMTTYPE=text/html:<p><strong>Your one of a kind 90s Party</stron
	g></p><p>Was verbindest Du mit den 90ern? Lass Dich von einem vibrierenden
	 Soundtrack und nostalgisch-augenzwinkernden Tanzperformances mitreißen, f
	olge Deinem inneren Film und erlebe ihn doch gemeinsam mit allen.</p><p>FL
	ASHBACK ist Tanzperformance, Party und ein Deep Dive in die 90er Jahre.</p
	><p>Folge mit uns Erinnerungen, Mythen und Träumereien — bittersüß, euphor
	isch und immer im Vibe.<br></p><p>Künstlerische Leitung &amp; Choreografie
	: Edan Gorlicki<br>Tanz und Mitentwicklung: Paul Calderone, Cecilia Pontep
	rimo, Lorenzo Ponteprimo, Mareike Villnow<br>Performance und Mitentwicklun
	g: Stephanie Roser<br>PR &amp; Social Media: Jael Krämer<br>Musik: Harriso
	n McClary<br>Kostüme: Julia Headley-Rohmann<br>Dramaturgie: Eva-Maria Stei
	nel&nbsp;<br>Buchhaltung: Janin Friese</p><p><em>Flashback ist eine Produk
	tion der INTER-ACTIONS Dance Company Heidelberg. Gefördert vom Kulturamt d
	er Stadt Heidelberg und ermöglicht durch die Konzeptionsförderung des Land
	esverbands Freie Tanz- und Theaterschaffende Baden-Württemberg (LaFT BW) e
	.V. Der LaFT BW e.V. wird vom Ministerium für Wissenschaft, Forschung und 
	Kunst Baden-Württemberg gefördert. Wir bedanken uns für die Unterstützung 
	bei der Esser Stiftung, Gaia Armellin und allen privaten Spender*innen.</e
	m></p><p>Starke Stücke aus Baden-Württemberg</p><p>Bild: De-Da Productions
	</p>
BEGIN:VALARM
ACTION:DISPLAY
DESCRIPTION:INTER-ACTIONS (D) "FLASHBACK - eine nostalgische Reise" [9-17 €
	]
TRIGGER:-PT1H
END:VALARM
END:VEVENT
END:VCALENDAR
