BEGIN:VCALENDAR
VERSION:2.0
CALSCALE:GREGORIAN
PRODID:adamgibbons/ics
METHOD:PUBLISH
X-PUBLISHED-TTL:PT1H
BEGIN:VEVENT
UID:813@keepkarlsruheboring.org
SUMMARY:Ist das noch/schon mein Land?
DTSTAMP:20260423T115026Z
DTSTART:20260223T190000Z
DTEND:20260223T210000Z
DESCRIPTION:Mit einer großen Gesprächsreihe durch Baden-Württemberg vor den
	 Landtagswahlen\nlädt PEN Berlin zu Debatten über Heimat und Demokratie ei
	n.\n\nZwei Gäste aus unterschiedlichen gesellschaftlichen Bereichen treffe
	n\naufeinander – und auf das Publikum.\nDenn hier ist das Publikum nicht B
	eiwerk\, sondern der dritte Gast: Es\ndiskutiert\, widerspricht\, ergänzt 
	und prägt den Abend entscheidend mit. Ein\noffenes Gespräch darüber\, was 
	die Gesellschaft zusammenhält und sie auseinander\nzu reißen droht. Durch 
	den Abend führen Kai Laufen\, Deniz Yücel und Aron Boks.\n\nAlexander Esti
	s\, 1986 in einer jüdischen Familie in Moskau geboren\,\nSchriftsteller un
	d Journalist. Er arbeitet u.a. für Zeit\, SZ\, FAZ und DLF\nKultur. Zuletz
	t erschien als sein zehntes Buch die Essaysammlung »Schergenstaat\nRusslan
	d« (NZZ Libro\, 2025). Er wurde mehrfach ausgezeichnet\, darunter mit dem\
	nKurt-Tucholsky-Preis für literarische Publizistik.\n\nProf. Dr. Rahel Jae
	ggi\, geboren 1966 in Bern\, lehrt Praktische Philosophie an\nder Humboldt
	-Universität zu Berlin. Zudem leitet sie das Center for Humanities\nand So
	cial Change in Berlin. Sie gilt als Vertreterin der zeitgenössischen\nKrit
	ischen Theorie. Zuletzt erschien »Fortschritt und Regression« (Suhrkamp\,\
	n2023).\n\nModeration kommt von Kai Laufen\, geboren 1968 in Bochum\, Radi
	o- und\nFernsehjournalist. Er arbeitet seit 1999 als Reporter beim SWR und
	 lebt mit\nseiner Familie in Karlsruhe. Zudem ist er Autor von Radio-Featu
	res.\n\nDeniz Yücel ist ein deutsch-türkischer Journalist und Publizist. E
	r war von 2007\nbis 2015 Redakteur der taz und ist seit 2015 Korrespondent
	 und Autor der\nWeltN24-Gruppe des Axel Springer Verlags. Zudem ist er lan
	gjähriger\nMitherausgeber der Wochenzeitung Jungle World. Von 2021 bis zu 
	seinem Rücktritt\n2022 war er Präsident des PEN-Zentrums Deutschland und i
	st seit Juni 2022 mit\nEva Menasse\, seit November 2024 mit Thea Dorn Spre
	cher des PEN Berlin.\n(Wikipedia)\n\nAron Boks ist ein deutscher Schriftst
	eller und Poetry-Slammer. Seine\nBühnenkarriere begann 2016 mit dem Sieg d
	er Landesmeisterschaft im Poetry-Slam\nin Magdeburg in der U20-Kategorie. 
	Neben ersten Erzählungen und redaktionellen\nWorkskops bei der taz\, ersch
	ien 2019 sein autobiographisches Buch „Luft nach\nunten“. Im KOHI war er i
	m Rahmen der Literaturtage 2024 mit seinem Buch „Nackt\nin die DDR“ über s
	einen Urgroßonkel Willi Sitte\, dem sogenannten „Staatsmaler“\,\nzu sehen.
	\n\nEinlass: 19 Uhr\, Beginn: 20 Uhr\nEintritt frei
URL:https://keepkarlsruheboring.org/event/ist-das-nochschon-mein-land
GEO:49.0017;8.40754
LOCATION:Kohi - Werderstraße 47\, 76137 Karlsruhe\, Alemanya
STATUS:CONFIRMED
CATEGORIES:Diskussion,Heimat,Vortrag
X-ALT-DESC;FMTTYPE=text/html:<p>Mit einer großen Gesprächsreihe durch Baden
	-Württemberg vor den Landtagswahlen lädt PEN Berlin zu Debatten über Heima
	t und Demokratie ein. <br><br><strong>Zwei Gäste aus unterschiedlichen ges
	ellschaftlichen Bereichen treffen aufeinander – und auf das Publikum. <br>
	Denn hier ist das Publikum nicht Beiwerk, sondern der dritte Gast: Es disk
	utiert, widerspricht, ergänzt und prägt den Abend entscheidend mit. Ein of
	fenes Gespräch darüber, was die Gesellschaft zusammenhält und sie auseinan
	der zu reißen droht. Durch den Abend führen Kai Laufen, Deniz Yücel und Ar
	on Boks. </strong><br><br><strong>Alexander Estis</strong>, 1986 in einer 
	jüdischen Familie in Moskau geboren, Schriftsteller und Journalist. Er arb
	eitet u.a. für Zeit, SZ, FAZ und DLF Kultur. Zuletzt erschien als sein zeh
	ntes Buch die Essaysammlung »Schergenstaat Russland« (NZZ Libro, 2025). Er
	 wurde mehrfach ausgezeichnet, darunter mit dem Kurt-Tucholsky-Preis für l
	iterarische Publizistik.<br><br><strong>Prof. Dr. Rahel Jaeggi</strong>, g
	eboren 1966 in Bern, lehrt Praktische Philosophie an der Humboldt-Universi
	tät zu Berlin. Zudem leitet sie das Center for Humanities and Social Chang
	e in Berlin. Sie gilt als Vertreterin der zeitgenössischen Kritischen Theo
	rie. Zuletzt erschien »Fortschritt und Regression« (Suhrkamp, 2023).<br><b
	r>Moderation kommt von <strong>Kai Laufen</strong>, geboren 1968 in Bochum
	, Radio- und Fernsehjournalist. Er arbeitet seit 1999 als Reporter beim SW
	R und lebt mit seiner Familie in Karlsruhe. Zudem ist er Autor von Radio-F
	eatures.<br><br><strong>Deniz Yücel</strong> ist ein deutsch-türkischer Jo
	urnalist und Publizist. Er war von 2007 bis 2015 Redakteur der taz und ist
	 seit 2015 Korrespondent und Autor der WeltN24-Gruppe des Axel Springer Ve
	rlags. Zudem ist er langjähriger Mitherausgeber der Wochenzeitung Jungle W
	orld. Von 2021 bis zu seinem Rücktritt 2022 war er Präsident des PEN-Zentr
	ums Deutschland und ist seit Juni 2022 mit Eva Menasse, seit November 2024
	 mit Thea Dorn Sprecher des PEN Berlin. (Wikipedia) <br><br><strong>Aron B
	oks</strong> ist ein deutscher Schriftsteller und Poetry-Slammer. Seine Bü
	hnenkarriere begann 2016 mit dem Sieg der Landesmeisterschaft im Poetry-Sl
	am in Magdeburg in der U20-Kategorie. Neben ersten Erzählungen und redakti
	onellen Workskops bei der taz, erschien 2019 sein autobiographisches Buch 
	„Luft nach unten“. Im KOHI war er im Rahmen der Literaturtage 2024 mit sei
	nem Buch „Nackt in die DDR“ über seinen Urgroßonkel Willi Sitte, dem sogen
	annten „Staatsmaler“, zu sehen.<br><br>Einlass: 19 Uhr, Beginn: 20 Uhr<br>
	Eintritt frei</p>
BEGIN:VALARM
ACTION:DISPLAY
DESCRIPTION:Ist das noch/schon mein Land?
TRIGGER:-PT1H
END:VALARM
END:VEVENT
END:VCALENDAR
