BEGIN:VCALENDAR
VERSION:2.0
CALSCALE:GREGORIAN
PRODID:adamgibbons/ics
METHOD:PUBLISH
X-PUBLISHED-TTL:PT1H
BEGIN:VEVENT
UID:101@keepkarlsruheboring.org
SUMMARY:Iterative ßpace #4 w/ Naoki Nomoto
DTSTAMP:20260423T102324Z
DTSTART:20250621T170000Z
DTEND:20250621T200000Z
DESCRIPTION:On Saturday\, 21 June\, for the 4th edition of Iterative ßpace\
	, we welcome\ncomputer musician Naoki Nomoto along with old and new local 
	friends.\n\nBorn in Japan 1975\, and based in Tokyo\, Naoki Nomoto is a se
	lf-taught\ncomputer/electronic musician and programmer with 20 years of ex
	perience in sonic\nart in Japan. His work explores the intersection of mod
	ular synthesis and\nalgorithmic composition\, using SuperCollider alongsid
	e modular systems.\n\nIterative ßpace is a concert series in Karlsruhe fea
	turing experimental\nalgorithmic and live computer music. It started in 20
	23 with a focus on live\ncoding and aims to include diverse practices of e
	lectronic music and sound\nperformance.\n\nLineup:\nNaoki Nomoto\nirel.ier
	\nJia Liu\nMichele Samrotto\nDaniel Höpfner\n\nSome related releases etc.:
	\n\n * sp64 - Naoki Nomoto “Synthesis Performed by Anonymous Performers at
	 Ideala”:\n   https://superpang.bandcamp.com/album/synthesis-performed-by-
	anonymous-performers-at-ideala\n   [https://superpang.bandcamp.com/album/s
	ynthesis-performed-by-anonymous-performers-at-ideala]\n\n * sp118 - [_ _ _
	]: https://e—e.bandcamp.com/album/-\n   [https://xn--ee-71t.bandcamp.com/a
	lbum/-]\n\n * sp177 - strwüü:\n   https://superpang.bandcamp.com/album/sem
	ipermeabeler-kriechstrom-tiefflug\n   [https://superpang.bandcamp.com/albu
	m/semipermeabeler-kriechstrom-tiefflug]\n\n * irel.ier: https://disk.bandc
	amp.com/album/irel-ier-gua-ng-gua-i-li\n   [https://disk.bandcamp.com/albu
	m/irel-ier-gua-ng-gua-i-li]\n\n * dkyuh: https://soundcloud.com/dkyuh [htt
	ps://soundcloud.com/dkyuh]
URL:https://keepkarlsruheboring.org/event/iterative-sspace-4-with-naoki-nom
	oto
GEO:49.0084;8.41046
LOCATION:ßpace - Fritz-Erler-Straße 7\, 76133 Karlsruhe
STATUS:CONFIRMED
CATEGORIES:Art,computer music,live coding,Music
X-ALT-DESC;FMTTYPE=text/html:<p>On Saturday, 21 June, for the 4th edition o
	f Iterative ßpace, we welcome computer musician Naoki Nomoto along with ol
	d and new local friends.</p><p>Born in Japan 1975, and based in Tokyo, Nao
	ki Nomoto is a self-taught computer/electronic musician and programmer wit
	h 20 years of experience in sonic art in Japan. His work explores the inte
	rsection of modular synthesis and algorithmic composition, using SuperColl
	ider alongside modular systems.</p><p>Iterative ßpace is a concert series 
	in Karlsruhe featuring experimental algorithmic and live computer music. I
	t started in 2023 with a focus on live coding and aims to include diverse 
	practices of electronic music and sound performance.</p><p>Lineup:<br>Naok
	i Nomoto<br>irel.ier<br>Jia Liu <br>Michele Samrotto<br>Daniel Höpfner</p>
	<p>Some related releases etc.:</p><ul><li><p>sp64 - Naoki Nomoto “Synthesi
	s Performed by Anonymous Performers at Ideala”: <a href="https://superpang
	.bandcamp.com/album/synthesis-performed-by-anonymous-performers-at-ideala"
	 target="_blank"><u>https://superpang.bandcamp.com/album/synthesis-perform
	ed-by-anonymous-performers-at-ideala</u></a></p></li><li><p>sp118 - [<code
	>_ _ _</code>]: <a href="https://xn--ee-71t.bandcamp.com/album/-" target="
	_blank"><u>https://e—e.bandcamp.com/album/-</u></a></p></li><li><p>sp177 -
	 strwüü: <a href="https://superpang.bandcamp.com/album/semipermeabeler-kri
	echstrom-tiefflug" target="_blank"><u>https://superpang.bandcamp.com/album
	/semipermeabeler-kriechstrom-tiefflug</u></a></p></li><li><p>irel.ier: <a 
	href="https://disk.bandcamp.com/album/irel-ier-gua-ng-gua-i-li" target="_b
	lank"><u>https://disk.bandcamp.com/album/irel-ier-gua-ng-gua-i-li</u></a><
	/p></li><li><p>dkyuh: <a href="https://soundcloud.com/dkyuh" target="_blan
	k"><u>https://soundcloud.com/dkyuh</u></a></p></li></ul>
BEGIN:VALARM
ACTION:DISPLAY
DESCRIPTION:Iterative ßpace #4 w/ Naoki Nomoto
TRIGGER:-PT1H
END:VALARM
END:VEVENT
END:VCALENDAR
