BEGIN:VCALENDAR
VERSION:2.0
CALSCALE:GREGORIAN
PRODID:adamgibbons/ics
METHOD:PUBLISH
X-PUBLISHED-TTL:PT1H
BEGIN:VEVENT
UID:524@keepkarlsruheboring.org
SUMMARY:Jazz Dance 5-Wochen-Schnupperkurs
DTSTAMP:20260423T114934Z
DTSTART:20251112T173000Z
DTEND:20251112T183000Z
DESCRIPTION:Du möchtest Jazz Dance einmal ausprobieren oder hast Lust\, in 
	diesem Herbst ein\npaar Wochen voller Bewegung und Musik zu erleben? Dann 
	ist dieses Herbst Special\ngenau das Richtige für dich! In unserem 5-Woche
	n-Schnupperkurs tauchst du in die\nlebendige Welt des Jazz Dance ein. Idea
	l\, wenn du ohne langfristige\nVerpflichtung tanzen möchtest oder dir für 
	ein paar Wochen etwas Gutes tun\nwillst.\n\nDich erwartet:\nEine Stunde vo
	ller Freude\, die ein klassisches Jazz-Warm-up (Pliés\, Tendus\,\nDrehübun
	gen etc.)\, gezielte Muskelkräftigung\, Stretching und mitreißende\nDiagon
	alen umfasst. Mit Begeisterung\, Geduld und Hingabe arbeiten wir an der\nT
	echnik und bereiten den Körper optimal auf die abschließende Choreografie 
	vor\,\num das Tanzerlebnis perfekt zu gestalten. In einer freundlichen und
	\nmotivierenden Atmosphäre kannst du dich ausprobieren und einfach Spaß am
	 Tanzen\nhaben. Mein Ziel ist es\, Freude zu erleben\, loszulassen und gle
	ichzeitig Neues\nzu lernen!\n\nDauer: 5 Wochen\nNiveau: Mittelstufe in Jaz
	z\, Modern\, Ballett oder einer anderen zeitgenössischen\nTanzrichtung / W
	iedereinsteigerInnen willkommen\n\nKurszeiten und -ort:\n\nMittwochskurs:\
	nWann: 18:30 Uhr bis 19:30 Uhr\nWo: Tanzando\, Douglasstr. 24/26\, 76133 K
	arlsruhe\nTermine: 12. November\, 19. November\, 26. November\, 03. Dezemb
	er\, 10. Dezember\n\nKursgebühren:\n\n * 85\,- für den gesamten Kursblock\
	n\nKontakt:\n\nFür weitere Informationen und Anmeldung stehe ich gerne zur
	 Verfügung. Schreib\nmir einfach per E-Mail an tanzen(at)danielamax.de [ta
	nzen@danielamax.de] . Ich\nfreue mich darauf\, gemeinsam mit dir zu tanzen
	!
URL:https://keepkarlsruheboring.org/event/jazz-dance-5-wochen-schnupperkurs
	-1
GEO:49.0094;8.39322
LOCATION:Tanzando - Douglasstr. 24/26\, 76133 Karlsruhe
STATUS:CONFIRMED
CATEGORIES:Contemporarydance,Dance,Erwachsene,Jazz,Jazzdance,Registration r
	equired,TanzenInKarlsruhe,Training
X-ALT-DESC;FMTTYPE=text/html:<p>Du möchtest Jazz Dance einmal ausprobieren 
	oder hast Lust, in diesem Herbst ein paar Wochen voller Bewegung und Musik
	 zu erleben? Dann ist dieses Herbst Special genau das Richtige für dich! I
	n unserem 5-Wochen-Schnupperkurs tauchst du in die lebendige Welt des Jazz
	 Dance ein. Ideal, wenn du ohne langfristige Verpflichtung tanzen möchtest
	 oder dir für ein paar Wochen etwas Gutes tun willst.</p><p><strong>Dich e
	rwartet:</strong><br>Eine Stunde voller Freude, die ein klassisches Jazz-W
	arm-up (Pliés, Tendus, Drehübungen etc.), gezielte Muskelkräftigung, Stret
	ching und mitreißende Diagonalen umfasst. Mit Begeisterung, Geduld und Hin
	gabe arbeiten wir an der Technik und bereiten den Körper optimal auf die a
	bschließende Choreografie vor, um das Tanzerlebnis perfekt zu gestalten. I
	n einer freundlichen und motivierenden Atmosphäre kannst du dich ausprobie
	ren und einfach Spaß am Tanzen haben. Mein Ziel ist es, Freude zu erleben,
	 loszulassen und gleichzeitig Neues zu lernen!<br><br><strong>Dauer:</stro
	ng> 5 Wochen<br><strong>Niveau:</strong> Mittelstufe in Jazz, Modern, Ball
	ett oder einer anderen zeitgenössischen Tanzrichtung / WiedereinsteigerInn
	en willkommen</p><p><strong>Kurszeiten und -ort:</strong></p><p><strong>Mi
	ttwochskurs:</strong><br><em>Wann:</em> 18:30 Uhr bis 19:30 Uhr<br><em>Wo:
	</em> Tanzando, Douglasstr. 24/26, 76133 Karlsruhe<br><em>Termine:</em> 12
	. November, 19. November, 26. November, 03. Dezember, 10. Dezember</p><p><
	strong>Kursgebühren:</strong></p><ul><li><p>85,- für den gesamten Kursbloc
	k</p></li></ul><p><strong>Kontakt:</strong></p><p>Für weitere Informatione
	n und Anmeldung stehe ich gerne zur Verfügung. Schreib mir einfach per E-M
	ail an <a href="mailto:tanzen@danielamax.de" target="_new">tanzen(at)danie
	lamax.de</a> . Ich freue mich darauf, gemeinsam mit dir zu tanzen!</p>
BEGIN:VALARM
ACTION:DISPLAY
DESCRIPTION:Jazz Dance 5-Wochen-Schnupperkurs
TRIGGER:-PT1H
END:VALARM
END:VEVENT
END:VCALENDAR
