BEGIN:VCALENDAR
VERSION:2.0
CALSCALE:GREGORIAN
PRODID:adamgibbons/ics
METHOD:PUBLISH
X-PUBLISHED-TTL:PT1H
BEGIN:VEVENT
UID:874@keepkarlsruheboring.org
SUMMARY:JIMI TENOR BAND [8 €]
DTSTAMP:20260423T102323Z
DTSTART:20260315T170000Z
DTEND:20260315T190000Z
DESCRIPTION:2025 feierte der finnische Musiker und Komponist JIMI TENOR sei
	nen 60.\nGeburtstag. Er hätte sich keinen passenderen Ort dafür vorstellen
	 können als die\nBühne\, und so kam Tenor im Frühjahr 2025 mit seiner Band
	 nach Hamburg\, nicht nur\num sein persönliches Jubiläum zu feiern\, sonde
	rn auch um neue Musik aufzunehmen.\nTeils mit dem Hamburger Produzenten To
	bias Levin in dessen Electric Avenue\nStudio\, teils im Kiikala Center of 
	the Universe Studio Complex von Lauri Kallio\,\nentstand das erste Album d
	er Jimi Tenor Band: „Selenites\, Selenites!“.\nTenor kann auf zahlreiche K
	ollaborationen zurückblicken\, unter anderem mit Tony\nAllen\, dem UMO Hel
	sinki Jazz Orchestra\, Kabukabu und Freestyle Man. Nachdem er\nin den 1990
	er-Jahren mit seiner eigenwilligen Fusion aus Lounge-Jazz und Acid\nTechno
	 auf Sähko und Warp Records große Aufmerksamkeit erregt hatte\, wandte er\
	nsich in den folgenden Jahren zunehmend der afrikanischen Musik zu. Doch f
	ür den\nMultiinstrumentalisten gibt es keine Genregrenzen – er kombiniert 
	mühelos eine\nbreite Palette von Stilen\, von Electronica und Afrobeat bis
	 hin zu Spiritual\nJazz\, mit seiner unverwechselbaren musikalischen Hands
	chrift\, um ein\neinzigartiges Musikerlebnis zu schaffen.\n„Selenites\, Se
	lenites!“ ist ein beeindruckendes Debütalbum\, das eine Gruppe\nvirtuoser 
	Musiker präsentiert\, die mit absoluter Spielfreude neue Klangwelten\nerku
	nden. Es ist kein gewöhnliches Afro-Jazz-Album\, sondern eine\naußergewöhn
	liche Reise in einen unverfälschten\, rohen Sound – so als stünde man\ndir
	ekt vor der Bühne - wie an diesem Tag bei uns im KOHI!\n\nEinlass: 17 Uhr\
	, Beginn: 18 Uhr
URL:https://keepkarlsruheboring.org/event/jimi-tenor-band
GEO:49.0017;8.40754
LOCATION:Kohi - Werderstraße 47\, 76137 Karlsruhe\, Alemanya
STATUS:CONFIRMED
CATEGORIES:Afrobeats,Concert,Electronicmusic,Jazz,Music,Ticket
X-ALT-DESC;FMTTYPE=text/html:<p>2025 feierte der finnische Musiker und Komp
	onist JIMI TENOR seinen 60. Geburtstag. Er hätte sich keinen passenderen O
	rt dafür vorstellen können als die Bühne, und so kam Tenor im Frühjahr 202
	5 mit seiner Band nach Hamburg, nicht nur um sein persönliches Jubiläum zu
	 feiern, sondern auch um neue Musik aufzunehmen. Teils mit dem Hamburger P
	roduzenten Tobias Levin in dessen Electric Avenue Studio, teils im Kiikala
	 Center of the Universe Studio Complex von Lauri Kallio, entstand das erst
	e Album der Jimi Tenor Band: „Selenites, Selenites!“. <br>Tenor kann auf z
	ahlreiche Kollaborationen zurückblicken, unter anderem mit Tony Allen, dem
	 UMO Helsinki Jazz Orchestra, Kabukabu und Freestyle Man. Nachdem er in de
	n 1990er-Jahren mit seiner eigenwilligen Fusion aus Lounge-Jazz und Acid T
	echno auf Sähko und Warp Records große Aufmerksamkeit erregt hatte, wandte
	 er sich in den folgenden Jahren zunehmend der afrikanischen Musik zu. Doc
	h für den Multiinstrumentalisten gibt es keine Genregrenzen – er kombinier
	t mühelos eine breite Palette von Stilen, von Electronica und Afrobeat bis
	 hin zu Spiritual Jazz, mit seiner unverwechselbaren musikalischen Handsch
	rift, um ein einzigartiges Musikerlebnis zu schaffen. <br>„Selenites, Sele
	nites!“ ist ein beeindruckendes Debütalbum, das eine Gruppe virtuoser Musi
	ker präsentiert, die mit absoluter Spielfreude neue Klangwelten erkunden. 
	Es ist kein gewöhnliches Afro-Jazz-Album, sondern eine außergewöhnliche Re
	ise in einen unverfälschten, rohen Sound – so als stünde man direkt vor de
	r Bühne - wie an diesem Tag bei uns im KOHI!<br><br>Einlass: 17 Uhr, Begin
	n: 18 Uhr</p>
BEGIN:VALARM
ACTION:DISPLAY
DESCRIPTION:JIMI TENOR BAND [8 €]
TRIGGER:-PT1H
END:VALARM
END:VEVENT
END:VCALENDAR
