BEGIN:VCALENDAR
VERSION:2.0
CALSCALE:GREGORIAN
PRODID:adamgibbons/ics
METHOD:PUBLISH
X-PUBLISHED-TTL:PT1H
BEGIN:VEVENT
UID:844@keepkarlsruheboring.org
SUMMARY:JOHNNY DOWD
DTSTAMP:20260423T102035Z
DTSTART:20260307T190000Z
DTEND:20260307T210000Z
DESCRIPTION:„Check this guy out if you dare“\, Johnny Dowd kommt 2026 zurüc
	k nach Europa und\ntatsächlich auch wieder zu uns. Mit dabei sind die beka
	nnten und gefeierten\nMusiker:innen Will Sexton (Co-Produzent und Gitarris
	t) und Amy LaVere (Bass und\nGesang als THE HUMAN SHIELDS aus Memphis. htt
	ps://amylavere.com/ Wir kennen\nJohnny Dowd. In der Tradition von Waits od
	er Bukowski schlängelt er sich an\nOrte\, die sich die meisten von uns nic
	ht vorstellen können. Es können Hinterhöfe\nsein oder einfach nur eine Bar
	 um die Ecke\, aber wo immer er hingeht\, wagt er\nes\, das auszusprechen\
	, was er sieht. Traut ihr euch\, ihm zuzuhören? Diesmal geht\nes natürlich
	 um so mehr auch um das „Darkest America“. Er hat oft eine\nFangemeinde be
	i den Punks\, obwohl die Musik\, die seinen Texten zugrunde liegt\,\nvon C
	ountry über Jazz bis hin zu Blues und darüber hinaus reicht. Das macht\nei
	nen Teil seines Charmes aus: Jeder Song erschafft eine eigene Welt\, in de
	ren\nMittelpunkt seine gefühlvolle\, ironische Stimme steht. Und diese Wel
	tenbildung\nist auf „Is Heaven Real? (How Would I Know?)\, seinem 19. Stud
	ioalbum\, am\nvollkommensten. Das begabte Duo Will Sexton (Co-Produzent un
	d Gitarrist) und Amy\nLaVere (Bass und Gesang) und viele andere waren auf 
	diesem Album vertreten. Mit\neinem von Jon Langford gestalteten Cover ist 
	es sein bisher größtes Werk. Wie\ndurch einen glücklichen Zufall connected
	 Johnny im Sommer 2025 erneut Leute aus\nMemphis und nimmt sie in seine Ba
	nd auf als Vorgruppe der MEKONS und tourte an\nder Ostküste entlang\, gefo
	lgt von einer Tour durch den Mittleren Westen mit\nJohnny\, Amy und Will u
	nd so wurde THE HUMAN SHIELDS geboren. Was kommt als\nNächstes? Eine Europ
	atournee mit Stopp in Karlsruhe! Einlass: 19 Uhr\, Beginn: 20\nUhr
URL:https://keepkarlsruheboring.org/event/johnny-dowd
GEO:49.0017;8.40754
LOCATION:Kohi - Werderstraße 47\, 76137 Karlsruhe\, Alemanya
STATUS:CONFIRMED
CATEGORIES:karlsrunruhe,test
X-ALT-DESC;FMTTYPE=text/html:„Check this guy out if you dare“, Johnny Dowd 
	kommt 2026 zurück nach Europa und tatsächlich auch wieder zu uns. Mit dabe
	i sind die bekannten und gefeierten Musiker:innen Will Sexton (Co-Produzen
	t und Gitarrist) und Amy LaVere (Bass und Gesang als THE HUMAN SHIELDS aus
	 Memphis.<br>https://amylavere.com/<br>Wir kennen Johnny Dowd. In der Trad
	ition von Waits oder Bukowski schlängelt er sich an Orte, die sich die mei
	sten von uns nicht vorstellen können. Es können Hinterhöfe sein oder einfa
	ch nur eine Bar um die Ecke, aber wo immer er hingeht, wagt er es, das aus
	zusprechen, was er sieht. Traut ihr euch, ihm zuzuhören? Diesmal geht es n
	atürlich um so mehr auch um das „Darkest America“. Er hat oft eine Fangeme
	inde bei den Punks, obwohl die Musik, die seinen Texten zugrunde liegt, vo
	n Country über Jazz bis hin zu Blues und darüber hinaus reicht. Das macht 
	einen Teil seines Charmes aus: Jeder Song erschafft eine eigene Welt, in d
	eren Mittelpunkt seine gefühlvolle, ironische Stimme steht. Und diese Welt
	enbildung ist auf „Is Heaven Real? (How Would I Know?), seinem 19. Studioa
	lbum, am vollkommensten. Das begabte Duo Will Sexton (Co-Produzent und Git
	arrist) und Amy LaVere (Bass und Gesang) und viele andere waren auf diesem
	 Album vertreten. Mit einem von Jon Langford gestalteten Cover ist es sein
	 bisher größtes Werk. Wie durch einen glücklichen Zufall connected Johnny 
	im Sommer 2025 erneut Leute aus Memphis und nimmt sie in seine Band auf al
	s Vorgruppe der MEKONS und tourte an der Ostküste entlang, gefolgt von ein
	er Tour durch den Mittleren Westen mit Johnny, Amy und Will und so wurde T
	HE HUMAN SHIELDS geboren.<br>Was kommt als Nächstes? Eine Europatournee mi
	t Stopp in Karlsruhe!<br>Einlass: 19 Uhr, Beginn: 20 Uhr
BEGIN:VALARM
ACTION:DISPLAY
DESCRIPTION:JOHNNY DOWD
TRIGGER:-PT1H
END:VALARM
END:VEVENT
END:VCALENDAR
