BEGIN:VCALENDAR
VERSION:2.0
CALSCALE:GREGORIAN
PRODID:adamgibbons/ics
METHOD:PUBLISH
X-PUBLISHED-TTL:PT1H
BEGIN:VEVENT
UID:141@keepkarlsruheboring.org
SUMMARY:Kaiser-Passage-Hoffest
DTSTAMP:20260423T102046Z
DTSTART:20250801T140000Z
DTEND:20250802T215900Z
DESCRIPTION:Nach dem gelungenen Auftakt im letzten Jahr findet auch 2025 wi
	eder das\nKaiser-Passage-Hoffest in Karlsruhe statt. Zwei Tage lang wird d
	er Passagehof\nzur Bühne – mit Live-Musik\, Wettbewerben\, Street Food und
	 Festivalstimmung\nmitten in der Stadt.\n\nAm Freitag\, 1. August\, starte
	t das Fest mit einem Schülerband-Wettbewerb: Junge\nTalente zeigen ihr Kön
	nen auf der großen Bühne.\n\nAm Samstag\, 2. August\, folgt der Band-Conte
	st für Amateur- und Studentenbands\,\nbei dem alle\, die Lust haben\, live
	 zu spielen\, ihre Chance bekommen.\n\nDas komplette Programm findet auf d
	er Bühne im Passagehof statt – von Rock über\nPop bis zu entspannten Sound
	s. Zusätzlich wird es an beiden Tagen Main Acts\ngeben\, die noch angekünd
	igt werden und für besondere Highlights sorgen.\n\nDazu gibt es Street Foo
	d\, kühle Drinks und eine entspannte Festivalatmosphäre –\nder Eintritt is
	t frei!\n\nKommt vorbei und feiert mit uns zwei Tage voller Musik\, Begegn
	ung und guter\nLaune beim Kaiser-Passage-Hoffest 2025!
URL:https://keepkarlsruheboring.org/event/kaiser-passage-hoffest
GEO:49.0105;8.39613
LOCATION:Kaiser Passage - Passagenhof
STATUS:CONFIRMED
CATEGORIES:Music,Street Food
X-ALT-DESC;FMTTYPE=text/html:<p>Nach dem gelungenen Auftakt im letzten Jahr
	 findet auch 2025 wieder das Kaiser-Passage-Hoffest in Karlsruhe statt. Zw
	ei Tage lang wird der Passagehof zur Bühne – mit Live-Musik, Wettbewerben,
	 Street Food und Festivalstimmung mitten in der Stadt.</p><p>Am Freitag, 1
	. August, startet das Fest mit einem Schülerband-Wettbewerb: Junge Talente
	 zeigen ihr Können auf der großen Bühne.</p><p>Am Samstag, 2. August, folg
	t der Band-Contest für Amateur- und Studentenbands, bei dem alle, die Lust
	 haben, live zu spielen, ihre Chance bekommen.</p><p>Das komplette Program
	m findet auf der Bühne im Passagehof statt – von Rock über Pop bis zu ents
	pannten Sounds. Zusätzlich wird es an beiden Tagen Main Acts geben, die no
	ch angekündigt werden und für besondere Highlights sorgen.</p><p>Dazu gibt
	 es Street Food, kühle Drinks und eine entspannte Festivalatmosphäre – <st
	rong>der Eintritt ist frei!</strong></p><p>Kommt vorbei und feiert mit uns
	 zwei Tage voller Musik, Begegnung und guter Laune beim Kaiser-Passage-Hof
	fest 2025!</p>
BEGIN:VALARM
ACTION:DISPLAY
DESCRIPTION:Kaiser-Passage-Hoffest
TRIGGER:-PT1H
END:VALARM
END:VEVENT
END:VCALENDAR
