BEGIN:VCALENDAR
VERSION:2.0
CALSCALE:GREGORIAN
PRODID:adamgibbons/ics
METHOD:PUBLISH
X-PUBLISHED-TTL:PT1H
BEGIN:VEVENT
UID:390@keepkarlsruheboring.org
SUMMARY:Kaltes Wasser Blau
DTSTAMP:20260423T102258Z
DTSTART:20250918T160000Z
DTEND:20250920T190000Z
DESCRIPTION:VERNISSAGE:\n\n\nDonnerstag 18. September 2025 von 18:00 bis 21
	:00 Uhr\n\nMit:\nBastian Börsig\nMax Bosch\nLil Rosa Grimm\nJana Gruszenin
	ks\nCatalena Janitz\nJohn Louis Jordan\nMathieu Klockenbring\nPaul Richter
	\nJulia Schiffer\nYannick Schmidt\nTammo Thomas\nFlorie Windelberg\n\nÖffn
	ungszeiten:\nFreitag & Samstag von 11:00 bis 18:00 Uhr\n\n
URL:https://keepkarlsruheboring.org/event/kaltes-wasser-blau
GEO:49.0101;8.37958
LOCATION:Schillerstraße Studio - 6\, Schillerstraße\, Weststadt Südlicher T
	eil\, Weststadt\, Karlsruhe\, Baden-Württemberg\, 76135\, Deutschland
STATUS:CONFIRMED
CATEGORIES:Art,Kunstakademie
X-ALT-DESC;FMTTYPE=text/html:<h1>Vernissage: </h1><p><br>Donnerstag 18. Sep
	tember 2025 von 18:00 bis 21:00 Uhr<br><br>Mit:<br>Bastian Börsig<br>Max B
	osch<br>Lil Rosa Grimm <br>Jana Gruszeninks <br>Catalena Janitz <br>John L
	ouis Jordan <br>Mathieu Klockenbring <br>Paul Richter <br>Julia Schiffer <
	br>Yannick Schmidt <br>Tammo Thomas <br>Florie Windelberg<br><br>Öffnungsz
	eiten:<br>Freitag &amp; Samstag von 11:00 bis 18:00 Uhr<br><br></p>
BEGIN:VALARM
ACTION:DISPLAY
DESCRIPTION:Kaltes Wasser Blau
TRIGGER:-PT1H
END:VALARM
END:VEVENT
END:VCALENDAR
