BEGIN:VCALENDAR
VERSION:2.0
CALSCALE:GREGORIAN
PRODID:adamgibbons/ics
METHOD:PUBLISH
X-PUBLISHED-TTL:PT1H
BEGIN:VEVENT
UID:1086@keepkarlsruheboring.org
SUMMARY:KaLUG (Karlsruhe Linux User Group)
DTSTAMP:20260423T102328Z
DTSTART:20260223T180000Z
DTEND:20260223T220000Z
DESCRIPTION:Herzlich Willkommen bei der Karlsruhe Linux User Group (KaLUG)!
	Vielen Dank für\nDein Interesse\, Gäste und Interessierte sind immer willk
	ommen!Wir hoffen Dich\nbei einem unserer Treffen begrüßen zu können.Wir tr
	effen uns immer am letzten\nMontag im Monat um 19 Uhr.Das Treffen findet i
	mmer statt.www.kalug.de\n[http://statt.www.kalug.de]
URL:https://keepkarlsruheboring.org/event/kalug-karlsruhe-linux-user-group-
	1
LOCATION:Kneipe Schwarzer Kater - Kreuzstraße 10\, 76133 Karlsruhe
STATUS:CONFIRMED
CATEGORIES:Linux,Technology
X-ALT-DESC;FMTTYPE=text/html:Herzlich Willkommen bei der Karlsruhe Linux Us
	er Group (KaLUG)!Vielen Dank für Dein Interesse, Gäste und Interessierte s
	ind immer willkommen!Wir hoffen Dich bei einem unserer Treffen begrüßen zu
	 können.Wir treffen uns immer am letzten Montag im Monat um 19 Uhr.Das Tre
	ffen findet immer <a href="http://statt.www.kalug.de" target="_blank">stat
	t.www.kalug.de</a>
BEGIN:VALARM
ACTION:DISPLAY
DESCRIPTION:KaLUG (Karlsruhe Linux User Group)
TRIGGER:-PT1H
END:VALARM
END:VEVENT
END:VCALENDAR
