BEGIN:VCALENDAR
VERSION:2.0
CALSCALE:GREGORIAN
PRODID:adamgibbons/ics
METHOD:PUBLISH
X-PUBLISHED-TTL:PT1H
BEGIN:VEVENT
UID:143@keepkarlsruheboring.org
SUMMARY:Karlsruhe Jazzfestival 2025 [? €]
DTSTAMP:20260423T104835Z
DTSTART:20250916T180000Z
DTEND:20250920T215900Z
DESCRIPTION:JAZZFESTIVAL 2025 – PROGRAMMÜBERSICHT\n[https://www.jazzclub.de
	/event/jazzfestival-2025/]\n\nOnline Tickets werden bald freigeschaltet.\n
	\nDAY 1 – JazzDiscovery\n16.10.2025\n\nDen Auftakt unseres Festivals macht
	 JazzDiscovery – eine Herzensangelegenheit\nund Bühne für neue Stimmen im 
	Jazz. Die Reihe widmet sich mit großer\nWertschätzung dem künstlerischen N
	achwuchs und schafft einen Raum\, in dem junge\nTalente ihr Potenzial entf
	alten und das Publikum mit frischen Impulsen\nbegeistern können.\n\n20:00 
	Uhr – Hyperbloom [https://www.jazzclub.de/event/hyperbloom/]\n22:00 Uhr – 
	Jill Pappert Septett\n[https://www.jazzclub.de/event/jil-pappert-septett/]
	\n\nDAY 2\n17.10.2025\n\n20:00 Uhr – Olivia Trummer Trio\n[https://www.jaz
	zclub.de/event/olivia-trummer-trio/]\n22:00 Uhr – Lisa Wulff Quartett\n[ht
	tps://www.jazzclub.de/event/lisa-wulff-quartett/]\n\nDAY 3\n18.10.2025\n\n
	20:00 Uhr – Lotus Flower Trio [https://www.jazzclub.de/event/lotus-flower-
	trio/]\n22:00 Uhr – daoud [https://www.jazzclub.de/event/daoud/]\n\nDAY 4 
	– Jazz4Kids\n19.10.2025\n\n15:00 Uhr – Groovetrotters [https://www.jazzclu
	b.de/event/groovetrotters/]\n\nDAY 5 – JazzClassix Spezial\n20.10.2025\n\n
	20:00 Uhr – Ain’t It Funky Now\n[https://www.jazzclub.de/event/aint-it-fun
	ky-now/]
URL:https://keepkarlsruheboring.org/event/karlsruhe-jazzfestival-2025-euro
GEO:49.0106;8.39686
LOCATION:Jazz Club Karlsruhe - 6\, Kaiserpassage\, Innenstadt-West Östliche
	r Teil\, Innenstadt-West\, Karlsruhe\, Baden-Württemberg\, 76133\, Deutsch
	land
STATUS:CONFIRMED
CATEGORIES:Festival,Jazz,Music,Ticket
X-ALT-DESC;FMTTYPE=text/html:<h2><a href="https://www.jazzclub.de/event/jaz
	zfestival-2025/" target="_blank">Jazzfestival 2025 – Programmübersicht</a>
	</h2><p><em>Online Tickets werden bald freigeschaltet.</em></p><p><strong>
	DAY 1 – JazzDiscovery</strong><br>16.10.2025</p><p>Den Auftakt unseres Fes
	tivals macht <em>JazzDiscovery</em> – eine Herzensangelegenheit und Bühne 
	für neue Stimmen im Jazz. Die Reihe widmet sich mit großer Wertschätzung d
	em künstlerischen Nachwuchs und schafft einen Raum, in dem junge Talente i
	hr Potenzial entfalten und das Publikum mit frischen Impulsen begeistern k
	önnen.</p><p>20:00 Uhr – <a href="https://www.jazzclub.de/event/hyperbloom
	/" target="_blank">Hyperbloom</a><br>22:00 Uhr – <a href="https://www.jazz
	club.de/event/jil-pappert-septett/" target="_blank">Jill Pappert Septett</
	a></p><p><strong>DAY 2</strong><br>17.10.2025</p><p>20:00 Uhr – <a href="h
	ttps://www.jazzclub.de/event/olivia-trummer-trio/" target="_blank">Olivia 
	Trummer Trio</a><br>22:00 Uhr – <a href="https://www.jazzclub.de/event/lis
	a-wulff-quartett/" target="_blank">Lisa Wulff Quartett</a></p><p><strong>D
	AY 3</strong><br>18.10.2025</p><p>20:00 Uhr – <a href="https://www.jazzclu
	b.de/event/lotus-flower-trio/" target="_blank">Lotus Flower Trio</a><br>22
	:00 Uhr – <a href="https://www.jazzclub.de/event/daoud/" target="_blank">d
	aoud</a></p><p><strong>DAY 4 – Jazz4Kids</strong><br>19.10.2025</p><p>15:0
	0 Uhr – <a href="https://www.jazzclub.de/event/groovetrotters/" target="_b
	lank">Groovetrotters</a></p><p><strong>DAY 5 – JazzClassix Spezial</strong
	><br>20.10.2025</p><p>20:00 Uhr – <a href="https://www.jazzclub.de/event/a
	int-it-funky-now/" target="_blank">Ain’t It Funky Now</a></p>
BEGIN:VALARM
ACTION:DISPLAY
DESCRIPTION:Karlsruhe Jazzfestival 2025 [? €]
TRIGGER:-PT1H
END:VALARM
END:VEVENT
END:VCALENDAR
