BEGIN:VCALENDAR
VERSION:2.0
CALSCALE:GREGORIAN
PRODID:adamgibbons/ics
METHOD:PUBLISH
X-PUBLISHED-TTL:PT1H
BEGIN:VEVENT
UID:1084@keepkarlsruheboring.org
SUMMARY:Karlsruher DI.DAY im TRIANGEL
DTSTAMP:20260423T102458Z
DTSTART:20260301T130000Z
DTEND:20260301T170000Z
DESCRIPTION:Freue dich auf Spaß MIT digitaler Verantwortung\, Demokratie\, 
	netten Menschen und\nOHNE Zuckerberg\, Musk & Co.\nEin Großteil unseres di
	gitalen Lebens wird von einigen wenigen bestimmt – das\neinzig gute daran?
	 Du kannst das easy ändern!\n\nDer DI Day beginnt mit einem kurzen\, verst
	ändlichen Impuls zu aktuellen\nDigitalthemen vom Entropia e.V. und danach 
	geht´s an die Geräte: An\nThementischen kannst du gemeinsam mit anderen un
	d mit Unterstützung erfahrener\nMenschen demokratiefreundliche Apps\, Plat
	tformen und Systeme vom Betriebssystem\nLinux bis zum föderierten Sozialen
	 Netzwerk Mastodon und noch mehr ausprobieren.\n\n👉 Bring dafür am besten 
	dein eigenes Gerät (Laptop\, Tablet oder Smartphone)\nmit. Vorkenntnisse s
	ind nicht erforderlich.\n\nDie Räume sind ebenerdig zugänglich. Es gibt ei
	n rollstuhlgerechtes\nWC\, Rückzugsmöglichkeiten sowie eine kleine Wohlfüh
	lbox mit Wärmekissen\, Fidget\nToys und Gehörschutz.\n\n👉 weitere Infos fi
	ndest du über den Link in unserer Bio.\n\nDieser DI Day ist eine Zusammena
	rbeit von Entropia e.V.\, dem KIT-Zentrum Mensch\nund Technik sowie dem TR
	IANGEL Transfer | Kultur | Raum.\n\nBrought to you by @kitkarlsruhe
URL:https://keepkarlsruheboring.org/event/karlsruher-diday-im-triangel
GEO:49.0093;8.40887
LOCATION:Triangel - Kaiserstraße 93\, 76133 Karlsruhe
STATUS:CONFIRMED
CATEGORIES:DI.day,Technology
X-ALT-DESC;FMTTYPE=text/html:<p>Freue dich auf&nbsp;Spaß MIT digitaler Vera
	ntwortung, Demokratie, netten Menschen und OHNE Zuckerberg, Musk &amp; Co.
	<br>Ein Großteil unseres digitalen Lebens wird von einigen wenigen bestimm
	t – das einzig gute daran? Du kannst das easy ändern!<br><br>Der DI Day be
	ginnt mit einem kurzen, verständlichen Impuls zu aktuellen Digitalthemen&n
	bsp;vom Entropia e.V. und danach geht´s an die Geräte: An Thementischen ka
	nnst du gemeinsam mit anderen und mit Unterstützung erfahrener Menschen de
	mokratiefreundliche Apps, Plattformen und Systeme&nbsp;vom Betriebssystem 
	Linux bis zum föderierten Sozialen Netzwerk Mastodon und noch mehr&nbsp;au
	sprobieren.<br><br>👉 Bring dafür&nbsp;am besten&nbsp;dein eigenes Gerät (L
	aptop, Tablet oder Smartphone) mit. Vorkenntnisse sind nicht erforderlich.
	<br><br>Die Räume sind ebenerdig zugänglich. Es gibt ein rollstuhlgerechte
	s WC,&nbsp;Rückzugsmöglichkeiten sowie eine kleine Wohlfühlbox mit Wärmeki
	ssen, Fidget Toys und Gehörschutz.<br><br>👉&nbsp;weitere Infos findest du 
	über den Link in unserer Bio.<br><br><strong>Dieser DI Day ist eine Zusamm
	enarbeit von Entropia e.V., dem KIT-Zentrum Mensch und Technik sowie dem T
	RIANGEL Transfer | Kultur | Raum.</strong><br><br>Brought to you by @kitka
	rlsruhe</p>
BEGIN:VALARM
ACTION:DISPLAY
DESCRIPTION:Karlsruher DI.DAY im TRIANGEL
TRIGGER:-PT1H
END:VALARM
END:VEVENT
END:VCALENDAR
