BEGIN:VCALENDAR
VERSION:2.0
CALSCALE:GREGORIAN
PRODID:adamgibbons/ics
METHOD:PUBLISH
X-PUBLISHED-TTL:PT1H
BEGIN:VEVENT
UID:1341@keepkarlsruheboring.org
SUMMARY:Karlsruher Digital Independence Day im ZKM
DTSTAMP:20260423T104722Z
DTSTART:20260419T100000Z
DTEND:20260419T140000Z
DESCRIPTION:19.04.2026\, 12-16 Uhr\, ZKM Karlsruhe Medialounge\n\nSeit Janu
	ar 2026 finden in ganz Deutschland Digital Independence Days (DI.Days)\nst
	att. An DI.Days kommen wir zusammen und holen uns unser digitales Leben zu
	rück\n— frei von Monopolen\, dezentral und demokratiefreundlich. Dabei wer
	den\npraxisnahe Beispiele gezeigt\, wie man in kleinen Schritten unabhängi
	g von den\nLösungen digitaler Großkonzerne wird: Wie kann ich WhatsApp ers
	etzen und meine\nDaten schützen? Welche Alternativen gibt es zu Facebook u
	nd Instagram? Wie kann\nich von Windows und Apple  auf Linux umsteigen? Vi
	ele weitere Umstiegsrezepte\nfinden sich auch auf der Webseite der Initiat
	ive unter www.di.day\n[http://www.di.day].\n\nIn der Medialounge des ZKM v
	eranstaltet das Medienkompetenz Team e.V. zusammen\nmit dem Entropia e.V. 
	[https://entropia.de/] und dem KIT-Zentrum Mensch und\nTechnik [https://ww
	w.mensch-und-technik.kit.edu/index.php] am 19.04.2026 von\n12-16 Uhr den n
	ächsten Digital Independence Day in Karlsruhe. Der DI.Day\n[http://DI.Day]
	 startet mit einer kurzen Einführung in das Thema digitale\nUnabhängigkeit
	. Im Anschluss können Erfahrungen ausgetauscht werden und an\nzahlreichen 
	Stationen alternative Lösungen ausprobiert werden:\n\n * Betriebssysteme f
	ür Computer\n\n * Apps und Software\, wie z.B. Mail- und Büroprogramme\, S
	uchmaschinen\, Browser\,\n   Bild- und Videobearbeitung\, Navigation\n\n *
	 Alternativen zu WhatsApp\n\n * Alternativen zu den Social Media Platforme
	n Instagram\, X oder Facebook\n\n * Digital Zusammenarbeiten\n\n * Gaming 
	unter Linux\n\nBringt gerne eure eigenen Geräte mit. Wir unterstützen euch
	 bei der Installation\nund Einrichtung und geben euch Tipps\, wo ihr in Ka
	rlsruhe weitere Anlaufstellen\nfür euren Wechsel zu unabhängigen Lösungen 
	findet.
URL:https://keepkarlsruheboring.org/event/karlsruher-digital-independence-d
	ay-im-zkm
LOCATION:ZKM - Lorenzstraße 19\, 76135 Karlsruhe
STATUS:CONFIRMED
CATEGORIES:Technology,Vortrag,Workshop
X-ALT-DESC;FMTTYPE=text/html:<p><strong>19.04.2026, 12-16 Uhr, ZKM Karlsruh
	e Medialounge</strong></p><p>Seit Januar 2026 finden in ganz Deutschland D
	igital Independence Days (DI.Days) statt. An DI.Days kommen wir zusammen u
	nd holen uns unser digitales Leben zurück — frei von Monopolen, dezentral 
	und demokratiefreundlich. Dabei werden praxisnahe Beispiele gezeigt, wie m
	an in kleinen Schritten unabhängig von den Lösungen digitaler Großkonzerne
	 wird: Wie kann ich WhatsApp ersetzen und meine Daten schützen? Welche Alt
	ernativen gibt es zu Facebook und Instagram? Wie kann ich von Windows und 
	Apple&nbsp; auf Linux umsteigen? Viele weitere Umstiegsrezepte finden sich
	 auch auf der Webseite der Initiative unter <a href="http://www.di.day" ta
	rget="_blank">www.di.day</a>.</p><p>In der Medialounge des ZKM veranstalte
	t das Medienkompetenz Team e.V. zusammen mit dem <a href="https://entropia
	.de/" target="_blank">Entropia e.V.</a> und dem <a href="https://www.mensc
	h-und-technik.kit.edu/index.php" target="_blank">KIT-Zentrum Mensch und Te
	chnik</a> am 19.04.2026 von 12-16 Uhr den nächsten Digital Independence Da
	y in Karlsruhe. Der <a href="http://DI.Day" target="_blank">DI.Day</a> sta
	rtet mit einer kurzen Einführung in das Thema digitale Unabhängigkeit. Im 
	Anschluss können Erfahrungen ausgetauscht werden und an zahlreichen Statio
	nen alternative Lösungen ausprobiert werden:</p><ul><li><p>Betriebssysteme
	 für Computer</p></li><li><p>Apps und Software, wie z.B. Mail- und Büropro
	gramme, Suchmaschinen, Browser, Bild- und Videobearbeitung, Navigation</p>
	</li><li><p>Alternativen zu WhatsApp</p></li><li><p>Alternativen zu den So
	cial Media Platformen Instagram, X oder Facebook</p></li><li><p>Digital Zu
	sammenarbeiten</p></li><li><p>Gaming unter Linux</p></li></ul><p>Bringt ge
	rne eure eigenen Geräte mit. Wir unterstützen euch bei der Installation un
	d Einrichtung und geben euch Tipps, wo ihr in Karlsruhe weitere Anlaufstel
	len für euren Wechsel zu unabhängigen Lösungen findet.</p>
BEGIN:VALARM
ACTION:DISPLAY
DESCRIPTION:Karlsruher Digital Independence Day im ZKM
TRIGGER:-PT1H
END:VALARM
END:VEVENT
END:VCALENDAR
