BEGIN:VCALENDAR
VERSION:2.0
CALSCALE:GREGORIAN
PRODID:adamgibbons/ics
METHOD:PUBLISH
X-PUBLISHED-TTL:PT1H
BEGIN:VEVENT
UID:409@keepkarlsruheboring.org
SUMMARY:Karlsruher Green Vibes:  Klima\, Wandel\, deine Stadt
DTSTAMP:20260423T104855Z
DTSTART:20251011T083000Z
DTEND:20251011T103000Z
DESCRIPTION:Offene Stadtrundgänge „Karlsruher Green Vibes: Klima\, Wandel\,
	 deine Stadt\n\n11.10.25 | 10:30-12:30 Uhr| Treffpunkt am Kronenplatz\n\nS
	eit Anfang des Jahres haben wir die Stadtrundgänge von KonsumGlobal überno
	mmen\,\ndamit dieses tolle Angebot weitergehen kann. Nun sind wir endlich 
	bereit und\nmöchten zusammen mit Euch\, Orte des Wandels erkunden und entd
	ecken\, was sich\nhier hinsichtlich Klimaschutz\, Mobilitätswende und nach
	haltiger Konsum in\nKarlsruhe bewegt. Wie verändert das unsere Stadt und w
	ie wappnet sie sich für\ndie Zukunft?\n\nLass dich inspirieren von Projekt
	en und Möglichkeiten und erfahre\, wie du selbst\nTeil des Wandels sein ka
	nnst!\n\nAnmeldung per Mail erwünscht [https://glow-karlsruhe.org/kontakt/
	]
URL:https://keepkarlsruheboring.org/event/karlsruher-green-vibes-klima-wand
	el-deine-stadt
GEO:49.0086;8.40919
LOCATION:Kronenplatz - Innenstadt-Ost\, Karlsruhe\, Baden-Württemberg\, 761
	33\, Deutschland
STATUS:CONFIRMED
CATEGORIES:City Walk,Ecology,Registration required
X-ALT-DESC;FMTTYPE=text/html:<p>Offene Stadtrundgänge „Karlsruher Green Vib
	es: Klima, Wandel, deine Stadt </p><p>11.10.25 | 10:30-12:30 Uhr| Treffpun
	kt am Kronenplatz</p><p>Seit Anfang des Jahres haben wir die Stadtrundgäng
	e von KonsumGlobal übernommen, damit dieses tolle Angebot weitergehen kann
	. Nun sind wir endlich bereit und möchten zusammen mit Euch, Orte des Wand
	els erkunden und entdecken, was sich hier hinsichtlich Klimaschutz, Mobili
	tätswende und nachhaltiger Konsum in Karlsruhe bewegt. Wie verändert das u
	nsere Stadt und wie wappnet sie sich für die Zukunft?</p><p>Lass dich insp
	irieren von Projekten und Möglichkeiten und erfahre, wie du selbst Teil de
	s Wandels sein kannst!</p><p><a href="https://glow-karlsruhe.org/kontakt/"
	 target="_blank">Anmeldung per Mail erwünscht</a></p>
BEGIN:VALARM
ACTION:DISPLAY
DESCRIPTION:Karlsruher Green Vibes:  Klima, Wandel, deine Stadt
TRIGGER:-PT1H
END:VALARM
END:VEVENT
END:VCALENDAR
