BEGIN:VCALENDAR
VERSION:2.0
CALSCALE:GREGORIAN
PRODID:adamgibbons/ics
METHOD:PUBLISH
X-PUBLISHED-TTL:PT1H
BEGIN:VEVENT
UID:11@keepkarlsruheboring.org
SUMMARY:Kein Nazi-Aufmarsch
DTSTAMP:20260423T090426Z
DTSTART:20250426T080000Z
DESCRIPTION:Am 26.04. stehen die nächsten bundesweiten Demonstrationen aus 
	dem rechten Rand\ndes Querdenker-Spektrums an. In Baden-Württemberg finden
	 diese in Karlsruhe und\nReutlingen statt. Wie am 22.03. in Stuttgart scho
	n zu sehen war\, werden vor\nallem junge Neonazi-Gruppen diese Gelegenheit
	 nutzen\, um öffentlich aufzutreten\nund ihre Hetze zu verbreiten.\n\nDas 
	werden wir nicht unwidersprochen zulassen! Haltet euch den 26.04. frei.\nW
	eitere Infos folgen! [https://de.indymedia.org/node/501743https://]\n\nhtt
	ps://oatkarlsruhe.wordpress.com/ [https://oatkarlsruhe.wordpress.com/]
URL:https://keepkarlsruheboring.org/event/kein-nazi-aufmarsch
GEO:49.0111;8.40413
LOCATION:Karlsruhe Schlossplatz - Schlossplatz\, Innenstadt-West Östlicher 
	Teil\, Innenstadt-West\, Karlsruhe\, Baden-Württemberg\, 76131\, Deutschla
	nd
STATUS:CONFIRMED
CATEGORIES:Antifa,Demonstration
X-ALT-DESC;FMTTYPE=text/html:<p>Am 26.04. stehen die nächsten bundesweiten 
	Demonstrationen aus dem rechten Rand des Querdenker-Spektrums an. In Baden
	-Württemberg finden diese in Karlsruhe und Reutlingen statt. Wie am 22.03.
	 in Stuttgart schon zu sehen war, werden vor allem junge Neonazi-Gruppen d
	iese Gelegenheit nutzen, um öffentlich aufzutreten und ihre Hetze zu verbr
	eiten.</p><p><a target="_blank" href="https://de.indymedia.org/node/501743
	https://">Das werden wir nicht unwidersprochen zulassen! Haltet euch den 2
	6.04. frei.<br>Weitere Infos folgen!</a></p><p><a target="_blank" href="ht
	tps://oatkarlsruhe.wordpress.com/">https://oatkarlsruhe.wordpress.com/</a>
	</p>
BEGIN:VALARM
ACTION:DISPLAY
DESCRIPTION:Kein Nazi-Aufmarsch
TRIGGER:-PT1H
END:VALARM
END:VEVENT
END:VCALENDAR
