BEGIN:VCALENDAR
VERSION:2.0
CALSCALE:GREGORIAN
PRODID:adamgibbons/ics
METHOD:PUBLISH
X-PUBLISHED-TTL:PT1H
BEGIN:VEVENT
UID:414@keepkarlsruheboring.org
SUMMARY:Kein Palantir in Baden-Württemberg!
DTSTAMP:20260423T104722Z
DTSTART:20251004T101500Z
DESCRIPTION:Am Samstag 04. Oktober um 14:00 Uhr versammeln wir in Stuttgart
	 gemeinsam auf\ndem Schlossplatz\, um ein klares Zeichen zu setzen: Keinen
	 Fuß in die Türe für\ndie Polizeisoftware von Palantir in Baden-Württember
	g! Nicht jetzt\, nicht\nspäter. Unsere Innere Sicherheit und kritische Inf
	rastruktur darf nicht abhängig\nvon solch zwielichtigen Firmen werden.\n\n
	Die Landesregierung plant\, mit Palantir ein System einzuführen\, das tief
	 in die\nPrivatsphäre der Bürgerschaft eingreift. Damit wird ein gefährlic
	her\nPräzedenzfall geschaffen.\nWir sagen: Grundrechte schützen statt Über
	wachung ausbauen!\n\n\nSEI DABEI – UND MOBILISIERE IN DEINEN NETZWERKEN!\n
	\nUnsere Socials für Aufrufe und aktuelle Infos: Instagram\n[https://www.i
	nstagram.com/kein_palantir_bw/]\, Signal\n[https://signal.group/#CjQKIDPyl
	SA1zmZ0vJ6ZO8xs8qxxJA3K00Q9wQWdgI-cj7quEhDvphyokhkWMoA1QWQjg6uO]\,\nMastod
	on [https://sueden.social/@kein_palantir_bw]\n\n\n\n\nWARUM ES WICHTIG IST
	:\n\n * Palantir steht weltweit für Überwachung\, Kontrolle und intranspar
	ente\n   Machtstrukturen.\n\n * Ein Einsatz in Baden-Württemberg gefährdet
	 die Souveränität der Bürgerschaft\n   und öffnet Tür und Tor für Missbrau
	ch.\n\n * Wir wollen ein freies\, demokratisches Land\, in dem Grundrechte
	 nicht durch\n   Sicherheitsfantasien ausgehöhlt werden.\n\n\n\nAlso: Komm
	 nach Stuttgart\, bring Leute mit\, teile den Aufruf in deinen Kanälen –\n
	zusammen sind wir stark!\n\nDamit viele von uns gemeinsam in Stuttgart sin
	d\, gibt es Treffpunkte in\nverschiedenen Städten zur gemeinsamen Anreise 
	mit den Öffis:\n\n * Freiburg – Treffpunkt 09:45 Uhr\, Hauptbahnhof\n\n * 
	Aalen – Treffpunkt 11:45\, Hauptbahnhof\n\n * Karlsruhe – Treffpunkt 12:15
	 Uhr\, Hauptbahnhof\n\n * Mannheim – Treffpunkt 11:15 Uhr\, Hauptbahnhof\n
	\n * Heidelberg – Treffpunkt 11:30 Uhr\, Hauptbahnhof\n\n * Heilbronn – Tr
	effpunkt 13:00 Uhr\, Hauptbahnhof\n\n * Herrenberg – Treffpunkt 13:00 Uhr\
	, Hauptbahnhof\n\n * Tübingen – Treffpunkt 12:15 Uhr\, Hauptbahnhof\n\n * 
	Reutlingen – Treffpunkt 12:30 Uhr\, Hauptbahnhof\n\n * Ulm – Treffpunkt 12
	:00 Uhr\, Hauptbahnhof
URL:https://keepkarlsruheboring.org/event/kein-palantir-in-baden-wurttember
	g
GEO:48.9934;8.4021
LOCATION:Karlsruhe Hbf - Karlsruhe Hbf
STATUS:CONFIRMED
CATEGORIES:Demonstration,Stuttgart,Technology
X-ALT-DESC;FMTTYPE=text/html:<p>Am <strong>Samstag 04. Oktober um 14:00 Uhr
	</strong> versammeln wir in <strong>Stuttgart</strong> gemeinsam auf dem S
	chlossplatz, um ein klares Zeichen zu setzen: <strong>Keinen Fuß in die Tü
	re für die Polizeisoftware von Palantir in Baden-Württemberg! Nicht jetzt,
	 nicht später. Unsere Innere Sicherheit und kritische Infrastruktur darf n
	icht abhängig von solch zwielichtigen Firmen werden.</strong></p><p>Die La
	ndesregierung plant, mit Palantir ein System einzuführen, das tief in die 
	Privatsphäre der Bürgerschaft eingreift. Damit wird ein gefährlicher Präze
	denzfall geschaffen. <br>Wir sagen:<strong> Grundrechte schützen statt Übe
	rwachung ausbauen!</strong></p><h3>Sei dabei – und mobilisiere in deinen N
	etzwerken!</h3><p>Unsere Socials für Aufrufe und aktuelle Infos: <a href="
	https://www.instagram.com/kein_palantir_bw/" target="_blank">Instagram</a>
	, <a href="https://signal.group/#CjQKIDPylSA1zmZ0vJ6ZO8xs8qxxJA3K00Q9wQWdg
	I-cj7quEhDvphyokhkWMoA1QWQjg6uO" target="_blank">Signal</a>, <a href="http
	s://sueden.social/@kein_palantir_bw" target="_blank">Mastodon</a></p><p></
	p><h3>Warum es wichtig ist:</h3><ul><li><p>Palantir steht weltweit für <st
	rong>Überwachung, Kontrolle und intransparente Machtstrukturen</strong>.</
	p></li><li><p>Ein Einsatz in Baden-Württemberg gefährdet die <strong>Souve
	ränität der Bürgerschaft</strong> und öffnet Tür und Tor für Missbrauch.</
	p></li><li><p>Wir wollen ein <strong>freies, demokratisches Land</strong>,
	 in dem Grundrechte nicht durch Sicherheitsfantasien ausgehöhlt werden.</p
	></li></ul><p></p><p><strong>Also: Komm nach Stuttgart, bring Leute mit, t
	eile den Aufruf in deinen Kanälen – zusammen sind wir stark!</strong></p><
	p>Damit viele von uns gemeinsam in Stuttgart sind, gibt es <strong>Treffpu
	nkte in verschiedenen Städten</strong> zur gemeinsamen Anreise mit den Öff
	is:</p><ul><li><p><strong>Freiburg</strong> – Treffpunkt 09:45 Uhr, Hauptb
	ahnhof</p></li><li><p><strong>Aalen</strong> – Treffpunkt 11:45, Hauptbahn
	hof</p></li><li><p><strong>Karlsruhe</strong> – Treffpunkt 12:15 Uhr, Haup
	tbahnhof</p></li><li><p><strong>Mannheim</strong> – Treffpunkt 11:15 Uhr, 
	Hauptbahnhof</p></li><li><p><strong>Heidelberg</strong> – Treffpunkt 11:30
	 Uhr, Hauptbahnhof</p></li><li><p><strong>Heilbronn </strong>– Treffpunkt 
	13:00 Uhr, Hauptbahnhof</p></li><li><p><strong>Herrenberg </strong>– Treff
	punkt 13:00 Uhr, Hauptbahnhof</p></li><li><p><strong>Tübingen</strong> – T
	reffpunkt 12:15 Uhr, Hauptbahnhof</p></li><li><p><strong>Reutlingen </stro
	ng>– Treffpunkt 12:30 Uhr, Hauptbahnhof</p></li><li><p><strong>Ulm</strong
	> – Treffpunkt 12:00 Uhr, Hauptbahnhof</p></li></ul>
BEGIN:VALARM
ACTION:DISPLAY
DESCRIPTION:Kein Palantir in Baden-Württemberg!
TRIGGER:-PT1H
END:VALARM
END:VEVENT
END:VCALENDAR
