BEGIN:VCALENDAR
VERSION:2.0
CALSCALE:GREGORIAN
PRODID:adamgibbons/ics
METHOD:PUBLISH
X-PUBLISHED-TTL:PT1H
BEGIN:VEVENT
UID:492@keepkarlsruheboring.org
SUMMARY:Kiesecker | Hoess (D) "THE TRUTH" [27 €]
DTSTAMP:20260423T102216Z
DTSTART:20251126T190000Z
DESCRIPTION:innovative Verbindung von Live-Performance & Videodokumentation
	\n\nTANZ Karlsruhe und ZKM präsentieren \n\nPremiere\n\nTHE TRUTH ist das 
	erste Mockumentary-Tanzstück des Choreografie-Duos KIESECKER |\nHOESS. Sei
	t 2019 arbeiten Sarah Kiesecker und Dominik Hoess an einer\ngleichberechti
	gten\, demokratischen Arbeitsweise – ihre choreografischen Prozesse\nsind 
	geprägt von intensivem Austausch\, physischer Präzision und performativer\
	nNeugier. Gemeinsam entwickeln sie eine Bewegungssprache\, bei der Präzisi
	on und\nSynchronität im Fokus stehen. Partnering und akrobatische Elemente
	 sind ebenso\nTeil der gemeinsamen Arbeit\, wie Unisonos und performative 
	Elemente.\n\nTHE TRUTH erkundet Schnittstellen von Choreografie\, Dokument
	ation &\nAuthentizität. Das Publikum erlebt choreografische Sequenzen\, je
	doch auch\nfilmische Szenen\, die auf die Rückwand projiziert werden und E
	inblicke in den\nEntstehungsprozess geben.\n\nInspiration für den anvisier
	ten Charakter des Stückes sind erfolgreiche\nMockumentary-Serien wie „The 
	Office“ oder „die Discounter“. Die Settings dieser\nSerien sind prekär und
	 fantasielos. Spannung entsteht durch soziale\nVerwerfungen\, die sich von
	 Folge zu Folge verdichten. Die stark verschobene\nSelbstansicht der Haupt
	charaktere wird ironisch zur Schau gestellt. In\nInterviews prahlen sie mi
	t Kompetenzen\, die sie in anderen Szenen offensichtlich\nüberhaupt nicht 
	erfüllen. Zentrale Themen sind der Dunning-Kruger-Effekt (krasse\nSelbstüb
	erschätzung) vs. Impostor-Syndrom (Selbstzweifel) – beides Phänomene\,\ndi
	e sich im Tanzbereich auffällig zeigen. Choreografische Arbeit als\nhochko
	mplexes (fachlich\, handwerklich\, künstlerisch & soziales) Aufgabenfeld\n
	stellt hohe Anforderungen an Resilienz & Selbstwirksamkeit der Beteiligten
	. KH\nverfolgen die Annahme\, dass eine Offenlegung des Kreationsprozesses
	 für das\nPublikum eine spannende Gemengelage offenbart.\n\nDie Performend
	en stellen sich die Frage nach „der Wahrheit“ – künstlerisch\,\npersönlich
	\, gesellschaftlich\, immer mit einer Portion Selbstironie. Intime\nProben
	prozesse werden als kondensiertes Feld sozialer Interaktion elementarer\nT
	eil des Endprodukts. Sie verweben sich mit fiktionalen Narrativen. Dabei s
	tellt\nsich die Frage: Was ist inszeniert\, was echt? Aufgrund des reißeri
	schen Titels\nvermutet man vielleicht einen Skandal\, der eine alternative
	 Wahrheit ans Licht\nbringt. \n\nDie Präsenz eines „Outside Eye“ spielt ei
	ne große Rolle – bei Proben die Kamera\,\nbei der Performance das Publikum
	. Die Kamera dokumentiert\, beeinflusst\,\nbeschränkt\, wird selbst zum Ak
	teur. Dabei entwickelt sich eine bisweilen\nbewertende Präsenz. Die Kluft 
	zwischen dem\, was in Proben passiert und den\ndazugehörigen Statements de
	r Choreograf*innen werden von dieser verborgenen\nInstanz hinterfragt. Das
	 Outside Eye versucht\, durch unangenehme Fragen in\nInterviewszenen\, der
	 Wahrheit auf die Schliche zu kommen.\n\nDie Inszenierung reflektiert die 
	wechselseitige Durchdringung von Leben und\nKunst. Ironie und Ernsthaftigk
	eit stehen gleichberechtigt nebeneinander. Ziel\nist keine bloße Bühnenäst
	hetik\, sondern eine kritische Reflexion über Rollen\,\nErwartungen und Ko
	nflikte innerhalb von künstlerischen Teams.\n\nStarke Stücke aus Baden-Wür
	ttemberg
URL:https://keepkarlsruheboring.org/event/kiesecker-or-hoess-d-the-truth
GEO:49.0013;8.3836
LOCATION:ZKM | Zentrum für Kunst und Medien Karlsruhe - Lorenzstr. 19\, D-7
	6135 Karlsruhe
STATUS:CONFIRMED
CATEGORIES:Dance,Mockumentary,TANZ Karlsruhe 2025,Tanzfestival 2025,Ticket
X-ALT-DESC;FMTTYPE=text/html:<p><strong>innovative Verbindung von Live-Perf
	ormance &amp; Videodokumentation</strong></p><p>TANZ Karlsruhe und ZKM prä
	sentieren&nbsp;</p><p>Premiere</p><p>THE TRUTH ist das erste Mockumentary-
	Tanzstück des Choreografie-Duos KIESECKER | HOESS. Seit 2019 arbeiten Sara
	h Kiesecker und Dominik Hoess an einer gleichberechtigten, demokratischen 
	Arbeitsweise – ihre choreografischen Prozesse sind geprägt von intensivem 
	Austausch, physischer Präzision und performativer Neugier. Gemeinsam entwi
	ckeln sie eine Bewegungssprache, bei der Präzision und Synchronität im Fok
	us stehen. Partnering und akrobatische Elemente sind ebenso Teil der gemei
	nsamen Arbeit, wie Unisonos und performative Elemente.</p><p>THE TRUTH erk
	undet Schnittstellen von Choreografie, Dokumentation &amp; Authentizität. 
	Das Publikum erlebt choreografische Sequenzen, jedoch auch filmische Szene
	n, die auf die Rückwand projiziert werden und Einblicke in den Entstehungs
	prozess geben.</p><p>Inspiration für den anvisierten Charakter des Stückes
	 sind erfolgreiche Mockumentary-Serien wie „The Office“ oder „die Discount
	er“. Die Settings dieser Serien sind prekär und fantasielos. Spannung ents
	teht durch soziale Verwerfungen, die sich von Folge zu Folge verdichten. D
	ie stark verschobene Selbstansicht der Hauptcharaktere wird ironisch zur S
	chau gestellt. In Interviews prahlen sie mit Kompetenzen, die sie in ander
	en Szenen offensichtlich überhaupt nicht erfüllen. Zentrale Themen sind de
	r Dunning-Kruger-Effekt (krasse Selbstüberschätzung) vs. Impostor-Syndrom 
	(Selbstzweifel) – beides Phänomene, die sich im Tanzbereich auffällig zeig
	en. Choreografische Arbeit als hochkomplexes (fachlich, handwerklich, küns
	tlerisch &amp; soziales) Aufgabenfeld stellt hohe Anforderungen an Resilie
	nz &amp; Selbstwirksamkeit der Beteiligten. KH verfolgen die Annahme, dass
	 eine Offenlegung des Kreationsprozesses für das Publikum eine spannende G
	emengelage offenbart.</p><p>Die Performenden stellen sich die Frage nach „
	der Wahrheit“ – künstlerisch, persönlich, gesellschaftlich, immer mit eine
	r Portion Selbstironie. Intime Probenprozesse werden als kondensiertes Fel
	d sozialer Interaktion elementarer Teil des Endprodukts. Sie verweben sich
	 mit fiktionalen Narrativen. Dabei stellt sich die Frage: Was ist inszenie
	rt, was echt? Aufgrund des reißerischen Titels vermutet man vielleicht ein
	en Skandal, der eine alternative Wahrheit ans Licht bringt.&nbsp;</p><p>Di
	e Präsenz eines „Outside Eye“ spielt eine große Rolle – bei Proben die Kam
	era, bei der Performance das Publikum. Die Kamera dokumentiert, beeinfluss
	t, beschränkt, wird selbst zum Akteur. Dabei entwickelt sich eine bisweile
	n bewertende Präsenz. Die Kluft zwischen dem, was in Proben passiert und d
	en dazugehörigen Statements der Choreograf*innen werden von dieser verborg
	enen Instanz hinterfragt. Das Outside Eye versucht, durch unangenehme Frag
	en in Interviewszenen, der Wahrheit auf die Schliche zu kommen.</p><p>Die 
	Inszenierung reflektiert die wechselseitige Durchdringung von Leben und Ku
	nst. Ironie und Ernsthaftigkeit stehen gleichberechtigt nebeneinander. Zie
	l ist keine bloße Bühnenästhetik, sondern eine kritische Reflexion über Ro
	llen, Erwartungen und Konflikte innerhalb von künstlerischen Teams.</p><p>
	Starke Stücke aus Baden-Württemberg</p>
BEGIN:VALARM
ACTION:DISPLAY
DESCRIPTION:Kiesecker | Hoess (D) "THE TRUTH" [27 €]
TRIGGER:-PT1H
END:VALARM
END:VEVENT
END:VCALENDAR
