BEGIN:VCALENDAR
VERSION:2.0
CALSCALE:GREGORIAN
PRODID:adamgibbons/ics
METHOD:PUBLISH
X-PUBLISHED-TTL:PT1H
BEGIN:VEVENT
UID:39@keepkarlsruheboring.org
SUMMARY:Kiezblocks Karlsruhe – Allgemeines Treffen
DTSTAMP:20260423T104715Z
DTSTART:20250508T170000Z
DTEND:20250508T190000Z
DESCRIPTION:Wir sind eine Initiative ehrenamtlich Engagierter aus verschied
	enen Karlsruher\nStadtteilen. Uns verbindet der innige Wunsch die Verkehrs
	wende mit dem Konzept\nder Superblocks bzw. Kiezblocks in den Karlsruher W
	ohnquartieren umzusetzen.\n\nWir vernetzen uns in Karlsruhe mit anderen Ak
	teuren – besonders aus den\njeweiligen Stadtteilen\, um die Konzepte gemei
	nsam mit der Bevölkerung zu\nerarbeiten.\n\nGegründet Ende 2022\, konnten 
	wir bereits im Juni 2023 ein großes Fest der\nBegegnung auf der Hirschbrüc
	ke ausrichten. Im selben Jahr sind wir dem Verein\nChanging Cities e. V. a
	ls Projekt beigetreten und sind seither mit anderen\nSuperblock-Initiative
	n innerhalb Deutschlands vernetzt.\n\nWir freuen uns sehr\, wenn sich weit
	ere Personen bei uns engagieren möchten\n[https://ka-kiezblocks.de/mitmach
	en/].
URL:https://keepkarlsruheboring.org/event/kiezblocks-karlsruhe-allgemeines-
	treffen
GEO:49.0005;8.40833
LOCATION:Marienstraße\, 55 - 55\, Marienstraße\, Südstadt Nördlicher Teil\,
	 Südstadt\, Karlsruhe\, Baden-Württemberg\, 76137\, Deutschland
STATUS:CONFIRMED
CATEGORIES:Ecology,Kiezblocks,Meeting,Politics
X-ALT-DESC;FMTTYPE=text/html:<p>Wir sind eine Initiative ehrenamtlich Engag
	ierter aus verschiedenen Karlsruher Stadtteilen. Uns verbindet der innige 
	Wunsch die Verkehrswende mit dem Konzept der Superblocks bzw. Kiezblocks i
	n den Karlsruher Wohnquartieren umzusetzen.</p><p>Wir vernetzen uns in Kar
	lsruhe mit anderen Akteuren – besonders aus den jeweiligen Stadtteilen, um
	 die Konzepte gemeinsam mit der Bevölkerung zu erarbeiten.</p><p>Gegründet
	 Ende 2022, konnten wir bereits im Juni 2023 ein großes Fest der Begegnung
	 auf der Hirschbrücke ausrichten. Im selben Jahr sind wir dem Verein Chang
	ing Cities e. V. als Projekt beigetreten und sind seither mit anderen Supe
	rblock-Initiativen innerhalb Deutschlands vernetzt.</p><p>Wir freuen uns s
	ehr, wenn sich weitere Personen <a target="_blank" href="https://ka-kiezbl
	ocks.de/mitmachen/">bei uns engagieren möchten</a>.</p>
BEGIN:VALARM
ACTION:DISPLAY
DESCRIPTION:Kiezblocks Karlsruhe – Allgemeines Treffen
TRIGGER:-PT1H
END:VALARM
END:VEVENT
END:VCALENDAR
