BEGIN:VCALENDAR
VERSION:2.0
CALSCALE:GREGORIAN
PRODID:adamgibbons/ics
METHOD:PUBLISH
X-PUBLISHED-TTL:PT1H
BEGIN:VEVENT
UID:1100@keepkarlsruheboring.org
SUMMARY:KLANGWERK (Jamsession)
DTSTAMP:20260423T102217Z
DTSTART:20260227T180000Z
DTEND:20260227T210000Z
DESCRIPTION:Wir laden euch ein zum KLANGWERK:\nEs ist wieder Zeit für unser
	e Jamsession im NUN!\n\nWANN DENN NUN?\nFreitag\, 27. Februar 2026 ab 19:0
	0 Uhr\n\nWO DENN NUN?\nCafé NUN\, Gottesauer Straße 35\, Karlsruhe\n\n++ E
	intritt frei ++\n\nUnsere Bühne steht offen: Musikerinnen und Musiker sind
	 herzlich eingeladen\, an\nunserer offenen Jamsession teilzunehmen.\nBring
	t eure Instrumente mit\, interpretiert eigene Stücke oder spielt eure\nLie
	blingssongs – im Mittelpunkt steht die Freude am gemeinsamen Musizieren un
	d\nder Austausch unter Gleichgesinnten.\n\nAuch Gäste\, die nicht selbst m
	usizieren\, sind willkommen und können den Abend in\nentspannter Atmosphär
	e an unserer Bar genießen.\n\nHinweis zur Durchführung:\nDa sich das NUN i
	n einem Wohngebäude befindet\, endet die Jamsession um 22 Uhr.\nZudem bitt
	en wir um Rücksichtnahme hinsichtlich der Lautstärke – daher es gibt\neine
	 Cajón\, aber kein Schlagzeug und es darf nur in moderater Lautstärke\nges
	pielt und gesungen werden.\n\nNach der Jamsession bleibt die Bar für Gespr
	äche und Begegnungen geöffnet.
URL:https://keepkarlsruheboring.org/event/klangwerk-jamsession
GEO:49.0068;8.4208
LOCATION:NUN Kulturraum - 35\, Gottesauer Straße\, Oststadt Westlicher Teil
	\, Oststadt\, Karlsruhe\, Baden-Württemberg\, 76131\, Deutschland
STATUS:CONFIRMED
CATEGORIES:Jam Session,Music,Open Mic
X-ALT-DESC;FMTTYPE=text/html:<p><strong>Wir laden euch ein zum KLANGWERK:<b
	r></strong>Es ist wieder Zeit für unsere Jamsession im NUN!</p><p><strong>
	WANN DENN NUN?</strong><br>Freitag, 27. Februar 2026 ab 19:00 Uhr</p><p><s
	trong>WO DENN NUN?</strong><br>Café NUN, Gottesauer Straße 35, Karlsruhe</
	p><p>++ Eintritt frei ++</p><p>Unsere Bühne steht offen: Musikerinnen und 
	Musiker sind herzlich eingeladen, an unserer offenen Jamsession teilzunehm
	en.<br>Bringt eure Instrumente mit, interpretiert eigene Stücke oder spiel
	t eure Lieblingssongs – im Mittelpunkt steht die Freude am gemeinsamen Mus
	izieren und der Austausch unter Gleichgesinnten.</p><p>Auch Gäste, die nic
	ht selbst musizieren, sind willkommen und können den Abend in entspannter 
	Atmosphäre an unserer Bar genießen.</p><p><strong>Hinweis zur Durchführung
	:</strong><br>Da sich das NUN in einem Wohngebäude befindet, endet die Jam
	session um 22 Uhr. Zudem bitten wir um Rücksichtnahme hinsichtlich der Lau
	tstärke – daher es gibt eine Cajón, aber kein Schlagzeug und es darf nur i
	n moderater Lautstärke gespielt und gesungen werden.</p><p>Nach der Jamses
	sion bleibt die Bar für Gespräche und Begegnungen geöffnet.</p>
BEGIN:VALARM
ACTION:DISPLAY
DESCRIPTION:KLANGWERK (Jamsession)
TRIGGER:-PT1H
END:VALARM
END:VEVENT
END:VCALENDAR
