BEGIN:VCALENDAR
VERSION:2.0
CALSCALE:GREGORIAN
PRODID:adamgibbons/ics
METHOD:PUBLISH
X-PUBLISHED-TTL:PT1H
BEGIN:VEVENT
UID:1362@keepkarlsruheboring.org
SUMMARY:Klima | Krisen | Utopien - Filmreihe
DTSTAMP:20260423T104917Z
DTSTART:20260429T170000Z
DESCRIPTION:Der weltweite Klima-Umbruch ist nach wissenschaftlicher Erkennt
	nis nicht mehr\nrückgängig zu machen\, im besten Fall noch zu begrenzen. T
	rotzdem wird er von den\npolitischen Entscheidungsträgerinnen des globalen
	 Nordens verharmlost und zum\nTeil sogar bestritten\, während der globale 
	Süden die Folgen der Klimakatastrophe\nweitgehend unverschuldet überpropor
	tional zu tragen hat.\nDen damit zusammenhängenden Themen wollen wir in Do
	kumentar- und Spielfilmen\nimmer am letzten Mittwoch im Monat um 19.00 Uhr
	 nachgehen und im Anschluss mit\ndem Publikum und Gästen diskutieren.\nWer
	 sich an der Reihe beteiligen möchte\, schreibt bitte an:\nkimlotte.stoebe
	r@kinemathek-karlsruhe.de\n\n(Text: Filmgruppe Klima | Krisen | Utopien)
URL:https://keepkarlsruheboring.org/event/klima-or-krisen-or-utopien-filmre
	ihe-1
GEO:49.0105;8.39692
LOCATION:Kinemathek - 6\, Kaiserpassage\, Innenstadt-West Östlicher Teil\, 
	Innenstadt-West\, Karlsruhe\, Baden-Württemberg\, 76133\, Deutschland
STATUS:CONFIRMED
CATEGORIES:Events,Karlsruhe,karlsruhe-social.de,Veranstaltungen
X-ALT-DESC;FMTTYPE=text/html:<p>Der weltweite Klima-Umbruch ist nach wissen
	schaftlicher Erkenntnis nicht mehr rückgängig zu machen, im besten Fall no
	ch zu begrenzen. Trotzdem wird er von den politischen Entscheidungsträgeri
	nnen des globalen Nordens verharmlost und zum Teil sogar bestritten, währe
	nd der globale Süden die Folgen der Klimakatastrophe weitgehend unverschul
	det überproportional zu tragen hat.<br>Den damit zusammenhängenden Themen 
	wollen wir in Dokumentar- und Spielfilmen immer am letzten Mittwoch im Mon
	at um 19.00 Uhr nachgehen und im Anschluss mit dem Publikum und Gästen dis
	kutieren.<br>Wer sich an der Reihe beteiligen möchte, schreibt bitte an: k
	imlotte.stoeber@kinemathek-karlsruhe.de</p><p>(Text: Filmgruppe Klima | Kr
	isen | Utopien)</p>
BEGIN:VALARM
ACTION:DISPLAY
DESCRIPTION:Klima | Krisen | Utopien - Filmreihe
TRIGGER:-PT1H
END:VALARM
END:VEVENT
END:VCALENDAR
