BEGIN:VCALENDAR
VERSION:2.0
CALSCALE:GREGORIAN
PRODID:adamgibbons/ics
METHOD:PUBLISH
X-PUBLISHED-TTL:PT1H
BEGIN:VEVENT
UID:368@keepkarlsruheboring.org
SUMMARY:Klima Puzzle – Wir haben die Karten in der Hand!
DTSTAMP:20260423T104857Z
DTSTART:20251017T140000Z
DTEND:20251017T170000Z
DESCRIPTION:Ein wissenschaftlicher\, kooperativer und kreativer Workshop\, 
	um mehr über das\nKlima zu lernen!\n\nDas Serious Game – weltweit unter de
	m Namen „Climate Fresk“ bekannt – ist\nbasiert auf den Berichten des Weltk
	limarats IPCC und schlüsselt die wichtigsten\nInformationen mit Hil­fe von
	 42 Spielkarten auf.\n\nAls Team bringt man die­se Karten in eine Ursachen
	-Wirkungsbeziehung und erkennt\nso den systemischen Charakter des Klima­wa
	ndels. Unser Bottom-Up-Ansatz fördert\nkritisches\, interdisziplinäres Den
	ken\, kurbelt den Teamgeist an und gibt Raum\nfür einen offenen Dialog und
	 eine lösungsorientierte Diskussion.\n\nAnmeldung erforderlich unter:\nhtt
	ps://association.climatefresk.org/training_sessions/a17ec5df-7e62-4037-999
	e-a04f991f906d/show_public?language=en&tenant_token=36bd2274d3982262c00217
	55 \n[https://association.climatefresk.org/training_sessions/a17ec5df-7e62
	-4037-999e-a04f991f906d/show_public?language=en&tenant_token=36bd2274d3982
	262c0021755]
URL:https://keepkarlsruheboring.org/event/klima-puzzle-wir-haben-die-karten
	-in-der-hand
GEO:49.0015;8.38794
LOCATION:SteamWork - 23a\, Roonstraße\, Südweststadt Mittlerer Teil\, Südwe
	ststadt\, Karlsruhe\, Baden-Württemberg\, 76137\, Deutschland
STATUS:CONFIRMED
CATEGORIES:Ecology,Registration required,Serious Game,Workshop
X-ALT-DESC;FMTTYPE=text/html:<p>Ein wissenschaftlicher, kooperativer und kr
	eativer Workshop, um mehr über das Klima zu lernen! </p><p>Das Serious Gam
	e – weltweit unter dem Namen „Climate Fresk“ bekannt – ist basiert auf den
	 Berichten des Weltklimarats IPCC und schlüsselt die wichtigsten Informati
	onen mit Hil­fe von 42 Spielkarten auf. </p><p>Als Team bringt man die­se 
	Karten in eine Ursachen-Wirkungsbeziehung und erkennt so den systemischen 
	Charakter des Klima­wandels. Unser Bottom-Up-Ansatz fördert kritisches, in
	terdisziplinäres Denken, kurbelt den Teamgeist an und gibt Raum für einen 
	offenen Dialog und eine lösungsorientierte Diskussion. </p><p>Anmeldung er
	forderlich unter: <a href="https://association.climatefresk.org/training_s
	essions/a17ec5df-7e62-4037-999e-a04f991f906d/show_public?language=en&amp;t
	enant_token=36bd2274d3982262c0021755" target="_blank">https://association.
	climatefresk.org/training_sessions/a17ec5df-7e62-4037-999e-a04f991f906d/sh
	ow_public?language=en&amp;tenant_token=36bd2274d3982262c0021755&nbsp;</a><
	/p>
BEGIN:VALARM
ACTION:DISPLAY
DESCRIPTION:Klima Puzzle – Wir haben die Karten in der Hand!
TRIGGER:-PT1H
END:VALARM
END:VEVENT
END:VCALENDAR
