BEGIN:VCALENDAR
VERSION:2.0
CALSCALE:GREGORIAN
PRODID:adamgibbons/ics
METHOD:PUBLISH
X-PUBLISHED-TTL:PT1H
BEGIN:VEVENT
UID:375@keepkarlsruheboring.org
SUMMARY:Klimademo: #ExitGasEnterFuture + politisches Straßenfest
DTSTAMP:20260423T104737Z
DTSTART:20250920T120000Z
DESCRIPTION:Die Welt brennt. Kriege\, Hungersnöte und die Klimakatastrophe 
	fordern\nMenschenleben. Angeheizt durch Politik und die fossile Lobby\, di
	e lieber\nMilliarden in Waffen und die Sicherung fossiler Gewinne stecken\
	, statt in\nFrieden und Klimaschutz.\n\nDie Leidtragenden sind die Zivilbe
	völkerung – vor allem Frauen* und Kinder – und\nnicht zuletzt das Klima se
	lbst. Der Klimawandel verschärft jede Krise: Hitze\,\nDürren und Überschwe
	mmungen zerstören Lebensgrundlagen und treiben Millionen in\ndie Flucht.\n
	\nHierzulande sind wir mit Überflutungen und Hitzewellen konfrontiert\, wä
	hrend die\nReichen in klimatisierten Häusern sitzen oder in Zweitwohnungen
	 ausweichen\nkönnen\, um die Auswirkung abzufangen. \n\nMenschen in andere
	 Länder kämpfen bereits mit Temperaturen von über 50 °C. Wo es\nzu heiß wi
	rd\, um Nahrung anzubauen\, drohen neue Hungersnöte. Gletscher\nverschwind
	en\, Sommer wechseln zwischen zwei Extremen: Dürre und Dauerregen.\n\nUnd 
	die Antwort der Bundesregierung? Neue Gaskraftwerke – auch in Karlsruhe.\n
	Damit machen wir uns abhängig von fossilen Importen\, produzieren um ein\n
	Vielfaches mehr CO₂ als mit Windkraft\, und zahlen auch noch drauf.\n\nHie
	r ziehen wir die rote Linie: Kein weiterer Ausbau der fossilen Industrie u
	nd\nihrer Profitmacherei!\n\nKlimagerechtigkeit heißt: Alle Menschen haben
	 das gleiche Recht auf ein gutes\nLeben – unabhängig davon\, wo sie gebore
	n wurden oder wie viel Geld sie haben.\n\nDarum gehen wir auf die Straße: 
	Für Klimagerechtigkeit\, für Solidarität mit dem\nglobalen Süden – und gem
	einsam mit tausenden Protestierenden auf der ganzen\nWelt. Für unsere Zuku
	nft\, für uns alle.\n\nWir\, ein Bündnis Karlsruher Gruppen für eine besse
	re Welt\, laden euch ein: Kommt\nam Samstag\, den 20.09.25\, um 14 Uhr zum
	 Lidellplatz! Von dort ziehen wir\ngemeinsam los und feiern danach ein Str
	aßenfest voller Begegnung\, Musik und\nEnergie.\n\nWir sind viele. Wir sin
	d laut. Wir sind stark. Vereint stehen wir ein für Klima\nund Gerechtigkei
	t!
URL:https://keepkarlsruheboring.org/event/klimademo-exitgasenterfuture-poli
	tisches-strassenfest
GEO:49.0072;8.40739
LOCATION:Lidellplatz - Innenstadt-Ost\, Karlsruhe\, Baden-Württemberg\, 761
	33\, Deutschland
STATUS:CONFIRMED
CATEGORIES:Demonstration,Ecology,FridaysforFuture
X-ALT-DESC;FMTTYPE=text/html:<p>Die Welt brennt. Kriege, Hungersnöte und di
	e Klimakatastrophe fordern Menschenleben. Angeheizt durch Politik und die 
	fossile Lobby, die lieber Milliarden in Waffen und die Sicherung fossiler 
	Gewinne stecken, statt in Frieden und Klimaschutz.</p><p>Die Leidtragenden
	 sind die Zivilbevölkerung – vor allem Frauen* und Kinder – und nicht zule
	tzt das Klima selbst. Der Klimawandel verschärft jede Krise: Hitze, Dürren
	 und Überschwemmungen zerstören Lebensgrundlagen und treiben Millionen in 
	die Flucht.</p><p>Hierzulande sind wir mit Überflutungen und Hitzewellen k
	onfrontiert, während die Reichen in klimatisierten Häusern sitzen oder in 
	Zweitwohnungen ausweichen können, um die Auswirkung abzufangen.&nbsp;</p><
	p>Menschen in andere Länder kämpfen bereits mit Temperaturen von über 50 °
	C. Wo es zu heiß wird, um Nahrung anzubauen, drohen neue Hungersnöte. Glet
	scher verschwinden, Sommer wechseln zwischen zwei Extremen: Dürre und Daue
	rregen.</p><p>Und die Antwort der Bundesregierung? Neue Gaskraftwerke – au
	ch in Karlsruhe. Damit machen wir uns abhängig von fossilen Importen, prod
	uzieren um ein Vielfaches mehr CO₂ als mit Windkraft, und zahlen auch noch
	 drauf.</p><p>Hier ziehen wir die rote Linie: Kein weiterer Ausbau der fos
	silen Industrie und ihrer Profitmacherei!</p><p>Klimagerechtigkeit heißt: 
	Alle Menschen haben das gleiche Recht auf ein gutes Leben – unabhängig dav
	on, wo sie geboren wurden oder wie viel Geld sie haben.</p><p>Darum gehen 
	wir auf die Straße: Für Klimagerechtigkeit, für Solidarität mit dem global
	en Süden – und gemeinsam mit tausenden Protestierenden auf der ganzen Welt
	. Für unsere Zukunft, für uns alle.</p><p>Wir, ein Bündnis Karlsruher Grup
	pen für eine bessere Welt, laden euch ein: <strong>Kommt am Samstag, den 2
	0.09.25, um 14 Uhr zum Lidellplatz! Von dort ziehen wir gemeinsam los und 
	feiern danach ein Straßenfest voller Begegnung, Musik und Energie.</strong
	></p><p>Wir sind viele. Wir sind laut. Wir sind stark. Vereint stehen wir 
	ein für Klima und Gerechtigkeit!</p>
BEGIN:VALARM
ACTION:DISPLAY
DESCRIPTION:Klimademo: #ExitGasEnterFuture + politisches Straßenfest
TRIGGER:-PT1H
END:VALARM
END:VEVENT
END:VCALENDAR
