BEGIN:VCALENDAR
VERSION:2.0
CALSCALE:GREGORIAN
PRODID:adamgibbons/ics
METHOD:PUBLISH
X-PUBLISHED-TTL:PT1H
BEGIN:VEVENT
UID:1428@keepkarlsruheboring.org
SUMMARY:KOHI meets Querfunk
DTSTAMP:20260423T102211Z
DTSTART:20260503T170000Z
DTEND:20260503T190000Z
DESCRIPTION:Querfunk is the place to hear!\nJeden ersten Sonntag im Monat a
	b 19 Uhr verbreiten wir unsere hauseigene\nRadiosendung über den Äther.\nA
	uf 104\,8 MHz und im Internet. Das KOHI funkt also ordentlich dazwischen! 
	Die\nBands und die Acts\, die hier laufen\, spielen bei uns live. Eine glä
	nzende\nMöglichkeit also zum Mäuschen spielen und perfekt vorbereitet aufz
	utrumpfen\, bei\nden mittlerweile oft Legende gewordenen KOHI-Shows. Irgen
	dwo zwischen\nNeoschlager\, Postkraut\, Subpop und Undergroundrap ist hier
	 alles möglich. Ohren\nauf also\, wenn es wieder heißt: KOHI meets Querfun
	k.\n\nBeginnt auf 104\,8 Mhz um 19 Uhr\nEine Woche zum Nachhören hier:\nht
	tps://stream.querfunk.de/ [https://stream.querfunk.de/]
URL:https://keepkarlsruheboring.org/event/kohi-meets-querfunk-3
GEO:49.0017;8.40754
LOCATION:Kohi - Werderstraße 47\, 76137 Karlsruhe\, Alemanya
STATUS:CONFIRMED
CATEGORIES:Kohi,Music,Queerfunk
X-ALT-DESC;FMTTYPE=text/html:<p>Querfunk is the place to hear! <br>Jeden er
	sten Sonntag im Monat ab 19 Uhr verbreiten wir unsere hauseigene Radiosend
	ung über den Äther. <br>Auf 104,8 MHz und im Internet. Das KOHI funkt also
	 ordentlich dazwischen! Die Bands und die Acts, die hier laufen, spielen b
	ei uns live. Eine glänzende Möglichkeit also zum Mäuschen spielen und perf
	ekt vorbereitet aufzutrumpfen, bei den mittlerweile oft Legende gewordenen
	 KOHI-Shows. Irgendwo zwischen Neoschlager, Postkraut, Subpop und Undergro
	undrap ist hier alles möglich. Ohren auf also, wenn es wieder heißt: KOHI 
	meets Querfunk.<br><br>Beginnt auf 104,8 Mhz um 19 Uhr<br>Eine Woche zum N
	achhören hier:<br><a href="https://stream.querfunk.de/" target="_blank">ht
	tps://stream.querfunk.de/</a></p>
BEGIN:VALARM
ACTION:DISPLAY
DESCRIPTION:KOHI meets Querfunk
TRIGGER:-PT1H
END:VALARM
END:VEVENT
END:VCALENDAR
