BEGIN:VCALENDAR
VERSION:2.0
CALSCALE:GREGORIAN
PRODID:adamgibbons/ics
METHOD:PUBLISH
X-PUBLISHED-TTL:PT1H
BEGIN:VEVENT
UID:355@keepkarlsruheboring.org
SUMMARY:KOHI POETRY SLAM [8€ | Kohi Mitglieder ]
DTSTAMP:20260423T104917Z
DTSTART:20250926T180000Z
DESCRIPTION:Das Erfolgsrezept der Slam-Poesie: Ein Mikrofon\, sieben Minute
	n Sprechzeit und\neine textbunte Mischung aus Wortakrobatik\, Lyrik\, Geis
	t\, Klamauk und Euphorie.\nKommt vorbei\, es lohnt sich! Kommt frühzeitig!
	 Einlass ist ab 19 Uhr.\nModeration: Julie Kerdellant & Moritz Konrad\n\nE
	inlass: 19 Uhr\, Beginn: 20 Uhr
URL:https://keepkarlsruheboring.org/event/kohi-poetry-slam-8euro-or-kohi-mi
	tglieder-6
GEO:49.0017;8.40754
LOCATION:Kohi - Werderstraße 47\, 76137 Karlsruhe\, Alemanya
STATUS:CONFIRMED
CATEGORIES:Art,Poetry Slam,Ticket
X-ALT-DESC;FMTTYPE=text/html:<p>Das Erfolgsrezept der Slam-Poesie: Ein Mikr
	ofon, sieben Minuten Sprechzeit und eine textbunte Mischung aus Wortakroba
	tik, Lyrik, Geist, Klamauk und Euphorie. <br>Kommt vorbei, es lohnt sich! 
	Kommt frühzeitig! Einlass ist ab 19 Uhr. <br>Moderation: Julie Kerdellant 
	&amp; Moritz Konrad<br><br>Einlass: 19 Uhr, Beginn: 20 Uhr</p>
BEGIN:VALARM
ACTION:DISPLAY
DESCRIPTION:KOHI POETRY SLAM [8€ | Kohi Mitglieder ]
TRIGGER:-PT1H
END:VALARM
END:VEVENT
END:VCALENDAR
