BEGIN:VCALENDAR
VERSION:2.0
CALSCALE:GREGORIAN
PRODID:adamgibbons/ics
METHOD:PUBLISH
X-PUBLISHED-TTL:PT1H
BEGIN:VEVENT
UID:931@keepkarlsruheboring.org
SUMMARY:KONZERT: Boppin' B + Betty Sue's Roadhouse Raccoons
DTSTAMP:20260423T104916Z
DTSTART:20260417T190000Z
DTEND:20260417T190000Z
DESCRIPTION:Fr\, 17.04.2026 KONZERT: Boppin' B + Betty Sue's Roadhouse Racc
	oons Konzert\npräsentiert von SAU e.V. Einlass: 20:00 Uhr | Beginn: 21:00 
	Uhr Unglaubliche\nRock’n’Roll- Energie seit über 40 Jahren Kann das wirkli
	ch wahr sein? 40 Jahre\nBandgeschichte\, über 6000 Konzerte in der halben 
	Welt\, Charterfolge\, große\nBühnen aber auch herbe Rückschläge. Und was m
	achen Boppin’B damit? Sie\nignorieren all das und stürmen ein ums andere M
	al die Bühne als wäre es die\nletzte Rock’n’Roll-Show der Welt. Schon nach
	 wenigen Momenten sind Band und\nPublikum eine feiernde Einheit\, Drums un
	d der geslappte Kontrabass legen einen\nunheimlichen Beat hin\, über dem s
	ich die wirklich großartigen Melodien der Band\nentfalten. Die Band leugne
	t nie ihre Wurzeln\, die ganz klar in den 50er Jahren\,\nder Blütezeit des
	 Rock’n’Roll\, liegen\, aber über all die Jahre und die bis dato\n15 veröf
	fentlichten Alben hat sich ein komplett eigenständiger Boppin’B-Sound\nent
	wickelt\, offen für alle Arten von Einflüssen\, der die Band in der\nMusik
	landschaft absolut unverwechselbar macht. Seit ein paar Monaten haben die\
	nKerle ein weiteres großartiges Album am Start\, ‚Solid as a Rock‘\, welch
	es sie am\n17.April in der Alten Hackerei präsentieren werden. Boppin’ B s
	ind: Michi Bock –\nGesang Golo Sturm – Gitarre Didi Beck – Kontrabass Thom
	as Weiser – Trommel Frank\nSeefeldt\, Gregor Obermeier\, Sebastian Tausch 
	– Sax
URL:https://keepkarlsruheboring.org/event/konzert-boppin-b-betty-sues-roadh
	ouse-raccoons
GEO:49.0056;8.42925
LOCATION:Alte Hackerei - Alter Schlachthof 11A 76131 Karlsruhe
STATUS:CONFIRMED
CATEGORIES:karlsrunruhe,test
X-ALT-DESC;FMTTYPE=text/html:Fr, 17.04.2026<br>KONZERT: Boppin' B + Betty S
	ue's Roadhouse Raccoons<br>Konzert präsentiert von SAU e.V.<br>Einlass: 20
	:00 Uhr | Beginn: 21:00 Uhr<br><br><br>Unglaubliche Rock’n’Roll- Energie s
	eit über 40 Jahren<br><br>Kann das wirklich wahr sein? 40 Jahre Bandgeschi
	chte, über 6000 Konzerte in der halben Welt, Charterfolge, große Bühnen ab
	er auch herbe Rückschläge. Und was machen Boppin’B damit? Sie ignorieren a
	ll das und stürmen ein ums andere Mal die Bühne als wäre es die letzte Roc
	k’n’Roll-Show der Welt.<br><br>Schon nach wenigen Momenten sind Band und P
	ublikum eine feiernde Einheit, Drums und der geslappte Kontrabass legen ei
	nen unheimlichen Beat hin, über dem sich die wirklich großartigen Melodien
	 der Band entfalten. Die Band leugnet nie ihre Wurzeln, die ganz klar in d
	en 50er Jahren, der Blütezeit des Rock’n’Roll, liegen, aber über all die J
	ahre und die bis dato 15 veröffentlichten Alben hat sich ein komplett eige
	nständiger Boppin’B-Sound entwickelt, offen für alle Arten von Einflüssen,
	 der die Band in der Musiklandschaft absolut unverwechselbar macht.<br><br
	>Seit ein paar Monaten haben die Kerle ein weiteres großartiges Album am S
	tart, ‚Solid as a Rock‘, welches sie am 17.April in der Alten Hackerei prä
	sentieren werden.<br><br>Boppin’ B sind:<br><br>Michi Bock – Gesang<br>Gol
	o Sturm – Gitarre<br>Didi Beck – Kontrabass<br>Thomas Weiser – Trommel<br>
	Frank Seefeldt, Gregor Obermeier, Sebastian Tausch – Sax<br><br>
BEGIN:VALARM
ACTION:DISPLAY
DESCRIPTION:KONZERT: Boppin' B + Betty Sue's Roadhouse Raccoons
TRIGGER:-PT1H
END:VALARM
END:VEVENT
END:VCALENDAR
