BEGIN:VCALENDAR
VERSION:2.0
CALSCALE:GREGORIAN
PRODID:adamgibbons/ics
METHOD:PUBLISH
X-PUBLISHED-TTL:PT1H
BEGIN:VEVENT
UID:893@keepkarlsruheboring.org
SUMMARY:KONZERT: Dead To Me + Überyou
DTSTAMP:20260423T102403Z
DTSTART:20260325T180000Z
DTEND:20260325T180000Z
DESCRIPTION:Mi\, 25.03.2026 KONZERT: Dead To Me + Überyou Konzert präsentie
	rt von SAU e.V.\nEinlass: 19:00 Uhr | Beginn: 20:00 Uhr Dead To Me ist ein
	e Punkrockband aus der\nBay Area\, die für ihre Mischung aus melodischer D
	ringlichkeit und scharfsinnigen\npolitischen und persönlichen Kommentaren 
	bekannt ist. Die Band\, die sich Anfang\nder 2000er-Jahre gründete\, erwar
	b sich schnell einen Ruf für tiefgründiges\nSongwriting\, explosive Live-S
	hows und einen Sound\, der klassische Punkintensität\nmit Post-Punk- und A
	lternative-Einflüssen verbindet. Zu ihrer Diskografie gehört\ndas Debütalb
	um „Cuban Ballerina“ (2001)\, das den Durchbruch brachte\, gefolgt von\nde
	m von Kritikern gefeierten Album „African Elephants“ (2005)\, das die\nkla
	ngliche Bandbreite und den lyrischen Horizont der Band erweiterte. Die EP\
	n„Little Brother“ verfeinerte ihren Sound weiter\, und 2016 kehrten Dead T
	o Me mit\n„Moscow Penny Ante“ zurück\, was eine kraftvolle Weiterentwicklu
	ng markierte\,\nohne dabei die Wurzeln der Band zu verleugnen. Dead To Me 
	tourt derzeit als\nQuintett mit Gründungsmitglied Jack Dalrymple (One Man 
	Army\, Toy Guitar\,\nSwinging Utters) und Nathan Grice (Page 99). Grice sp
	ielte zuvor Gitarre und\nsang auf dem Album „African Elephants“ und der EP
	 „Little Brother“\, wodurch er\nmaßgeblich den Sound der Band in einer prä
	genden Ära mitgestaltete. 2025 traten\nDead To Me auf renommierten Festiva
	ls wie Punk in the Park\, PunkRock Bowling und\nThe Fest in Gainesville au
	f und untermauerten damit ihren Status als\nunverzichtbare Live-Band. 2026
	 werden sie als Headliner beim Manchester Punk\nFest auftreten und damit i
	hr Comeback fortsetzen\, das langjährige Fans mit einer\nneuen Generation 
	verbindet. Mit einem Repertoire\, das Intelligenz\, Melodie und\nrohe Ener
	gie vereint\, bleibt Dead To Me eine Band\, deren Musik und Botschaft\nheu
	te so relevant sind wie eh und je. Mit dabei die lieben Schweizer von\nÜbe
	ryou: Von Zürich bis in die weite Welt - bei Überyou geht es um Freundscha
	ft\nund die Liebe zur Musik. Die Band hat auf der ganzen Welt getourt und 
	an Orten\nwie Havanna\, São Paulo\, Kiew\, Kuala Lumpur und Texas gespielt
	\, um nur einige zu\nnennen. Im Februar 2023 ist endlich das 5. Studioalbu
	m mit dem Titel "Silver\nLining" auf Gunner Records (Europa) & Say-10 Reco
	rds (USA) erschienen. Mit dem\nGeist der Gainesville Punkbands wie Hot Wat
	er Music und Against Me im Herzen und\nder Essenz der Schweizer Punkszene 
	in den Adern\, ist Überyou energiegeladen\,\nDIY-committed und hält die gu
	ten Zeiten seit 2008 hoch!
URL:https://keepkarlsruheboring.org/event/konzert-dead-to-me-uberyou
GEO:49.0056;8.42925
LOCATION:Alte Hackerei - Alter Schlachthof 11A 76131 Karlsruhe
STATUS:CONFIRMED
CATEGORIES:karlsrunruhe,test
X-ALT-DESC;FMTTYPE=text/html:Mi, 25.03.2026<br>KONZERT: Dead To Me + Überyo
	u<br>Konzert präsentiert von SAU e.V.<br>Einlass: 19:00 Uhr | Beginn: 20:0
	0 Uhr<br><br><br>Dead To Me ist eine Punkrockband aus der Bay Area, die fü
	r ihre Mischung aus melodischer Dringlichkeit und scharfsinnigen politisch
	en und persönlichen Kommentaren bekannt ist. Die Band, die sich Anfang der
	 2000er-Jahre gründete, erwarb sich schnell einen Ruf für tiefgründiges So
	ngwriting, explosive Live-Shows und einen Sound, der klassische Punkintens
	ität mit Post-Punk- und Alternative-Einflüssen verbindet. Zu ihrer Diskogr
	afie gehört das Debütalbum „Cuban Ballerina“ (2001), das den Durchbruch br
	achte, gefolgt von dem von Kritikern gefeierten Album „African Elephants“ 
	(2005), das die klangliche Bandbreite und den lyrischen Horizont der Band 
	erweiterte. Die EP „Little Brother“ verfeinerte ihren Sound weiter, und 20
	16 kehrten Dead To Me mit „Moscow Penny Ante“ zurück, was eine kraftvolle 
	Weiterentwicklung markierte, ohne dabei die Wurzeln der Band zu verleugnen
	. Dead To Me tourt derzeit als Quintett mit Gründungsmitglied Jack Dalrymp
	le (One Man Army, Toy Guitar, Swinging Utters) und Nathan Grice (Page 99).
	<br><br>Grice spielte zuvor Gitarre und sang auf dem Album „African Elepha
	nts“ und der EP „Little Brother“, wodurch er maßgeblich den Sound der Band
	 in einer prägenden Ära mitgestaltete.<br>2025 traten Dead To Me auf renom
	mierten Festivals wie Punk in the Park, PunkRock Bowling und The Fest in G
	ainesville auf und untermauerten damit ihren Status als unverzichtbare Liv
	e-Band.<br>2026 werden sie als Headliner beim Manchester Punk Fest auftret
	en und damit ihr Comeback fortsetzen, das langjährige Fans mit einer neuen
	 Generation verbindet.<br><br>Mit einem Repertoire, das Intelligenz, Melod
	ie und rohe Energie vereint, bleibt Dead To Me eine Band, deren Musik und 
	Botschaft heute so relevant sind wie eh und je.<br><br>Mit dabei die liebe
	n Schweizer von Überyou: Von Zürich bis in die weite Welt - bei Überyou ge
	ht es um Freundschaft und die Liebe zur Musik. Die Band hat auf der ganzen
	 Welt getourt und an Orten wie Havanna, São Paulo, Kiew, Kuala Lumpur und 
	Texas gespielt, um nur einige zu nennen. Im Februar 2023 ist endlich das 5
	. Studioalbum mit dem Titel "Silver Lining" auf Gunner Records (Europa) & 
	Say-10 Records (USA) erschienen. Mit dem Geist der Gainesville Punkbands w
	ie Hot Water Music und Against Me im Herzen und der Essenz der Schweizer P
	unkszene in den Adern, ist Überyou energiegeladen, DIY-committed und hält 
	die guten Zeiten seit 2008 hoch!
BEGIN:VALARM
ACTION:DISPLAY
DESCRIPTION:KONZERT: Dead To Me + Überyou
TRIGGER:-PT1H
END:VALARM
END:VEVENT
END:VCALENDAR
