BEGIN:VCALENDAR
VERSION:2.0
CALSCALE:GREGORIAN
PRODID:adamgibbons/ics
METHOD:PUBLISH
X-PUBLISHED-TTL:PT1H
BEGIN:VEVENT
UID:903@keepkarlsruheboring.org
SUMMARY:KONZERT: Desarme
DTSTAMP:20260423T102209Z
DTSTART:20260328T200000Z
DTEND:20260328T200000Z
DESCRIPTION:Sa\, 28.03.2026 KONZERT: Desarme Konzert präsentiert von SAU e.
	V. Einlass: 20:00\nUhr | Beginn: 21:00 Uhr Aus den kalten und feindlichen 
	Straßen von Bogotá\,\nKolumbien\, entsteht 1993 „Desarme Rock Social“ – od
	er einfach „Desarme“. Diese\nlegendäre Punkband aus Kolumbien kommt zum er
	sten Mal nach Karlsruhe\,\nDeutschland\, und spielt im Alte Hackerei ein S
	et voller Songs\, die wahre\nGeschichten erzählen: von Gewalt\, Verschwind
	enlassen\, Widerstand und Reflexion.\nDesarme zeigt die brutale politische
	 und soziale Realität Kolumbiens – ein Land\nso lebendig wie widersprüchli
	ch. Mit ihrem Song „El baile contra la motosierra“\n– Der Tanz gegen die K
	ettensäge – erzählt Desarme auf indirekte Weise von einem\ngrausamen Kapit
	el der kolumbianischen Geschichte: Mit Komplizenschaft der\nStreitkräfte u
	nd rechter Regierungen ermordeten paramilitärische Gruppen\nmehrfach wehrl
	ose und unbewaffnete Bauern mit Kettensägen – und spielten\nanschließend F
	ußball mit ihren Köpfen. Antimilitarismus\, radikale Kritik und\ntiefgehen
	de Reflexion sind das Markenzeichen dieser Band. Ihre Mitglieder leben\nih
	re politische Haltung nicht nur auf der Bühne\, sondern auch im Alltag – m
	it\nsozialem Engagement und einem klaren kontrakulturellen Fokus. Desarme 
	hat eine\nlange Geschichte – lokal und international. Sie haben auf zahlre
	ichen Festivals\nund Veranstaltungen gespielt\, nicht nur in vielen Städte
	n Kolumbiens\, sondern\nauch weltweit. Mit ihren selbstproduzierten Alben 
	wie „Denuncia“ und „Yo digo\nvida“ prangern sie Kolonialismus\, Militarism
	us\, prekäre Arbeitsverhältnisse und\ndie gewalttätige Geschichte Kolumbie
	ns an – und entlarven die sogenannte\nDemokratie als ein System\, das vom 
	Drogenhandel lebt. Außerdem ist Desarme Teil\ndes Soundtracks des kolumbia
	nischen Films „Un tal Alonso Quijano“\, mit den Songs\n„Dulcinea“ und „La 
	herida del adiós“. Desarme ist nicht nur eine Stimme der\nAnklage – sie si
	nd ein Aufruf zur Reflexion\, zur persönlichen und kollektiven\nRebellion\
	, zur Selbstorganisation und zur Vorstellung einer besseren Welt. Wie\nsie
	 in einem ihrer Songs sagen: „Otro mundo puede ser posible“ – Eine andere\
	nWelt ist möglich.
URL:https://keepkarlsruheboring.org/event/konzert-desarme
GEO:49.0056;8.42925
LOCATION:Alte Hackerei - Alter Schlachthof 11A 76131 Karlsruhe
STATUS:CONFIRMED
CATEGORIES:karlsrunruhe,test
X-ALT-DESC;FMTTYPE=text/html:Sa, 28.03.2026<br>KONZERT: Desarme<br>Konzert 
	präsentiert von SAU e.V.<br>Einlass: 20:00 Uhr | Beginn: 21:00 Uhr<br><br>
	<br>Aus den kalten und feindlichen Straßen von Bogotá, Kolumbien, entsteht
	 1993 „Desarme Rock Social“ – oder einfach „Desarme“.<br><br>Diese legendä
	re Punkband aus Kolumbien kommt zum ersten Mal nach Karlsruhe, Deutschland
	, und spielt im Alte Hackerei ein Set voller Songs, die wahre Geschichten 
	erzählen: von Gewalt, Verschwindenlassen, Widerstand und Reflexion.<br><br
	>Desarme zeigt die brutale politische und soziale Realität Kolumbiens – ei
	n Land so lebendig wie widersprüchlich.<br><br>Mit ihrem Song „El baile co
	ntra la motosierra“ – Der Tanz gegen die Kettensäge – erzählt Desarme auf 
	indirekte Weise von einem grausamen Kapitel der kolumbianischen Geschichte
	: Mit Komplizenschaft der Streitkräfte und rechter Regierungen ermordeten 
	paramilitärische Gruppen mehrfach wehrlose und unbewaffnete Bauern mit Ket
	tensägen – und spielten anschließend Fußball mit ihren Köpfen.<br><br>Anti
	militarismus, radikale Kritik und tiefgehende Reflexion sind das Markenzei
	chen dieser Band. Ihre Mitglieder leben ihre politische Haltung nicht nur 
	auf der Bühne, sondern auch im Alltag – mit sozialem Engagement und einem 
	klaren kontrakulturellen Fokus.<br><br>Desarme hat eine lange Geschichte –
	 lokal und international. Sie haben auf zahlreichen Festivals und Veransta
	ltungen gespielt, nicht nur in vielen Städten Kolumbiens, sondern auch wel
	tweit.<br><br>Mit ihren selbstproduzierten Alben wie „Denuncia“ und „Yo di
	go vida“ prangern sie Kolonialismus, Militarismus, prekäre Arbeitsverhältn
	isse und die gewalttätige Geschichte Kolumbiens an – und entlarven die sog
	enannte Demokratie als ein System, das vom Drogenhandel lebt.<br><br>Außer
	dem ist Desarme Teil des Soundtracks des kolumbianischen Films „Un tal Alo
	nso Quijano“, mit den Songs „Dulcinea“ und „La herida del adiós“.<br><br>D
	esarme ist nicht nur eine Stimme der Anklage – sie sind ein Aufruf zur Ref
	lexion, zur persönlichen und kollektiven Rebellion, zur Selbstorganisation
	 und zur Vorstellung einer besseren Welt. Wie sie in einem ihrer Songs sag
	en: „Otro mundo puede ser posible“ – Eine andere Welt ist möglich.
BEGIN:VALARM
ACTION:DISPLAY
DESCRIPTION:KONZERT: Desarme
TRIGGER:-PT1H
END:VALARM
END:VEVENT
END:VCALENDAR
