BEGIN:VCALENDAR
VERSION:2.0
CALSCALE:GREGORIAN
PRODID:adamgibbons/ics
METHOD:PUBLISH
X-PUBLISHED-TTL:PT1H
BEGIN:VEVENT
UID:797@keepkarlsruheboring.org
SUMMARY:KONZERT: Desinteresse + Body Maitenance
DTSTAMP:20260423T102421Z
DTSTART:20260218T190000Z
DTEND:20260218T190000Z
DESCRIPTION:Mi\, 18.02.2026 KONZERT: Desinteresse + Body Maitenance Konzert
	 präsentiert von\nSAU e.V. Einlass: 19:00 Uhr | Beginn: 20:00 Uhr Desinter
	esse ist eine\nniederländische Coldwave-Band\, bestehend aus Bart (Bass)\,
	 Joppe (Schlagzeug) und\nSem (Gesang/Synthesizer/Gitarre). Die Band wurde 
	Ende 2022 gegründet und\nveröffentlichte zunächst als Duo ihr Debütalbum „
	Voor Altijd“ im April 2023 und\ndie EP „Ik Wil Dood Als Ik Het Vergeet“ im
	 November 2023\, beide auf Kassette.\nSeit 2024 tritt Desinteresse als Tri
	o auf. Obwohl die Band gerade erst gegründet\nwurde\, wurde sie bereits zu
	m Grauzone-Festival eingeladen und spielte mehrere\nKonzerte in den Nieder
	landen\, Deutschland und Belgien. Ihre neueste\nVeröffentlichung\, die 7”-
	Single „Grijze Dromen”\, erschien im August 2024 und\nstieß in der Musiksz
	ene in Europa und den USA auf großes Interesse. Die\nLive-Auftritte von De
	sinteresse vermitteln eine kalte\, melancholische\nAtmosphäre\, in der Klä
	nge und Stimmen nicht im Vordergrund stehen\, sondern die\nBedeutung ihrer
	 Botschaft verstärken und die nicht-existentiellen und\nverlassenen Emotio
	nen betonen\, die ihren Sound ausmachen. Body Maintenance wurde\n2017 zunä
	chst als DIY-Duo gegründet und entwickelte sich schnell von seinen\nminima
	listischen Drum-Machine-Anfängen zu der post-punkigen Intensität\, die\nhe
	ute das Quartett auszeichnet. Die Kombination aus eisigen Gitarrenklängen\
	, die\naus James Kanes Vintage-Roland-Verstärkern strömen\, Zoe Mulcahys k
	omplexen\, aber\naggressiven\, mit Hall unterlegten Drums und dem unheimli
	chen Stampfen von\nNicholas Garths chorusgetränkten Bässen wird durch die 
	dröhnenden Gesänge und\ndie Rhythmusgitarre von Riley Stafford zusammengeh
	alten. Body Maintenance\nevozieren eine düstere Spannung zwischen ätherisc
	her Zartheit im Stil von The\nChameleons\, Echo and the Bunnymen und The C
	omsat Angels. Düstere\, aber dennoch\nberuhigende Trenchcoat-Musik\, die T
	rost in einer dunklen und turbulenten Welt zu\nspenden versucht.
URL:https://keepkarlsruheboring.org/event/konzert-desinteresse-body-maitena
	nce
GEO:49.0056;8.42925
LOCATION:Alte Hackerei - Alter Schlachthof 11A 76131 Karlsruhe
STATUS:CONFIRMED
CATEGORIES:karlsrunruhe,test
X-ALT-DESC;FMTTYPE=text/html:Mi, 18.02.2026<br>KONZERT: Desinteresse + Body
	 Maitenance<br>Konzert präsentiert von SAU e.V.<br>Einlass: 19:00 Uhr | Be
	ginn: 20:00 Uhr<br><br><br>Desinteresse ist eine niederländische Coldwave-
	Band, bestehend aus Bart (Bass), Joppe (Schlagzeug) und Sem (Gesang/Synthe
	sizer/Gitarre). Die Band wurde Ende 2022 gegründet und veröffentlichte zun
	ächst als Duo ihr Debütalbum „Voor Altijd“ im April 2023 und die EP „Ik Wi
	l Dood Als Ik Het Vergeet“ im November 2023, beide auf Kassette. Seit 2024
	 tritt Desinteresse als Trio auf. Obwohl die Band gerade erst gegründet wu
	rde, wurde sie bereits zum Grauzone-Festival eingeladen und spielte mehrer
	e Konzerte in den Niederlanden, Deutschland und Belgien. Ihre neueste Verö
	ffentlichung, die 7”-Single „Grijze Dromen”, erschien im August 2024 und s
	tieß in der Musikszene in Europa und den USA auf großes Interesse.<br><br>
	Die Live-Auftritte von Desinteresse vermitteln eine kalte, melancholische 
	Atmosphäre, in der Klänge und Stimmen nicht im Vordergrund stehen, sondern
	 die Bedeutung ihrer Botschaft verstärken und die nicht-existentiellen und
	 verlassenen Emotionen betonen, die ihren Sound ausmachen.<br><br>Body Mai
	ntenance wurde 2017 zunächst als DIY-Duo gegründet und entwickelte sich sc
	hnell von seinen minimalistischen Drum-Machine-Anfängen zu der post-punkig
	en Intensität, die heute das Quartett auszeichnet. Die Kombination aus eis
	igen Gitarrenklängen, die aus James Kanes Vintage-Roland-Verstärkern ström
	en, Zoe Mulcahys komplexen, aber aggressiven, mit Hall unterlegten Drums u
	nd dem unheimlichen Stampfen von Nicholas Garths chorusgetränkten Bässen w
	ird durch die dröhnenden Gesänge und die Rhythmusgitarre von Riley Staffor
	d zusammengehalten.<br><br>Body Maintenance evozieren eine düstere Spannun
	g zwischen ätherischer Zartheit im Stil von The Chameleons, Echo and the B
	unnymen und The Comsat Angels. Düstere, aber dennoch beruhigende Trenchcoa
	t-Musik, die Trost in einer dunklen und turbulenten Welt zu spenden versuc
	ht.
BEGIN:VALARM
ACTION:DISPLAY
DESCRIPTION:KONZERT: Desinteresse + Body Maitenance
TRIGGER:-PT1H
END:VALARM
END:VEVENT
END:VCALENDAR
