BEGIN:VCALENDAR
VERSION:2.0
CALSCALE:GREGORIAN
PRODID:adamgibbons/ics
METHOD:PUBLISH
X-PUBLISHED-TTL:PT1H
BEGIN:VEVENT
UID:961@keepkarlsruheboring.org
SUMMARY:KONZERT: Dramatist
DTSTAMP:20260423T102209Z
DTSTART:20260513T180000Z
DTEND:20260513T180000Z
DESCRIPTION:Mi\, 13.05.2026 KONZERT: Dramatist Konzert präsentiert von SAU 
	e.V. Einlass:\n20:00 Uhr | Beginn: 20:30 Uhr Keinen einzigen Song veröffen
	tlicht und schon die\nBühne auf dem Wacken Open Air\, Breminale und Reeper
	bahn Festival abfackeln? Was\nquasi unmöglich erscheint\, haben DRAMATIST 
	bereits 2025 ohne Wimpernzucken\ndurchgezogen. Mit Gregor Hennig (Muff Pot
	ter\, Die Sterne) und Kurt Ebelhäuser\n(Donots\, Pascow) haben DRAMATIST g
	leich zwei Produzenten in die Aufnahmen ihres\nDebutalbums wasting words i
	nvolviert\, die für authentische Musik stehen.\nHerausgekommen ist ein Alb
	um\, das vor musikalischem Selbstbewusstsein und\ngesellschaftlicher Haltu
	ng nur so strotzt. Da war es nicht verwunderlich\, dass\nDevilDuck Records
	 für dieses Album die eine oder andere Label-Regel gebrochen\nhat\, so zum
	 Beispiel\, dass Alben 10 Songs haben müssen. Auch das Label fand das\nAlb
	um mit diesen 8 Songs so stimmig und kompromisslos\, dass es ein Frevel\ng
	ewesen wäre\, dieses Album nicht genau so zu veröffentlichen. Überhaupt st
	eht\nDRAMATIST die Kompromisslosigkeit richtig gut\, denn sie machen hier 
	ihr ganz\neigenes Postcore-Ding. Drei Gitarren münden nicht einfach nur in
	 eine wall of\nsound\, sondern bilden das Herzstück für ein bis zur Zerre 
	melancholisches Album\,\ndas ist wütend und laut und auch zart und kaputt.
	 Und das bringt die Band auch\nganz ungeschminkt auf die Bühne. So kommt s
	elbst der einzigartige und raue\nGesang völlig ohne schnörkelnde Effekte a
	us. DRAMATIST sind eine Band die\nsicherlich auf größeren Bühnen am besten
	 zur Geltung kommt\, aber letztlich auch\nden dunkelsten Punkrockkeller zu
	 nehmen weiß.
URL:https://keepkarlsruheboring.org/event/konzert-dramatist
GEO:49.0112;8.41461
LOCATION:AKK - 17\, Engesserstraße\, Innenstadt-Ost Nordöstlicher Teil\, In
	nenstadt\, Karlsruhe\, Baden-Württemberg\, 76131\, Deutschland
STATUS:CONFIRMED
CATEGORIES:karlsrunruhe,test
X-ALT-DESC;FMTTYPE=text/html:Mi, 13.05.2026<br>KONZERT: Dramatist<br>Konzer
	t präsentiert von SAU e.V.<br>Einlass: 20:00 Uhr | Beginn: 20:30 Uhr<br><b
	r><br>Keinen einzigen Song veröffentlicht und schon die Bühne auf dem Wack
	en Open Air, Breminale und Reeperbahn Festival abfackeln? Was quasi unmögl
	ich erscheint, haben DRAMATIST bereits 2025 ohne Wimpernzucken durchgezoge
	n.<br><br>Mit Gregor Hennig (Muff Potter, Die Sterne) und Kurt Ebelhäuser 
	(Donots, Pascow) haben DRAMATIST gleich zwei Produzenten in die Aufnahmen 
	ihres Debutalbums wasting words involviert, die für authentische Musik ste
	hen. Herausgekommen ist ein Album, das vor musikalischem Selbstbewusstsein
	 und gesellschaftlicher Haltung nur so strotzt.<br><br>Da war es nicht ver
	wunderlich, dass DevilDuck Records für dieses Album die eine oder andere L
	abel-Regel gebrochen hat, so zum Beispiel, dass Alben 10 Songs haben müsse
	n. Auch das Label fand das Album mit diesen 8 Songs so stimmig und komprom
	isslos, dass es ein Frevel gewesen wäre, dieses Album nicht genau so zu ve
	röffentlichen. Überhaupt steht DRAMATIST die Kompromisslosigkeit richtig g
	ut, denn sie machen hier ihr ganz eigenes Postcore-Ding. Drei Gitarren mün
	den nicht einfach nur in eine wall of sound, sondern bilden das Herzstück 
	für ein bis zur Zerre melancholisches Album, das ist wütend und laut und a
	uch zart und kaputt. Und das bringt die Band auch ganz ungeschminkt auf di
	e Bühne. So kommt selbst der einzigartige und raue Gesang völlig ohne schn
	örkelnde Effekte aus. DRAMATIST sind eine Band die sicherlich auf größeren
	 Bühnen am besten zur Geltung kommt, aber letztlich auch den dunkelsten Pu
	nkrockkeller zu nehmen weiß.
BEGIN:VALARM
ACTION:DISPLAY
DESCRIPTION:KONZERT: Dramatist
TRIGGER:-PT1H
END:VALARM
END:VEVENT
END:VCALENDAR
