BEGIN:VCALENDAR
VERSION:2.0
CALSCALE:GREGORIAN
PRODID:adamgibbons/ics
METHOD:PUBLISH
X-PUBLISHED-TTL:PT1H
BEGIN:VEVENT
UID:928@keepkarlsruheboring.org
SUMMARY:KONZERT: Grandma's Ashes
DTSTAMP:20260423T102258Z
DTSTART:20260415T180000Z
DTEND:20260415T180000Z
DESCRIPTION:Mi\, 15.04.2026 KONZERT: Grandma's Ashes Konzert präsentiert vo
	n SAU e.V.\nEinlass: 19:00 Uhr | Beginn: 20:00 Uhr Mit der Intimität eines
	 Trios erzählt\nGrandma’s Ashes vom Pariser Alltag\, der von Gewalt und Gl
	eichgültigkeit geprägt\nist. Angetrieben von der rohen Energie einer Live-
	Rock-Show\, die Konventionen in\nFrage stellt\, connecten die drei\, junge
	n Frauen mit ihrem Publikum. 2021 und\n2023 veröffentlichten sie eine EP u
	nd anschließend ihr erstes Album\, auf dem sie\nkraftvolle Riffs mit klare
	r Stimme verbinden\, um die ambivalenten Emotionen\neiner intimen Odyssee 
	auszudrücken. Die Poesie ihrer Texte vermittelt die\nfeministische und öko
	logisch besorgte Botschaft einer von Zweifeln geplagten\nGeneration und sc
	hlägt Alarm angesichts der raschen Erosion unserer Rechte und\nunserer Umw
	elt. Grandma’s Ashes spielten in Hunderten von Veranstaltungsorten in\ngan
	z Frankreich – darunter La Maroquinerie\, Le Trabendo in Paris – und auf\n
	renommierten Festivals wie Hellfest\, Motocultor und Francofolies sowie in
	 einem\nDutzend Clubs in Spanien. Im Frühjahr 2026 wird die Band zum erste
	n Mal in\nDeutschland\, Österreich\, Belgien und der Schweiz auftreten! Am
	 24. Oktober hat\ndie Band ihr zweites Album BRUXISM veröffentlicht\, das 
	ihrem Bedürfnis nach\nExperimentierfreudigkeit und künstlerischer Freiheit
	 gerecht wird. Die neuen\nSongs\, die von New Wave- und Grunge-Klängen gep
	rägt sind\, werden von der Bühne\nmit dem dringenden Bedürfnis angetrieben
	\, ihre engagierte Botschaft noch weiter\nzu verbreiten. Presented by 3C &
	 Spider Promotion
URL:https://keepkarlsruheboring.org/event/konzert-grandmas-ashes
GEO:49.0056;8.42925
LOCATION:Alte Hackerei - Alter Schlachthof 11A 76131 Karlsruhe
STATUS:CONFIRMED
CATEGORIES:karlsrunruhe,test
X-ALT-DESC;FMTTYPE=text/html:Mi, 15.04.2026<br>KONZERT: Grandma's Ashes<br>
	Konzert präsentiert von SAU e.V.<br>Einlass: 19:00 Uhr | Beginn: 20:00 Uhr
	<br><br><br>Mit der Intimität eines Trios erzählt Grandma’s Ashes vom Pari
	ser Alltag, der von Gewalt und Gleichgültigkeit geprägt ist. Angetrieben v
	on der rohen Energie einer Live-Rock-Show, die Konventionen in Frage stell
	t, connecten die drei, jungen Frauen mit ihrem Publikum.<br><br>2021 und 2
	023 veröffentlichten sie eine EP und anschließend ihr erstes Album, auf de
	m sie kraftvolle Riffs mit klarer Stimme verbinden, um die ambivalenten Em
	otionen einer intimen Odyssee auszudrücken. Die Poesie ihrer Texte vermitt
	elt die feministische und ökologisch besorgte Botschaft einer von Zweifeln
	 geplagten Generation und schlägt Alarm angesichts der raschen Erosion uns
	erer Rechte und unserer Umwelt.<br><br>Grandma’s Ashes spielten in Hundert
	en von Veranstaltungsorten in ganz Frankreich – darunter La Maroquinerie, 
	Le Trabendo in Paris – und auf renommierten Festivals wie Hellfest, Motocu
	ltor und Francofolies sowie in einem Dutzend Clubs in Spanien. Im Frühjahr
	 2026 wird die Band zum ersten Mal in Deutschland, Österreich, Belgien und
	 der Schweiz auftreten!<br><br>Am 24. Oktober hat die Band ihr zweites Alb
	um BRUXISM veröffentlicht, das ihrem Bedürfnis nach Experimentierfreudigke
	it und künstlerischer Freiheit gerecht wird. Die neuen Songs, die von New 
	Wave- und Grunge-Klängen geprägt sind, werden von der Bühne mit dem dringe
	nden Bedürfnis angetrieben, ihre engagierte Botschaft noch weiter zu verbr
	eiten.<br><br>Presented by 3C & Spider Promotion
BEGIN:VALARM
ACTION:DISPLAY
DESCRIPTION:KONZERT: Grandma's Ashes
TRIGGER:-PT1H
END:VALARM
END:VEVENT
END:VCALENDAR
