BEGIN:VCALENDAR
VERSION:2.0
CALSCALE:GREGORIAN
PRODID:adamgibbons/ics
METHOD:PUBLISH
X-PUBLISHED-TTL:PT1H
BEGIN:VEVENT
UID:974@keepkarlsruheboring.org
SUMMARY:KONZERT: Guitar Wolf
DTSTAMP:20260423T102208Z
DTSTART:20260617T180000Z
DTEND:20260617T180000Z
DESCRIPTION:Mi\, 17.06.2026 KONZERT: Guitar Wolf Konzert präsentiert von SA
	U e.V. Einlass:\n20:00 Uhr | Beginn: 20:30 Uhr “Don’t move needle\, just r
	ed zone” – dieses Zitat\nvon Guitar Wolf während einer Studiosession zeigt
	 worum es bei Guitar Wolf geht:\nDrei Typen und ihrer Hingabe zum wahren R
	ock'n'Roll. Im Gegensatz zu manch\nanderen Rockbands leben Guitar Wolf den
	 Rock'n'Roll Lifestyle wie es noch kein\nanderer zuvor getan hat. Man hört
	 es in ihren Songs\, man sieht es auf der Bühne:\nSchweiß\, Blut\, Tränen 
	und ungefilterte Energie resultieren in wilden\nzerstörerischen Lo-Fi Rock
	'n'Roll Hymnen. Das Ergebnis dieser Mischung aus Punk\,\nRock und Noise sc
	huf ein ganz neues Genre\, den Jet Rock'n'Roll. 1987 haben sie\nsich gegrü
	ndet und inzwischen ihren weltweiten Kultstatus als lauteste und\nverrückt
	este Garagen Noise Band auch auf Leinwand gebracht\, im Trash-Rock’n Roll\
	nFilm „Wild Zero“.
URL:https://keepkarlsruheboring.org/event/konzert-guitar-wolf
GEO:49.0056;8.42925
LOCATION:Alte Hackerei - Alter Schlachthof 11A 76131 Karlsruhe
STATUS:CONFIRMED
CATEGORIES:karlsrunruhe,test
X-ALT-DESC;FMTTYPE=text/html:Mi, 17.06.2026<br>KONZERT: Guitar Wolf<br>Konz
	ert präsentiert von SAU e.V.<br>Einlass: 20:00 Uhr | Beginn: 20:30 Uhr<br>
	<br><br>“Don’t move needle, just red zone” – dieses Zitat von Guitar Wolf 
	während einer Studiosession zeigt worum es bei Guitar Wolf geht: Drei Type
	n und ihrer Hingabe zum wahren Rock'n'Roll.<br>Im Gegensatz zu manch ander
	en Rockbands leben Guitar Wolf den Rock'n'Roll Lifestyle wie es noch kein 
	anderer zuvor getan hat.<br>Man hört es in ihren Songs, man sieht es auf d
	er Bühne: Schweiß, Blut, Tränen und ungefilterte Energie resultieren in wi
	lden zerstörerischen Lo-Fi Rock'n'Roll Hymnen. Das Ergebnis dieser Mischun
	g aus Punk, Rock und Noise schuf ein ganz neues Genre, den Jet Rock'n'Roll
	.<br>1987 haben sie sich gegründet und inzwischen ihren weltweiten Kultsta
	tus als lauteste und verrückteste Garagen Noise Band auch auf Leinwand geb
	racht, im Trash-Rock’n Roll Film „Wild Zero“.
BEGIN:VALARM
ACTION:DISPLAY
DESCRIPTION:KONZERT: Guitar Wolf
TRIGGER:-PT1H
END:VALARM
END:VEVENT
END:VCALENDAR
