BEGIN:VCALENDAR
VERSION:2.0
CALSCALE:GREGORIAN
PRODID:adamgibbons/ics
METHOD:PUBLISH
X-PUBLISHED-TTL:PT1H
BEGIN:VEVENT
UID:919@keepkarlsruheboring.org
SUMMARY:KONZERT: Julia Effekt
DTSTAMP:20260423T102132Z
DTSTART:20260409T170000Z
DTEND:20260409T170000Z
DESCRIPTION:Do\, 09.04.2026 KONZERT: Julia Effekt präsentiert von kulturnew
	s\, event. & SAU\ne.V. Einlass: 19:00 Uhr | Beginn: 20:30 Uhr Julia Effekt
	 verweben vielfältige\nmusikalische Strömungen zu einer Ästhetik\, die zwi
	schen Melancholie und\nWiderstand schwebt. Mit assoziativen Bildern\, kant
	igen Melodien und kraftvoll\neingesetzter Sprache schaffen sie einen Raum\
	, in dem etablierte Wahrnehmungen\ngebrochen und Erwartungen hinterfragt w
	erden. In einer Zeit\, in der Identität\nzunehmend von Algorithmen geformt
	 und musikalischer Ausdruck oft in festen\nMustern reproduziert wird\, ent
	ziehen sich Julia Effekt den konventionellen\nKategorien und ergründen die
	 Spannungsfelder des modernen Menschseins – das\nRingen zwischen Authentiz
	ität und Inszenierung\, Erinnerung und Vergessen\,\nZugehörigkeit und Entf
	remdung. Am 17.10.2025 erscheint ihr Debütalbum\n“Nachtparkett”. Die Tour 
	“In den Augen das Parkett” startet am 08.04.2026 in\nMünchen.
URL:https://keepkarlsruheboring.org/event/konzert-julia-effekt
GEO:49.0056;8.42925
LOCATION:Alte Hackerei - Alter Schlachthof 11A 76131 Karlsruhe
STATUS:CONFIRMED
CATEGORIES:karlsrunruhe,test
X-ALT-DESC;FMTTYPE=text/html:Do, 09.04.2026<br>KONZERT: Julia Effekt<br>prä
	sentiert von kulturnews, event. & SAU e.V.<br>Einlass: 19:00 Uhr | Beginn:
	 20:30 Uhr<br><br><br>Julia Effekt verweben vielfältige musikalische Ström
	ungen zu einer Ästhetik, die zwischen Melancholie und Widerstand schwebt. 
	Mit assoziativen Bildern, kantigen Melodien und kraftvoll eingesetzter Spr
	ache schaffen sie einen Raum, in dem etablierte Wahrnehmungen gebrochen un
	d Erwartungen hinterfragt werden. In einer Zeit, in der Identität zunehmen
	d von Algorithmen geformt und musikalischer Ausdruck oft in festen Mustern
	 reproduziert wird, entziehen sich Julia Effekt den konventionellen Katego
	rien und ergründen die Spannungsfelder des modernen Menschseins – das Ring
	en zwischen Authentizität und Inszenierung, Erinnerung und Vergessen, Zuge
	hörigkeit und Entfremdung.<br><br>Am 17.10.2025 erscheint ihr Debütalbum “
	Nachtparkett”. Die Tour “In den Augen das Parkett” startet am 08.04.2026 i
	n München.
BEGIN:VALARM
ACTION:DISPLAY
DESCRIPTION:KONZERT: Julia Effekt
TRIGGER:-PT1H
END:VALARM
END:VEVENT
END:VCALENDAR
