BEGIN:VCALENDAR
VERSION:2.0
CALSCALE:GREGORIAN
PRODID:adamgibbons/ics
METHOD:PUBLISH
X-PUBLISHED-TTL:PT1H
BEGIN:VEVENT
UID:930@keepkarlsruheboring.org
SUMMARY:KONZERT: Los Banditos
DTSTAMP:20260423T102322Z
DTSTART:20260416T180000Z
DTEND:20260416T180000Z
DESCRIPTION:Do\, 16.04.2026 KONZERT: Los Banditos Konzert präsentiert von S
	AU e.V. Einlass:\n19:00 Uhr | Beginn: 20:00 Uhr Das Vier-Herren-Quartett L
	OS BANDITOS hat sich\n1996 in Jena gegründet und zelebriert seitdem ihr be
	währtes Soundgewand mit 60er\nBeat\, Surf und Rock‘n‘Roll. Die Songs komme
	n fast durchgängig instrumental daher\nund garantieren eine wilde Party. D
	ie Banditen liefern musikalischen Hochgenuss\nund sind absolute Könner ihr
	es Fachs. Auf geht‘s mit tanzen\, tanzen\, tanzen –\nund schwitzen. LET’S 
	SURF’n’METAL AND CHEERS
URL:https://keepkarlsruheboring.org/event/konzert-los-banditos
GEO:49.0056;8.42925
LOCATION:Alte Hackerei - Alter Schlachthof 11A 76131 Karlsruhe
STATUS:CONFIRMED
CATEGORIES:karlsrunruhe,test
X-ALT-DESC;FMTTYPE=text/html:Do, 16.04.2026<br>KONZERT: Los Banditos<br>Kon
	zert präsentiert von SAU e.V.<br>Einlass: 19:00 Uhr | Beginn: 20:00 Uhr<br
	><br><br>Das Vier-Herren-Quartett LOS BANDITOS hat sich 1996 in Jena gegrü
	ndet und zelebriert seitdem ihr bewährtes Soundgewand mit 60er Beat, Surf 
	und Rock‘n‘Roll. Die Songs kommen fast durchgängig instrumental daher und 
	garantieren eine wilde Party. Die Banditen liefern musikalischen Hochgenus
	s und sind absolute Könner ihres Fachs. Auf geht‘s mit tanzen, tanzen, tan
	zen – und schwitzen.<br><br>LET’S SURF’n’METAL AND CHEERS
BEGIN:VALARM
ACTION:DISPLAY
DESCRIPTION:KONZERT: Los Banditos
TRIGGER:-PT1H
END:VALARM
END:VEVENT
END:VCALENDAR
