BEGIN:VCALENDAR
VERSION:2.0
CALSCALE:GREGORIAN
PRODID:adamgibbons/ics
METHOD:PUBLISH
X-PUBLISHED-TTL:PT1H
BEGIN:VEVENT
UID:778@keepkarlsruheboring.org
SUMMARY:KONZERT: Los Fastidios
DTSTAMP:20260423T102216Z
DTSTART:20260212T190000Z
DTEND:20260212T190000Z
DESCRIPTION:Do\, 12.02.2026 KONZERT: Los Fastidios Konzert präsentiert von 
	SAU e.V. Einlass:\n19:00 Uhr | Beginn: 20:00 Uhr Los Fastidios wurden Ende
	 1991 in Verona\, Italien\,\nvon Enrico gegründet (der auch das Label KOB 
	Records ins Leben rief). Sie\nspielen einen superenergetischen Mix aus Str
	eet-Ska und Punk\, wie klassischer\nStreetpunk der 80er\, aber mit viel Re
	ggae\, Rock'n'Roll und Rhythmen der 60er\,\ngarniert mit Pop-Elementen. Si
	e singen auf Italienisch\, streuen aber auch\nenglische\, französische\, s
	panische und deutsche Ausdrücke ein. Ihre Songs\nreichen von fröhlichen St
	reet-Hits bis hin zu ernsteren Themen wie dem Kampf\ngegen Rassismus und D
	iskriminierung\, dem Einsatz für Tierrechte und der\nFörderung von Freihei
	t und Solidarität.
URL:https://keepkarlsruheboring.org/event/konzert-los-fastidios
GEO:49.0056;8.42925
LOCATION:Alte Hackerei - Alter Schlachthof 11A 76131 Karlsruhe
STATUS:CONFIRMED
CATEGORIES:karlsrunruhe,test
X-ALT-DESC;FMTTYPE=text/html:Do, 12.02.2026<br>KONZERT: Los Fastidios<br>Ko
	nzert präsentiert von SAU e.V.<br>Einlass: 19:00 Uhr | Beginn: 20:00 Uhr<b
	r><br><br>Los Fastidios wurden Ende 1991 in Verona, Italien, von Enrico ge
	gründet (der auch das Label KOB Records ins Leben rief).<br>Sie spielen ei
	nen superenergetischen Mix aus Street-Ska und Punk, wie klassischer Street
	punk der 80er, aber mit viel Reggae, Rock'n'Roll und Rhythmen der 60er, ga
	rniert mit Pop-Elementen. Sie singen auf Italienisch, streuen aber auch en
	glische, französische, spanische und deutsche Ausdrücke ein. Ihre Songs re
	ichen von fröhlichen Street-Hits bis hin zu ernsteren Themen wie dem Kampf
	 gegen Rassismus und Diskriminierung, dem Einsatz für Tierrechte und der F
	örderung von Freiheit und Solidarität.
BEGIN:VALARM
ACTION:DISPLAY
DESCRIPTION:KONZERT: Los Fastidios
TRIGGER:-PT1H
END:VALARM
END:VEVENT
END:VCALENDAR
